{"text_format":"1","workbook":"xlsx","n_sheets":4,"sheets":["System Exta Life firmy ZAMEL","dane wejściowe","Arkusz1","kursy walut"],"not_rendered":{"charts":0,"images":33,"macros":1,"external_links":0,"defined_names":1,"comments":0,"pivot_tables":0},"unopened":[],"bounds":{"document_bytes":16777216,"sheet_cells":100000,"rows_first":2000,"rows_last":500,"rows_between":2000,"halvings":0,"cell_chars":16384,"cell_head_chars":4096},"cells_cut":0,"cells_raw":0,"read":"whole","date_system":"1900"}

{"sheet":"System Exta Life firmy ZAMEL","index":0,"n_rows":136,"n_cols":25,"rows_kept":136,"cut":false,"hidden":false,"merged":[[3,0,12,2],[3,3,12,5],[3,6,12,8],[16,3,17,5],[16,6,17,8],[18,0,27,2],[18,3,27,5],[18,6,27,8],[28,0,28,2],[28,3,28,5],[28,6,28,8],[28,9,28,11],[29,0,29,2],[29,3,29,5],[29,6,29,8],[29,9,29,11],[13,0,13,2],[13,3,13,5],[13,6,13,8],[78,0,87,2],[78,3,87,5],[78,6,87,8],[76,9,77,11],[61,0,62,2],[61,3,62,5],[61,6,62,8],[61,9,62,11],[3,9,17,11],[33,9,47,11],[58,0,58,2],[58,3,58,5],[58,6,58,8],[58,9,58,11],[59,0,59,2],[59,3,59,5],[88,0,88,2],[88,3,88,5],[88,6,88,8],[74,0,74,2],[74,3,74,5],[74,6,74,8],[76,0,77,2],[76,3,77,5],[76,6,77,8],[93,0,102,2],[93,3,102,5],[93,6,102,8],[93,9,102,11],[103,0,103,2],[103,3,103,5],[103,6,103,8],[103,9,103,11],[89,0,89,2],[89,3,89,5],[89,6,89,8],[91,0,92,2],[91,3,92,5],[91,6,92,8],[108,6,117,8],[108,9,117,11],[104,0,104,2],[104,3,104,5],[104,6,104,8],[104,9,104,11],[106,0,107,2],[106,3,107,5],[106,6,107,8],[106,9,107,11],[123,6,137,11],[78,9,92,11],[136,0,137,2],[136,3,137,5],[133,0,133,2],[133,3,133,5],[134,0,134,2],[134,3,134,5],[121,0,122,2],[121,3,122,5],[121,6,122,8],[121,9,122,11],[123,0,132,2],[123,3,132,5],[118,0,118,2],[118,3,118,5],[118,6,118,8],[118,9,118,11],[119,0,119,2],[119,3,119,5],[119,6,119,8],[119,9,119,11],[108,0,117,2],[108,3,117,5],[43,0,43,2],[43,3,43,5],[43,6,43,8],[63,9,72,11],[73,9,73,11],[74,9,74,11],[63,0,72,2],[63,3,72,5],[63,6,72,8],[73,0,73,2],[73,3,73,5],[73,6,73,8],[59,6,59,8],[59,9,59,11],[46,0,47,2],[46,3,47,5],[46,6,47,8],[48,0,57,2],[48,3,57,5],[48,6,57,8],[48,9,57,11],[48,13,50,13],[51,15,53,17],[55,13,56,24],[0,0,2,11],[21,13,22,13],[23,13,26,13],[27,13,28,13],[30,13,36,13],[38,13,40,13],[44,0,44,2],[44,3,44,5],[44,6,44,8],[31,0,32,2],[31,3,32,5],[31,6,32,8],[18,9,27,11],[14,0,14,2],[16,0,17,2],[14,3,14,5],[14,6,14,8],[31,9,32,11],[33,0,42,2],[33,3,42,5],[33,6,42,8],[18,23,19,23],[18,24,19,24],[51,20,53,23],[15,20,17,24],[51,24,53,24],[0,13,2,19],[18,20,19,20],[18,21,19,21],[18,22,19,22],[3,16,5,16],[3,17,5,17],[3,18,5,18],[3,19,5,19],[3,13,5,14],[18,19,19,19],[51,13,53,14],[15,13,17,19],[18,13,19,13],[18,14,19,14],[18,15,19,15],[18,16,19,16],[18,17,19,17],[18,18,19,18],[41,13,46,13]]}
["DOBÓR POJEDYNCZYCH ELEMENTÓW",null,null,null,null,null,null,null,null,null,null,null,null,"ORIENTACYJNY DOBÓR URZĄDZEŃ W ZALEŻNOŚCI OD ILOŚCI ODBIORÓW"]
[]
[]
[null,null,null,null,null,null,null,null,null,"Strona Exta Life",null,null,null,"ELEMENTY W DOMU",null,null,"Rozwiązanie tylko puszki","Ilość urządzeń","Rozwiązanie moduły+puszki","Ilość urządzeń"]
[]
[]
[null,null,null,null,null,null,null,null,null,null,null,null,null,"Sterowanie przez internet","Nie",null,"EFC-01",{"$f":"IF(O7=\"TAK\", 1,0)","v":0},"EFC-01",{"$f":"IF(O7=\"TAK\", 1,0)","v":0}]
[null,null,null,null,null,null,null,null,null,null,null,null,null,"Liczba obwodów światła 230V",0,null,"ROP-21",{"$f":"(ROUNDUP(O8,0))+(ROUNDUP(O14,0))","v":0},"ROM-22",{"$f":"ROUNDUP(O8/2,0)+(ROUNDUP(O14/2,0))","v":0}]
[null,null,null,null,null,null,null,null,null,null,null,null,null,"Liczba obwódów ściemnialne 230V",0,null,"ROP-22",{"$f":"ROUNDUP(O8/2,0)+(ROUNDUP(O14/2,0))","v":0},"ROM-24",{"$f":"ROUNDUP(O8/4,0)+(ROUNDUP(O14/4,0))","v":0}]
[null,null,null,null,null,null,null,null,null,null,null,null,null,"Liczba obwodów światła 12-24V DC",0,null,"RDP-21",{"$f":"ROUNDUP(O9,0)","v":0},"SRM-22",{"$f":"ROUNDUP(O13/2,0)","v":0}]
[null,null,null,null,null,null,null,null,null,null,null,null,null,"Liczba obwodów - paski LED RGB(W)",0,null,"SLR-21",{"$f":"ROUNDUP(O10/4,0)","v":0},"RDP-21",{"$f":"ROUNDUP(O9,0)","v":0}]
[null,null,null,null,null,null,null,null,null,null,null,null,null,"Ogrzewanie (zawory - grzejniki)",0,null,"SLR-22",{"$f":"ROUNDUP(O11,0)","v":0},"SLR-21",{"$f":"ROUNDUP(O10/4,0)","v":0}]
[null,null,null,null,null,null,null,null,null,null,null,null,null,"Liczba rolet",0,null,"SRP-22",{"$f":"ROUNDUP(O13,0)","v":0},"SLR-22",{"$f":"ROUNDUP(O11,0)","v":0}]
["EFC-01",null,null,"RNK-22",null,null,"RNK-24",null,null,null,null,null,null,"Gniazda elektryczne",0,null,"RGT-01",{"$f":"(ROUNDUP(O12,0))","v":0},"RGT-01",{"$f":"(ROUNDUP(O12,0))","v":0}]
["Kontroler EXTA LIFE",null,null,"Nadajnik klawiszowy 2-kanałowy z czujnikiem temperatury",null,null,"Nadajnik klawiszowy 4-kanałowy z czujnikiem temperatury",null,null,null,null,null,null,"Pomiar energii (odbiornik 230V - gniazdko)",0,null,"ROG-21",{"$f":"(ROUNDUP(O14,0))+(ROUNDUP(O15,0))","v":0},"ROG-21",{"$f":"(ROUNDUP(O14,0))+(ROUNDUP(O15,0))","v":0}]
[null,0,null,null,0,null,null,0,null,null,null,null,null,"PODSUMOWANIE",null,null,null,null,null,null,"EXPORT"]
[]
[]
[null,null,null,null,null,null,null,null,null,null,null,null,null,"Typ urządzenia","Symbol urządzenia","Ilość urządzeń","Cena jednostkowa","Rabat","Cena po rabacie","Suma","Waluta","Kurs walut","Cena jednostkowa","Cena po rabacie","Suma"]
[]
[null,null,null,null,null,null,null,null,null,null,null,null,null,"Kontroler",{"$f":"A14","v":"EFC-01"},{"$f":"B16","v":0},{"$f":"VLOOKUP('System Exta Life firmy ZAMEL'!O21,'dane wejściowe'!$A$1:$C$32,2,FALSE)","v":721},0.15,{"$f":"Q21-Q21*R21","v":612.85},{"$f":"S21*P21","v":0},"euro",{"$f":"VLOOKUP('System Exta Life firmy ZAMEL'!U21,Table_0[],3,FALSE)","v":4.4905999999999997},{"$f":"Q21/V21","v":160.55760922816552},{"$f":"S21/V21","v":136.4739678439407},{"$f":"X21*P21","v":0}]
[null,null,null,null,null,null,null,null,null,null,null,null,null,"Nadajniki klawiszowe",{"$f":"D14","v":"RNK-22"},{"$f":"E16","v":0},{"$f":"VLOOKUP('System Exta Life firmy ZAMEL'!O22,'dane wejściowe'!$A$1:$C$32,2,FALSE)","v":111},0,111,0,"euro",{"$f":"VLOOKUP('System Exta Life firmy ZAMEL'!U22,Table_0[],3,FALSE)","v":4.4905999999999997},{"$f":"Q22/V22","v":24.718300449828533},{"$f":"S22/V22","v":24.718300449828533},{"$f":"X22*P22","v":0}]
[null,null,null,null,null,null,null,null,null,null,null,null,null,null,{"$f":"G14","v":"RNK-24"},{"$f":"H16","v":0},{"$f":"VLOOKUP('System Exta Life firmy ZAMEL'!O23,'dane wejściowe'!$A$1:$C$32,2,FALSE)","v":121.5},0,121.5,0,"euro",{"$f":"VLOOKUP('System Exta Life firmy ZAMEL'!U23,Table_0[],3,FALSE)","v":4.4905999999999997},27.056518059947447,27.056518059947447,0]
[null,null,null,null,null,null,null,null,null,null,null,null,null,"Piloty",{"$f":"A29","v":"P-457/2"},{"$f":"B31","v":0},{"$f":"VLOOKUP('System Exta Life firmy ZAMEL'!O24,'dane wejściowe'!$A$1:$C$32,2,FALSE)","v":111},0,111,0,"euro",{"$f":"VLOOKUP('System Exta Life firmy ZAMEL'!U24,Table_0[],3,FALSE)","v":4.4905999999999997},24.718300449828533,24.718300449828533,0]
[null,null,null,null,null,null,null,null,null,null,null,null,null,null,{"$f":"D29","v":"P-457/4"},{"$f":"E31","v":0},{"$f":"VLOOKUP('System Exta Life firmy ZAMEL'!O25,'dane wejściowe'!$A$1:$C$32,2,FALSE)","v":116.5},0,116.5,0,"euro",{"$f":"VLOOKUP('System Exta Life firmy ZAMEL'!U25,Table_0[],3,FALSE)","v":4.4905999999999997},25.943081102747964,25.943081102747964,0]
[null,null,null,null,null,null,null,null,null,null,null,null,null,null,{"$f":"G29","v":"P-456/8"},{"$f":"H31","v":0},{"$f":"VLOOKUP('System Exta Life firmy ZAMEL'!O26,'dane wejściowe'!$A$1:$C$32,2,FALSE)","v":182.5},0,182.5,0,"euro",{"$f":"VLOOKUP('System Exta Life firmy ZAMEL'!U26,Table_0[],3,FALSE)","v":4.4905999999999997},40.640448937781144,40.640448937781144,0]
[null,null,null,null,null,null,null,null,null,null,null,null,null,null,{"$f":"J29","v":"P-456/36"},{"$f":"K31","v":0},{"$f":"VLOOKUP('System Exta Life firmy ZAMEL'!O27,'dane wejściowe'!$A$1:$C$32,2,FALSE)","v":255},0,255,0,"euro",{"$f":"VLOOKUP('System Exta Life firmy ZAMEL'!U27,Table_0[],3,FALSE)","v":4.4905999999999997},56.785284817173654,56.785284817173654,0]
[null,null,null,null,null,null,null,null,null,null,null,null,null,"Nadajniki puszkowe",{"$f":"A44","v":"RNP-21"},{"$f":"B46","v":0},{"$f":"VLOOKUP('System Exta Life firmy ZAMEL'!O28,'dane wejściowe'!$A$1:$C$32,2,FALSE)","v":130},0,130,0,"euro",{"$f":"VLOOKUP('System Exta Life firmy ZAMEL'!U28,Table_0[],3,FALSE)","v":4.4905999999999997},28.949360887186568,28.949360887186568,0]
["P-457/2",null,null,"P-457/4",null,null,"P-456/8",null,null,"P-456/36",null,null,null,null,{"$f":"D44","v":"RNP-22"},{"$f":"E46","v":0},{"$f":"VLOOKUP('System Exta Life firmy ZAMEL'!O29,'dane wejściowe'!$A$1:$C$32,2,FALSE)","v":111},0,111,0,"euro",{"$f":"VLOOKUP('System Exta Life firmy ZAMEL'!U29,Table_0[],3,FALSE)","v":4.4905999999999997},24.718300449828533,24.718300449828533,0]
["Pilot 2-kanałowy ",null,null,"Pilot 4-kanałowy",null,null,"Pilot 8-kanałowy",null,null,"Pilot 36-kanałowy",null,null,null,"Nadajniki modułowe",{"$f":"G44","v":"RNM-24"},{"$f":"H46","v":0},{"$f":"VLOOKUP('System Exta Life firmy ZAMEL'!O30,'dane wejściowe'!$A$1:$C$32,2,FALSE)","v":230.5},0,230.5,0,"euro",{"$f":"VLOOKUP('System Exta Life firmy ZAMEL'!U30,Table_0[],3,FALSE)","v":4.4905999999999997},51.329443726896187,51.329443726896187,0]
[null,0,null,null,0,null,null,0,null,null,0,null,null,"Odbiorniki puszkowe",{"$f":"A59","v":"ROP-21"},{"$f":"B61","v":0},{"$f":"VLOOKUP('System Exta Life firmy ZAMEL'!O31,'dane wejściowe'!$A$1:$C$32,2,FALSE)","v":172.5},0,172.5,0,"euro",{"$f":"VLOOKUP('System Exta Life firmy ZAMEL'!U31,Table_0[],3,FALSE)","v":4.4905999999999997},38.41357502338218,38.41357502338218,0]
[null,null,null,null,null,null,null,null,null,null,null,null,null,null,{"$f":"D59","v":"ROP-22"},{"$f":"E61","v":0},{"$f":"VLOOKUP('System Exta Life firmy ZAMEL'!O32,'dane wejściowe'!$A$1:$C$32,2,FALSE)","v":174},0,174,0,"euro",{"$f":"VLOOKUP('System Exta Life firmy ZAMEL'!U32,Table_0[],3,FALSE)","v":4.4905999999999997},38.747606110542023,38.747606110542023,0]
[null,null,null,null,null,null,null,null,null,null,null,null,null,null,{"$f":"G59","v":"SLR-21"},{"$f":"H61","v":0},{"$f":"VLOOKUP('System Exta Life firmy ZAMEL'!O33,'dane wejściowe'!$A$1:$C$32,2,FALSE)","v":179.5},0,179.5,0,"euro",{"$f":"VLOOKUP('System Exta Life firmy ZAMEL'!U33,Table_0[],3,FALSE)","v":4.4905999999999997},39.972386763461458,39.972386763461458,0]
[null,null,null,null,null,null,null,null,null,"Komunikaty techniczne",null,null,null,null,{"$f":"J59","v":"SLR-22"},{"$f":"K61","v":0},{"$f":"VLOOKUP('System Exta Life firmy ZAMEL'!O34,'dane wejściowe'!$A$1:$C$32,2,FALSE)","v":200},0,200,0,"euro",{"$f":"VLOOKUP('System Exta Life firmy ZAMEL'!U34,Table_0[],3,FALSE)","v":4.4905999999999997},44.53747828797934,44.53747828797934,0]
[null,null,null,null,null,null,null,null,null,null,null,null,null,null,{"$f":"A74","v":"SRP-22"},{"$f":"B76","v":0},{"$f":"VLOOKUP('System Exta Life firmy ZAMEL'!O35,'dane wejściowe'!$A$1:$C$32,2,FALSE)","v":174},0,174,0,"euro",{"$f":"VLOOKUP('System Exta Life firmy ZAMEL'!U35,Table_0[],3,FALSE)","v":4.4905999999999997},38.747606110542023,38.747606110542023,0]
[null,null,null,null,null,null,null,null,null,null,null,null,null,null,{"$f":"D74","v":"ROB-21"},{"$f":"E76","v":0},{"$f":"VLOOKUP('System Exta Life firmy ZAMEL'!O36,'dane wejściowe'!$A$1:$C$32,2,FALSE)","v":220},0,220,0,"euro",{"$f":"VLOOKUP('System Exta Life firmy ZAMEL'!U36,Table_0[],3,FALSE)","v":4.4905999999999997},48.99122611677727,48.99122611677727,0]
[null,null,null,null,null,null,null,null,null,null,null,null,null,null,{"$f":"G74","v":"RDP-21"},{"$f":"H76","v":0},{"$f":"VLOOKUP('System Exta Life firmy ZAMEL'!O37,'dane wejściowe'!$A$1:$C$32,2,FALSE)","v":190},0,190,0,"euro",{"$f":"VLOOKUP('System Exta Life firmy ZAMEL'!U37,Table_0[],3,FALSE)","v":4.4905999999999997},42.310604373580368,42.310604373580368,0]
[null,null,null,null,null,null,null,null,null,null,null,null,null,"Gniazda zdalnie sterowane",{"$f":"J74","v":"ROG-21"},{"$f":"K76","v":0},{"$f":"VLOOKUP('System Exta Life firmy ZAMEL'!O38,'dane wejściowe'!$A$1:$C$32,2,FALSE)","v":240},0,240,0,"euro",{"$f":"VLOOKUP('System Exta Life firmy ZAMEL'!U38,Table_0[],3,FALSE)","v":4.4905999999999997},53.444973945575207,53.444973945575207,0]
[null,null,null,null,null,null,null,null,null,null,null,null,null,"Odbiorniki modułowe",{"$f":"A89","v":"SRM-22"},{"$f":"B91","v":0},{"$f":"VLOOKUP('System Exta Life firmy ZAMEL'!O39,'dane wejściowe'!$A$1:$C$32,2,FALSE)","v":275},0,275,0,"euro",{"$f":"VLOOKUP('System Exta Life firmy ZAMEL'!U39,Table_0[],3,FALSE)","v":4.4905999999999997},61.239032645971591,61.239032645971591,0]
[null,null,null,null,null,null,null,null,null,null,null,null,null,null,{"$f":"D89","v":"ROM-22"},{"$f":"E91","v":0},{"$f":"VLOOKUP('System Exta Life firmy ZAMEL'!O40,'dane wejściowe'!$A$1:$C$32,2,FALSE)","v":265},0,265,0,"euro",{"$f":"VLOOKUP('System Exta Life firmy ZAMEL'!U40,Table_0[],3,FALSE)","v":4.4905999999999997},59.012158731572619,59.012158731572619,0]
[null,null,null,null,null,null,null,null,null,null,null,null,null,null,{"$f":"G89","v":"ROM-24"},{"$f":"H91","v":0},{"$f":"VLOOKUP('System Exta Life firmy ZAMEL'!O41,'dane wejściowe'!$A$1:$C$32,2,FALSE)","v":293},0,293,0,"euro",{"$f":"VLOOKUP('System Exta Life firmy ZAMEL'!U41,Table_0[],3,FALSE)","v":4.4905999999999997},65.247405691889725,65.247405691889725,0]
[null,null,null,null,null,null,null,null,null,null,null,null,null,"Czujniki",{"$f":"A104","v":"RCR-21"},{"$f":"B106","v":0},{"$f":"VLOOKUP('System Exta Life firmy ZAMEL'!O42,'dane wejściowe'!$A$1:$C$32,2,FALSE)","v":200},0,200,0,"euro",{"$f":"VLOOKUP('System Exta Life firmy ZAMEL'!U42,Table_0[],3,FALSE)","v":4.4905999999999997},44.53747828797934,44.53747828797934,0]
[null,null,null,null,null,null,null,null,null,null,null,null,null,null,{"$f":"D104","v":"RCK-21"},{"$f":"E106","v":0},{"$f":"VLOOKUP('System Exta Life firmy ZAMEL'!O43,'dane wejściowe'!$A$1:$C$32,2,FALSE)","v":180},0,180,0,"euro",{"$f":"VLOOKUP('System Exta Life firmy ZAMEL'!U43,Table_0[],3,FALSE)","v":4.4905999999999997},40.083730459181403,40.083730459181403,0]
["RNP-21",null,null,"RNP-22",null,null,"RNM-24",null,null,null,null,null,null,null,{"$f":"G104","v":"RCM-21"},{"$f":"H106","v":0},{"$f":"VLOOKUP('System Exta Life firmy ZAMEL'!O44,'dane wejściowe'!$A$1:$C$32,2,FALSE)","v":220},0,220,0,"euro",{"$f":"VLOOKUP('System Exta Life firmy ZAMEL'!U44,Table_0[],3,FALSE)","v":4.4905999999999997},48.99122611677727,48.99122611677727,0]
["Nadajnik 4-kanałowy 230VAC",null,null,"Nadajnik 4-kanałowy bateryjny",null,null,"Nadajnik modułowy 4-kanałowy",null,null,null,null,null,null,null,{"$f":"J104","v":"RCZ-21"},{"$f":"K106","v":0},{"$f":"VLOOKUP('System Exta Life firmy ZAMEL'!O45,'dane wejściowe'!$A$1:$C$32,2,FALSE)","v":220},0,220,0,"euro",{"$f":"VLOOKUP('System Exta Life firmy ZAMEL'!U45,Table_0[],3,FALSE)","v":4.4905999999999997},48.99122611677727,48.99122611677727,0]
[null,0,null,null,0,null,null,0,null,null,null,null,null,null,{"$f":"A119","v":"RCT-21"},{"$f":"B121","v":0},{"$f":"VLOOKUP('System Exta Life firmy ZAMEL'!O46,'dane wejściowe'!$A$1:$C$32,2,FALSE)","v":116.5},0,116.5,0,"euro",{"$f":"VLOOKUP('System Exta Life firmy ZAMEL'!U46,Table_0[],3,FALSE)","v":4.4905999999999997},25.943081102747964,25.943081102747964,0]
[null,null,null,null,null,null,null,null,null,null,null,null,null,null,{"$f":"D119","v":"RCT-22"},{"$f":"E121","v":0},{"$f":"VLOOKUP('System Exta Life firmy ZAMEL'!O47,'dane wejściowe'!$A$1:$C$32,2,FALSE)","v":105.5},0,105.5,0,"euro",{"$f":"VLOOKUP('System Exta Life firmy ZAMEL'!U47,Table_0[],3,FALSE)","v":4.4905999999999997},23.493519796909101,23.493519796909101,0]
[null,null,null,null,null,null,null,null,null,null,null,null,null,"Regulatory temperatury",{"$f":"A134","v":"RGT-01"},{"$f":"B136","v":0},{"$f":"VLOOKUP('System Exta Life firmy ZAMEL'!O48,'dane wejściowe'!$A$1:$C$32,2,FALSE)","v":245},0,245,0,"euro",{"$f":"VLOOKUP('System Exta Life firmy ZAMEL'!U48,Table_0[],3,FALSE)","v":4.4905999999999997},54.558410902774689,54.558410902774689,0]
[null,null,null,null,null,null,null,null,null,null,null,null,null,"Akcesoria",{"$f":"G119","v":"PCL-21"},{"$f":"H121","v":0},{"$f":"VLOOKUP('System Exta Life firmy ZAMEL'!O49,'dane wejściowe'!$A$1:$C$32,2,FALSE)","v":45},0,45,0,"euro",{"$f":"VLOOKUP('System Exta Life firmy ZAMEL'!U49,Table_0[],3,FALSE)","v":4.4905999999999997},10.020932614795351,10.020932614795351,0]
[null,null,null,null,null,null,null,null,null,null,null,null,null,null,{"$f":"J119","v":"PCZ-21"},{"$f":"K121","v":0},{"$f":"VLOOKUP('System Exta Life firmy ZAMEL'!O50,'dane wejściowe'!$A$1:$C$32,2,FALSE)","v":55},0,55,0,"euro",{"$f":"VLOOKUP('System Exta Life firmy ZAMEL'!U50,Table_0[],3,FALSE)","v":4.4905999999999997},12.247806529194317,12.247806529194317,0]
[null,null,null,null,null,null,null,null,null,null,null,null,null,null,{"$f":"D134","v":"REP-21"},{"$f":"E136","v":0},{"$f":"VLOOKUP('System Exta Life firmy ZAMEL'!O51,'dane wejściowe'!$A$1:$C$32,2,FALSE)","v":169},0,169,0,"euro",{"$f":"VLOOKUP('System Exta Life firmy ZAMEL'!U51,Table_0[],3,FALSE)","v":4.4905999999999997},37.63416915334254,37.63416915334254,0]
[null,null,null,null,null,null,null,null,null,null,null,null,null,null,null,"Podsumowanie zestawu SUMA:",null,null,"netto",{"$f":"SUM(T21:T51)","v":0},"Podsumowanie zestawu SUMA EXPORT:",null,null,null,{"$f":"SUM(Y21:Y51)","v":0}]
[null,null,null,null,null,null,null,null,null,null,null,null,null,null,null,null,null,null,"brutto 8% VAT",{"$f":"T52+T52*8%","v":0}]
[null,null,null,null,null,null,null,null,null,null,null,null,null,null,null,null,null,null,"brutto 23% VAT",{"$f":"T52+T52*23%","v":0}]
[]
[null,null,null,null,null,null,null,null,null,null,null,null,null,"Informacje zawarte w arkuszu nie są prawnie wiążące i nie stanowią oferty handlowej, w tym w rozumieniu art. 66 § 1 Kodeksu cywilnego ani zapewnienia, w szczególności w rozumieniu art. 556 Kodeksu cywilnego"]
[]
[]
["ROP-21",null,null,"ROP-22",null,null,"SLR-21",null,null,"SLR-22"]
["Odbiornik 1-kanałowy",null,null,"Odbornik 2-kanałowy",null,null,"Sterownik LED 4-kanałowy",null,null,"Sterownik LED RGBW"]
[null,0,null,null,0,null,null,0,null,null,0]
[]
[]
[]
[]
[]
[]
[]
[]
[]
[]
[]
[]
["SRP-22",null,null,"ROB-21",null,null,"RDP-21",null,null,"ROG-21"]
["Sterownik rolet",null,null,"Odbornik bramowy 2 kanałowy",null,null,"Ściemniacz oświetlenia",null,null,"Gniazdo zdalnie sterowane z pomiarem"]
[null,0,null,null,0,null,null,0,null,null,0]
[]
[]
[null,null,null,null,null,null,null,null,null,"Dokumentacja"]
[]
[]
[]
[]
[]
[]
[]
[]
[]
["SRM-22",null,null,"ROM-22",null,null,"ROM-24"]
["Sterownik rolet podwójny",null,null,"Odbiornik 2-kanałowy",null,null,"Odbiornik 4-kanałowy"]
[null,0,null,null,0,null,null,0]
[]
[]
[]
[]
[]
[]
[]
[]
[]
[]
[]
[]
["RCR-21",null,null,"RCK-21",null,null,"RCM-21",null,null,"RCZ-21"]
["Czujnik ruchu",null,null,"Kontaktron",null,null,"Multisensor",null,null,"Czujnik zalania"]
[null,0,null,null,0,null,null,0,null,null,0]
[]
[]
[]
[]
[]
[]
[]
[]
[]
[]
[]
[]
["RCT-21",null,null,"RCT-22",null,null,"PCL-21",null,null,"PCZ-21"]
["Czujnik temperatury 4-kanałowy",null,null,"Czujnik temperatury",null,null,"Podstawka zasilająca",null,null,"Podstawka zasilająca z sondą zalania"]
[null,0,null,null,0,null,null,0,null,null,0]
[]
[]
[null,null,null,null,null,null,"KONTAKT:\nPrzemysław Wilde\nMenedżer Produktu/Product Manager\ntel. kom.: +48 539 953 704\ntel.: +48 32 210 46 65 wew. 235\ne-mail: przemyslaw.wilde@zamel.pl\nwww.zamel.com"]
[]
[]
[]
[]
[]
[]
[]
[]
[]
["RGT-01",null,null,"REP-21"]
["Głowica termostatyczna",null,null,"Retransmiter"]
[null,0,null,null,0]

{"sheet":"dane wejściowe","index":1,"n_rows":32,"n_cols":7,"rows_kept":32,"cut":false,"hidden":true,"merged":[]}
["Symbol",2020,2021,null,null,"Tak","dopuszkowe"]
["EFC-01",721,721,null,null,"Nie"]
["RCM-21",220,225]
["P-457/2",111,114]
["P-456/36",255,261]
["P-457/4",116.5,120]
["P-456/8",182.5,187]
["PCL-21",45,47]
["PCZ-21",55,58]
["RGT-01",245,245]
["RCK-21",180,199]
["RCR-21",200,220]
["RCT-22",105.5,109]
["RCT-21",116.5,120]
["RCZ-21",220,225]
["RNP-21",130,134.5]
["RNP-22",111,114.5]
["RNK-22",111,114.5]
["RNK-24",121.5,125]
["RNM-24",230.5,238]
["ROP-21",172.5,177]
["ROP-22",174,179]
["ROM-22",265,273]
["ROM-24",293,299.5]
["SRP-22",174,179]
["SRM-22",275,284]
["RDP-21",190,195]
["REP-21",169,175]
["SLR-21",179.5,185]
["SLR-22",200,206]
["ROB-21",220,220]
["ROG-21",240,240]

{"sheet":"Arkusz1","index":2,"n_rows":0,"n_cols":0,"rows_kept":0,"cut":false,"hidden":true,"merged":[]}

{"sheet":"kursy walut","index":3,"n_rows":36,"n_cols":3,"rows_kept":36,"cut":false,"hidden":true,"merged":[]}
["Nazwa waluty","Kod waluty","Kurs średni"]
["bat (Tajlandia)","1 THB",0.12429999999999999]
["dolar amerykański","1 USD",3.7351999999999999]
["dolar australijski","1 AUD",2.8448000000000002]
["dolar Hongkongu","1 HKD",0.4819]
["dolar kanadyjski","1 CAD",2.9192999999999998]
["dolar nowozelandzki","1 NZD",2.6873]
["dolar singapurski","1 SGD",2.8010000000000002]
["euro","1 EUR",4.4905999999999997]
["forint (Węgry)","100 HUF",1.2616000000000001]
["frank szwajcarski","1 CHF",4.1555]
["funt szterling","1 GBP",5.0937000000000001]
["hrywna (Ukraina)","1 UAH",0.13350000000000001]
["jen (Japonia)","100 JPY",3.5547]
["korona czeska","1 CZK",0.1731]
["korona duńska","1 DKK",0.60370000000000001]
["korona islandzka","100 ISK",2.8767]
["korona norweska","1 NOK",0.43309999999999998]
["korona szwedzka","1 SEK",0.44319999999999998]
["kuna (Chorwacja)","1 HRK",0.59289999999999998]
["lej rumuński","1 RON",0.92200000000000004]
["lew (Bułgaria)","1 BGN",2.2959999999999998]
["lira turecka","1 TRY",0.52139999999999997]
["nowy izraelski szekel","1 ILS",1.1314]
["peso chilijskie","100 CLP",0.50980000000000003]
["peso filipińskie","1 PHP",7.7799999999999994E-2]
["peso meksykańskie","1 MXN",0.1855]
["rand (Republika Południowej Afryki)","1 ZAR",0.24940000000000001]
["real (Brazylia)","1 BRL",0.69579999999999997]
["ringgit (Malezja)","1 MYR",0.92200000000000004]
["rubel rosyjski","1 RUB",4.9099999999999998E-2]
["rupia indonezyjska","10000 IDR",2.6669999999999998]
["rupia indyjska","100 INR",5.1184000000000003]
["won południowokoreański","100 KRW",0.33479999999999999]
["yuan renminbi (Chiny)","1 CNY",0.57830000000000004]
["SDR (MFW)","1 XDR",5.3536999999999999]