Workbook
Name __Anonymous_Sheet_DB__3: 'CET uproszczony 1 03 2021'!$A$1:$G$116
Name __Anonymous_Sheet_DB__3: 'MATEC uproszczony 1 03 2021'!$A$1:$G$131
Name __Anonymous_Sheet_DB__3: #REF!
Name eany_kab_1: 'CET cennik 1 03 2021 wer SHE'!$A$1:$N$1307
Name Excel_BuiltIn__FilterDatabase_1: NA()
Name Excel_BuiltIn__FilterDatabase_1_1: #REF!
Name Excel_BuiltIn__FilterDatabase_1_1_1: #REF!
Name Excel_BuiltIn__FilterDatabase_10: #REF!
Name Excel_BuiltIn__FilterDatabase_2: #REF!
Name Excel_BuiltIn__FilterDatabase_2_1: NA()
Name Excel_BuiltIn__FilterDatabase_3: #REF!
Name Excel_BuiltIn__FilterDatabase_3_1: #REF!
Name Excel_BuiltIn__FilterDatabase_4: #REF!
Name Excel_BuiltIn__FilterDatabase_4_1: #REF!
Name Excel_BuiltIn__FilterDatabase_4_1_1: #REF!
Name Excel_BuiltIn__FilterDatabase_5: #REF!
Name GRODNO: #REF!

Sheet CET_Kategorie
B1: idKategoria | C1: idRodzic | D1: nazwa
B2: 0.9 | C2: 0 | D2: CET – KABLE I PRZEWODY
B3: 9.0 | C3: 0.9 | D3: PRZEWODY WSPÓŁOSIOWE (KONCENTRYCZNE) WIELKIEJ CZĘSTOTLIWOŚCI (KC)
B4: 9.1 | C4: 0.9 | D4: PRZEWODY TELEINFORMATYCZNE (TI)
B5: 9.2 | C5: 0.9 | D5: KABLE TELEKOMUNIKACYJNE STACYJNE (TK05; TK08)
B6: 9.3 | C6: 0.9 | D6: PRZEWODY TELEKOMUNIKACYJNE – MONTAŻOWE (TD)
B7: 9.4 | C7: 0.9 | D7: PRZEWODY GŁOŚNIKOWE (GŁ)
B8: 9.5 | C8: 0.9 | D8: PRZEWODY MIKROFONOWE (MI)
B9: 9.6 | C9: 0.9 | D9: PRZEWODY OPONOWE, MIESZKANIOWE I WARSZTATOWE (wszystkie OP; OPP; WP)
B10: 9.7 | C10: 0.9 | D10: PRZEWODY ELEKTROINSTALACYJNE – LINKOWE (EE)
B11: 9.8 | C11: 0.9 | D11: PRZEWODY ELEKTROINSTALACYJNE – JEDNODRUTOWE (wszystkie DY)
B12: 9.9 | C12: 0.9 | D12: PRZEWODY PRZYŁĄCZENIOWE (SP)
B13: 9.10 | C13: 0.9 | D13: PRZEWODY STEROWNICZE CETRONIC (STER300; STER500)
B14: 9.11 | C14: 0.9 | D14: KABLE SYGNALIZACYJNE (SYGN)
B15: 9.12 | C15: 0.9 | D15: PRZEWODY SAMOCHODOWE
B16: 9.13 | C16: 0.9 | D16: KABLE FOTOWOLTAICZNE SOLARCET (SOL)
B17: 0.10 | C17: 0.10 | D17: MATEC – ELEKTRYCZNE SYSTEMY GRZEJNE
B18: 10.0 | C18: 0.10 | D18: Ogrzewanie podłogowe – regulatory temperatury
B19: 10.1 | C19: 0.10 | D19: Ogrzewanie podłogowe – maty i folie grzejne
B20: 10.2 | C20: 0.10 | D20: Ogrzewanie podłogowe – zestawy ogrzewania podłogowego
B21: 10.3 | C21: 0.10 | D21: Systemy antyoblodzeniowe – GPRN
B22: 10.4 | C22: 0.10 | D22: Systemy antyoblodzeniowe – GPRU
B23: 10.5 | C23: 0.10 | D23: Systemy antyoblodzeniowe – GPSY
B24: 10.6 | C24: 0.10 | D24: Systemy antyoblodzeniowe – GMPD
B25: 10.7 | C25: 0.10 | D25: Systemy antyoblodzeniowe – sterowanie
B26: 10.8 | C26: 0.10 | D26: Systemy antyoblodzeniowe – akcesoria
C29: Stan Dostępności | D29: Opis
C30: A | D30: Towar dostepny od ręki
C31: B | D31: Towar dostępny w ciągu 2 dni roboczyć
C32: C | D32: Towar dostępny w ciągu 6 dni roboczych
C33: D | D33: Towar dostępny na zamówienie (bez prawa zwrotu)
C34: E | D34: Towar dostępny do wyczerpania zapasów (bez prawa zwrotu)

Sheet CET cennik 1 03 2021 wer SHE
A1: ID Artykuł | B1: SYMBOL | C1: NAZWA | D1: JEDN PODST. | E1: St. Dost. | F1: ILOŚĆ | G1: CENA JEDNOSTKOWA NETTO/JEDN. HANDLOWA | H1: WALUTA | I1: PODATEK VAT | J1: KGO | K1: Ilość w opakowaniu niepodzielnym | L1: EAN | M1: GRUPA BONUSOWA | N1: GRUPA RABATOWA | O1: ID KATEGORIA | P1: PKWIU | Q1: Kod taryfy celnej | R1: KLASA ETIM | S1: KOLOR | T1: WAGA NETTO KG | U1: WAGA BRUTTO KG | V1: DŁUGOŚĆ {M} | W1: SZEROKOŚĆ {M} | X1: WYSOKOŚĆ {M}
A2: KAB10000009 | B2: DY 1x0,75 300/500 BIA | C2: Przewód elektroinstalacyjny DY 1x0,75 300/500 BIAŁY | D2: km | F2: 1 | G2: =VLOOKUP(A2,'CET uproszczony 1 03 2021'!$B$3:$G$726,6,0) -> 620 | H2: PLN | I2: 0.23 | K2: 0100 | L2: 5901181011678 | M2: CET | N2: DYDYC | O2: 9.8 | P2: 27.32.13-80.03 | Q2: 8544499500 | R2: EC000993 | T2: 10.809 | U2: 10.809 | V2: 0 | W2: 0 | X2: 0
A3: KAB10000009 | B3: DY 1x0,75 300/500 BIA | C3: Przewód elektroinstalacyjny DY 1x0,75 300/500 BIAŁY | D3: km | F3: 1 | G3: =VLOOKUP(A3,'CET uproszczony 1 03 2021'!$B$3:$G$726,6,0) -> 620 | H3: PLN | I3: 0.23 | K3: 0500 | L3: 5901181011685 | M3: CET | N3: DYDYC | O3: 9.8 | P3: 27.32.13-80.03 | Q3: 8544499500 | R3: EC000993 | T3: 10.809 | U3: 10.809 | V3: 0 | W3: 0 | X3: 0
A4: KAB10000009 | B4: DY 1x0,75 300/500 BIA | C4: Przewód elektroinstalacyjny DY 1x0,75 300/500 BIAŁY | D4: km | F4: 1 | G4: =VLOOKUP(A4,'CET uproszczony 1 03 2021'!$B$3:$G$726,6,0) -> 620 | H4: PLN | I4: 0.23 | K4: 0200 | L4: 5901181029208 | M4: CET | N4: DYDYC | O4: 9.8 | P4: 27.32.13-80.03 | Q4: 8544499500 | R4: EC000993 | T4: 10.809 | U4: 10.809 | V4: 0 | W4: 0 | X4: 0
A5: KAB10000010 | B5: DY 1x0,75 300/500 BRĄ | C5: Przewód elektroinstalacyjny DY 1x0,75 300/500 BRĄZOWY | D5: km | F5: 1 | G5: =VLOOKUP(A5,'CET uproszczony 1 03 2021'!$B$3:$G$726,6,0) -> 620 | H5: PLN | I5: 0.23 | K5: 0100 | L5: 5901181013313 | M5: CET | N5: DYDYC | O5: 9.8 | P5: 27.32.13-80.03 | Q5: 8544499500 | R5: EC000993 | T5: 10.809 | U5: 10.809 | V5: 0 | W5: 0 | X5: 0
A6: KAB10000011 | B6: DY 1x0,75 300/500 CZN | C6: Przewód elektroinstalacyjny DY 1x0,75 300/500 CZARNY | D6: km | F6: 1 | G6: =VLOOKUP(A6,'CET uproszczony 1 03 2021'!$B$3:$G$726,6,0) -> 620 | H6: PLN | I6: 0.23 | K6: 0100 | L6: 5901181012514 | M6: CET | N6: DYDYC | O6: 9.8 | P6: 27.32.13-80.03 | Q6: 8544499500 | R6: EC000993 | T6: 10.809 | U6: 10.809 | V6: 0 | W6: 0 | X6: 0
A7: KAB10000012 | B7: DY 1x0,75 300/500 CZE | C7: Przewód elektroinstalacyjny DY 1x0,75 300/500 CZERWONY | D7: km | F7: 1 | G7: =VLOOKUP(A7,'CET uproszczony 1 03 2021'!$B$3:$G$726,6,0) -> 620 | H7: PLN | I7: 0.23 | K7: 0100 | L7: 5901181024593 | M7: CET | N7: DYDYC | O7: 9.8 | P7: 27.32.13-80.03 | Q7: 8544499500 | R7: EC000993 | T7: 10.809 | U7: 10.809 | V7: 0 | W7: 0 | X7: 0
A8: KAB10000013 | B8: DY 1x0,75 300/500 NIE | C8: Przewód elektroinstalacyjny DY 1x0,75 300/500 NIEBIESKI | D8: km | F8: 1 | G8: =VLOOKUP(A8,'CET uproszczony 1 03 2021'!$B$3:$G$726,6,0) -> 620 | H8: PLN | I8: 0.23 | K8: 0100 | L8: 5901181012507 | M8: CET | N8: DYDYC | O8: 9.8 | P8: 27.32.13-80.03 | Q8: 8544499500 | R8: EC000993 | T8: 10.809 | U8: 10.809 | V8: 0 | W8: 0 | X8: 0
A9: KAB10000014 | B9: DY 1x0,75 300/500 ŻÓŁ-ZIE | C9: Przewód elektroinstalacyjny DY 1x0,75 300/500 ŻO | D9: km | F9: 1 | G9: =VLOOKUP(A9,'CET uproszczony 1 03 2021'!$B$3:$G$726,6,0) -> 620 | H9: PLN | I9: 0.23 | K9: 0100 | L9: 5901181013672 | M9: CET | N9: DYDYC | O9: 9.8 | P9: 27.32.13-80.03 | Q9: 8544499500 | R9: EC000993 | T9: 10.809 | U9: 10.809 | V9: 0 | W9: 0 | X9: 0
A10: KAB10000014 | B10: DY 1x0,75 300/500 ŻÓŁ-ZIE | C10: Przewód elektroinstalacyjny DY 1x0,75 300/500 ŻO | D10: km | F10: 1 | G10: =VLOOKUP(A10,'CET uproszczony 1 03 2021'!$B$3:$G$726,6,0) -> 620 | H10: PLN | I10: 0.23 | K10: 5000 | L10: 5901181031966 | M10: CET | N10: DYDYC | O10: 9.8 | P10: 27.32.13-80.03 | Q10: 8544499500 | R10: EC000993 | T10: 10.809 | U10: 10.809 | V10: 0 | W10: 0 | X10: 0
A11: KAB10000015 | B11: DY 1x1,00 300/500 BIA | C11: Przewód elektroinstalacyjny DY 1x1,00 300/500 BIAŁY | D11: km | F11: 1 | G11: =VLOOKUP(A11,'CET uproszczony 1 03 2021'!$B$3:$G$726,6,0) -> 770 | H11: PLN | I11: 0.23 | K11: 0100 | L11: 5901181013023 | M11: CET | N11: DYDYC | O11: 9.8 | P11: 27.32.13-80.03 | Q11: 8544499500 | R11: EC000993 | T11: 13.232 | U11: 13.232 | V11: 0 | W11: 0 | X11: 0
A12: KAB10000016 | B12: DY 1x1,00 300/500 BRĄ | C12: Przewód elektroinstalacyjny DY 1x1,00 300/500 BRĄZOWY | D12: km | F12: 1 | G12: =VLOOKUP(A12,'CET uproszczony 1 03 2021'!$B$3:$G$726,6,0) -> 770 | H12: PLN | I12: 0.23 | K12: 0100 | L12: 5901181013818 | M12: CET | N12: DYDYC | O12: 9.8 | P12: 27.32.13-80.03 | Q12: 8544499500 | R12: EC000993 | T12: 13.232 | U12: 13.232 | V12: 0 | W12: 0 | X12: 0
A13: KAB10000017 | B13: DY 1x1,00 300/500 CZN | C13: Przewód elektroinstalacyjny DY 1x1,00 300/500 CZARNY | D13: km | F13: 1 | G13: =VLOOKUP(A13,'CET uproszczony 1 03 2021'!$B$3:$G$726,6,0) -> 770 | H13: PLN | I13: 0.23 | K13: 0100 | L13: 5901181013801 | M13: CET | N13: DYDYC | O13: 9.8 | P13: 27.32.13-80.03 | Q13: 8544499500 | R13: EC000993 | T13: 13.232 | U13: 13.232 | V13: 0 | W13: 0 | X13: 0
... A191: KAB10000937 | B191: LgYc 1x1,50 300/500 ŻÓŁTO-ZIEL | C191: Przewód elektroenergetyczny, ciepłoodporny LgYc 1x1,50 300/500 ŻÓŁTO-ZIEL | D191: km | F191: 1 | G191: =VLOOKUP(A191,'CET uproszczony 1 03 2021'!$B$3:$G$726,6,0) -> 1039 | H191: PLN | I191: 0.23 | K191: 0100 | L191: 5901181036138 | M191: CET | N191: EE | O191: 9.7 | P191: 27.32.13-80.03 | Q191: 8544499500 | R191: EC000993 | T191: 19.2 | U191: 19.2 | V191: 0 | W191: 0 | X191: 0
A192: KAB10000936 | B192: LgYc 1x1,50 300/500 CZERWONY | C192: Przewód elektroenergetyczny, ciepłoodporny LgYc 1x1,50 300/500 CZERWONY | D192: km | F192: 1 | G192: =VLOOKUP(A192,'CET uproszczony 1 03 2021'!$B$3:$G$726,6,0) -> 1039 | H192: PLN | I192: 0.23 | K192: 0100 | L192: 5901181036121 | M192: CET | N192: EE | O192: 9.7 | P192: 27.32.13-80.03 | Q192: 8544499500 | R192: EC000993 | T192: 19.2 | U192: 19.2
A193: KAB10000415 | B193: TLgYp 2x0,75 BEZBARWNY | C193: Przewód głośnikowy TLgYp 2x0,75 BEZBARWNY | D193: km | F193: 1 | G193: =VLOOKUP(A193,'CET uproszczony 1 03 2021'!$B$3:$G$726,6,0) -> 1199 | H193: PLN | I193: 0.23 | K193: 0100 | L193: 5901181006469 | M193: CET | N193: GŁ | O193: 9.4 | P193: 27.32.13-80.02 | Q193: 8544499500 | R193: EC000065 | T193: 22.458 | U193: 22.458 | V193: 0 | W193: 0 | X193: 0
A194: KAB10000415 | B194: TLgYp 2x0,75 BEZBARWNY | C194: Przewód głośnikowy TLgYp 2x0,75 BEZBARWNY | D194: km | F194: 1 | G194: =VLOOKUP(A194,'CET uproszczony 1 03 2021'!$B$3:$G$726,6,0) -> 1199 | H194: PLN | I194: 0.23 | K194: 0200 | L194: 5901181006483 | M194: CET | N194: GŁ | O194: 9.4 | P194: 27.32.13-80.02 | Q194: 8544499500 | R194: EC000065 | T194: 22.458 | U194: 22.458 | V194: 0 | W194: 0 | X194: 0
A195: KAB10000415 | B195: TLgYp 2x0,75 BEZBARWNY | C195: Przewód głośnikowy TLgYp 2x0,75 BEZBARWNY | D195: km | F195: 1 | G195: =VLOOKUP(A195,'CET uproszczony 1 03 2021'!$B$3:$G$726,6,0) -> 1199 | H195: PLN | I195: 0.23 | K195: 0300 | L195: 5901181006506 | M195: CET | N195: GŁ | O195: 9.4 | P195: 27.32.13-80.02 | Q195: 8544499500 | R195: EC000065 | T195: 22.458 | U195: 22.458 | V195: 0 | W195: 0 | X195: 0
A196: KAB10000415 | B196: TLgYp 2x0,75 BEZBARWNY | C196: Przewód głośnikowy TLgYp 2x0,75 BEZBARWNY | D196: km | F196: 1 | G196: =VLOOKUP(A196,'CET uproszczony 1 03 2021'!$B$3:$G$726,6,0) -> 1199 | H196: PLN | I196: 0.23 | K196: 0500 | L196: 5901181006513 | M196: CET | N196: GŁ | O196: 9.4 | P196: 27.32.13-80.02 | Q196: 8544499500 | R196: EC000065 | T196: 22.458 | U196: 22.458 | V196: 0 | W196: 0 | X196: 0
A197: KAB10000415 | B197: TLgYp 2x0,75 BEZBARWNY | C197: Przewód głośnikowy TLgYp 2x0,75 BEZBARWNY | D197: km | F197: 1 | G197: =VLOOKUP(A197,'CET uproszczony 1 03 2021'!$B$3:$G$726,6,0) -> 1199 | H197: PLN | I197: 0.23 | K197: ODCB | L197: 5901181006520 | M197: CET | N197: GŁ | O197: 9.4 | P197: 27.32.13-80.02 | Q197: 8544499500 | R197: EC000065 | T197: 22.458 | U197: 22.458 | V197: 0 | W197: 0 | X197: 0
A198: KAB10000415 | B198: TLgYp 2x0,75 BEZBARWNY | C198: Przewód głośnikowy TLgYp 2x0,75 BEZBARWNY | D198: km | F198: 1 | G198: =VLOOKUP(A198,'CET uproszczony 1 03 2021'!$B$3:$G$726,6,0) -> 1199 | H198: PLN | I198: 0.23 | K198: 0400 | L198: 5901181013573 | M198: CET | N198: GŁ | O198: 9.4 | P198: 27.32.13-80.02 | Q198: 8544499500 | R198: EC000065 | T198: 22.458 | U198: 22.458 | V198: 0 | W198: 0 | X198: 0
A199: KAB10000415 | B199: TLgYp 2x0,75 BEZBARWNY | C199: Przewód głośnikowy TLgYp 2x0,75 BEZBARWNY | D199: km | F199: 1 | G199: =VLOOKUP(A199,'CET uproszczony 1 03 2021'!$B$3:$G$726,6,0) -> 1199 | H199: PLN | I199: 0.23 | K199: 1000 | L199: 5901181016970 | M199: CET | N199: GŁ | O199: 9.4 | P199: 27.32.13-80.02 | Q199: 8544499500 | R199: EC000065 | T199: 22.458 | U199: 22.458 | V199: 0 | W199: 0 | X199: 0
A200: KAB10000415 | B200: TLgYp 2x0,75 BEZBARWNY | C200: Przewód głośnikowy TLgYp 2x0,75 BEZBARWNY | D200: km | F200: 1 | G200: =VLOOKUP(A200,'CET uproszczony 1 03 2021'!$B$3:$G$726,6,0) -> 1199 | H200: PLN | I200: 0.23 | K200: 0050 | L200: 5903669228172 | M200: CET | N200: GŁ | O200: 9.4 | P200: 27.32.13-80.02 | Q200: 8544499500 | R200: EC000065 | T200: 22.458 | U200: 22.458 | V200: 0 | W200: 0 | X200: 0
A201: KAB10000415 | B201: TLgYp 2x0,75 BEZBARWNY | C201: Przewód głośnikowy TLgYp 2x0,75 BEZBARWNY | D201: km | F201: 1 | G201: =VLOOKUP(A201,'CET uproszczony 1 03 2021'!$B$3:$G$726,6,0) -> 1199 | H201: PLN | I201: 0.23 | K201: 0025 | L201: 5903669228189 | M201: CET | N201: GŁ | O201: 9.4 | P201: 27.32.13-80.02 | Q201: 8544499500 | R201: EC000065 | T201: 22.458 | U201: 22.458 | V201: 0 | W201: 0 | X201: 0
A202: KAB10000416 | B202: TLgYp 2x1,00 BEZBARWNY | C202: Przewód głośnikowy TLgYp 2x1,00 BEZBARWNY | D202: km | F202: 1 | G202: =VLOOKUP(A202,'CET uproszczony 1 03 2021'!$B$3:$G$726,6,0) -> 1528 | H202: PLN | I202: 0.23 | K202: 0100 | L202: 5901181006537 | M202: CET | N202: GŁ | O202: 9.4 | P202: 27.32.13-80.02 | Q202: 8544499500 | R202: EC000065 | T202: 30.411 | U202: 30.411 | V202: 0 | W202: 0 | X202: 0
A203: KAB10000416 | B203: TLgYp 2x1,00 BEZBARWNY | C203: Przewód głośnikowy TLgYp 2x1,00 BEZBARWNY | D203: km | F203: 1 | G203: =VLOOKUP(A203,'CET uproszczony 1 03 2021'!$B$3:$G$726,6,0) -> 1528 | H203: PLN | I203: 0.23 | K203: 1000 | L203: 5901181006544 | M203: CET | N203: GŁ | O203: 9.4 | P203: 27.32.13-80.02 | Q203: 8544499500 | R203: EC000065 | T203: 30.411 | U203: 30.411 | V203: 0 | W203: 0 | X203: 0
A204: KAB10000416 | B204: TLgYp 2x1,00 BEZBARWNY | C204: Przewód głośnikowy TLgYp 2x1,00 BEZBARWNY | D204: km | F204: 1 | G204: =VLOOKUP(A204,'CET uproszczony 1 03 2021'!$B$3:$G$726,6,0) -> 1528 | H204: PLN | I204: 0.23 | K204: 0200 | L204: 5901181006551 | M204: CET | N204: GŁ | O204: 9.4 | P204: 27.32.13-80.02 | Q204: 8544499500 | R204: EC000065 | T204: 30.411 | U204: 30.411 | V204: 0 | W204: 0 | X204: 0
... A262: KAB10001015 | B262: YWDek 75 0,59/3,7+OMY 2X0,50 | C262: Przewód koncentryczny z zasilaniem (w jednym) YWDek 75 0,59/3,7 + OMY 2X0,50 | D262: km | F262: 1 | G262: =VLOOKUP(A262,'CET uproszczony 1 03 2021'!$B$3:$G$726,6,0) -> 2680 | H262: PLN | I262: 0.23 | K262: ODCB | L262: 5901181010879 | M262: CET | N262: KC | O262: 9.0 | P262: 27.32.12.0 | Q262: 8544200090 | R262: EC000019 | T262: 19.013 | U262: 19.013 | V262: 0 | W262: 0 | X262: 0
A263: KAB10000950 | B263: YWD 75 0,59/3,7+OMY 2x0,50; CZARNY UV | C263: Przewód koncentryczny z zasilaniem (w jednym) YWD 75 0,59/3,7 + OMY 2x0,50; CZARNY UV | D263: km | F263: 1 | G263: =VLOOKUP(A263,'CET uproszczony 1 03 2021'!$B$3:$G$726,6,0) -> 2990 | H263: PLN | I263: 0.23 | K263: 0100 | L263: 5903669451457 | M263: CET | N263: KC | O263: 9.0 | P263: 27.32.12.0 | Q263: 8544200090 | R263: EC000019
A264: KAB10000773 | B264: XWDXpek 75 1,0/4,8; czarny; CESAT | C264: Przewód koncentryczny XWDXpek 75 1,0/4,8; czarny UV; (UHD-4K); CESAT | D264: km | F264: 1 | G264: =VLOOKUP(A264,'CET uproszczony 1 03 2021'!$B$3:$G$726,6,0) -> 1815 | H264: PLN | I264: 0.23 | K264: 0100 | L264: 5903669442219 | M264: CET | N264: KC | O264: 9.0 | P264: 27.32.12.0 | Q264: 8544200090 | R264: EC000019 | T264: 33.9 | U264: 33.9
A265: KAB10000773 | B265: XWDXpek 75 1,0/4,8; czarny; CESAT | C265: Przewód koncentryczny XWDXpek 75 1,0/4,8; czarny UV; (UHD-4K); CESAT | D265: km | F265: 1 | G265: =VLOOKUP(A265,'CET uproszczony 1 03 2021'!$B$3:$G$726,6,0) -> 1815 | H265: PLN | I265: 0.23 | K265: 300 | L265: 5903669444626 | M265: CET | N265: KC | O265: 9.0 | P265: 27.32.12.0 | Q265: 8544200090 | R265: EC000019 | T265: 33.9 | U265: 33.9
A266: KAB10000773 | B266: XWDXpek 75 1,0/4,8; czarny; CESAT | C266: Przewód koncentryczny XWDXpek 75 1,0/4,8; czarny UV; (UHD-4K); CESAT | D266: km | F266: 1 | G266: =VLOOKUP(A266,'CET uproszczony 1 03 2021'!$B$3:$G$726,6,0) -> 1815 | H266: PLN | I266: 0.23 | K266: 500 | L266: 5903669444541 | M266: CET | N266: KC | O266: 9.0 | P266: 27.32.12.0 | Q266: 8544200090 | R266: EC000019 | T266: 33.9 | U266: 33.9
A267: KAB10000773 | B267: XWDXpek 75 1,0/4,8; czarny; CESAT | C267: Przewód koncentryczny XWDXpek 75 1,0/4,8; czarny UV; (UHD-4K); CESAT | D267: km | F267: 1 | G267: =VLOOKUP(A267,'CET uproszczony 1 03 2021'!$B$3:$G$726,6,0) -> 1815 | H267: PLN | I267: 0.23 | K267: 1000 | L267: 5903669444558 | M267: CET | N267: KC | O267: 9.0 | P267: 27.32.12.0 | Q267: 8544200090 | R267: EC000019 | T267: 33.9 | U267: 33.9
A268: KAB10000774 | B268: YWDXpek 75 1,0/4,8; CESAT | C268: Przewód koncentryczny YWDXpek 75 1,0/4,8; Eca; (UHD-4K); CESAT | D268: km | F268: 1 | G268: =VLOOKUP(A268,'CET uproszczony 1 03 2021'!$B$3:$G$726,6,0) -> 1780 | H268: PLN | I268: 0.23 | K268: 0100 | L268: 5903669442264 | M268: CET | N268: KC | O268: 9.0 | P268: 27.32.12.0 | Q268: 8544200090 | R268: EC000019 | T268: 42.3 | U268: 42.3
A269: KAB10000774 | B269: YWDXpek 75 1,0/4,8; CESAT | C269: Przewód koncentryczny YWDXpek 75 1,0/4,8; Eca; (UHD-4K); CESAT | D269: km | F269: 1 | G269: =VLOOKUP(A269,'CET uproszczony 1 03 2021'!$B$3:$G$726,6,0) -> 1780 | H269: PLN | I269: 0.23 | K269: 300 | L269: 5903669444633 | M269: CET | N269: KC | O269: 9.0 | P269: 27.32.12.0 | Q269: 8544200090 | R269: EC000019 | T269: 42.3 | U269: 42.3
A270: KAB10000774 | B270: YWDXpek 75 1,0/4,8; CESAT | C270: Przewód koncentryczny YWDXpek 75 1,0/4,8; Eca; (UHD-4K); CESAT | D270: km | F270: 1 | G270: =VLOOKUP(A270,'CET uproszczony 1 03 2021'!$B$3:$G$726,6,0) -> 1780 | H270: PLN | I270: 0.23 | K270: 500 | L270: 5903669444565 | M270: CET | N270: KC | O270: 9.0 | P270: 27.32.12.0 | Q270: 8544200090 | R270: EC000019 | T270: 42.3 | U270: 42.3
A271: KAB10000774 | B271: YWDXpek 75 1,0/4,8; CESAT | C271: Przewód koncentryczny YWDXpek 75 1,0/4,8; Eca; (UHD-4K); CESAT | D271: km | F271: 1 | G271: =VLOOKUP(A271,'CET uproszczony 1 03 2021'!$B$3:$G$726,6,0) -> 1780 | H271: PLN | I271: 0.23 | K271: 1000 | L271: 5903669444572 | M271: CET | N271: KC | O271: 9.0 | P271: 27.32.12.0 | Q271: 8544200090 | R271: EC000019 | T271: 42.3 | U271: 42.3
A272: KAB10000775 | B272: YWDXpek 75 1,0/4,8 kl.A, Eca; CESAT | C272: Przewód koncentryczny YWDXpek 75 1,0/4,8 (77% CuSn) Eca; (UHD-4K); CESAT | D272: km | F272: 1 | G272: =VLOOKUP(A272,'CET uproszczony 1 03 2021'!$B$3:$G$726,6,0) -> 2470 | H272: PLN | I272: 0.23 | K272: 0100 | L272: 5903669442318 | M272: CET | N272: KC | O272: 9.0 | P272: 27.32.12.0 | Q272: 8544200090 | R272: EC000019 | T272: 44.25 | U272: 44.25
A273: KAB10000775 | B273: YWDXpek 75 1,0/4,8 kl.A, Eca; CESAT | C273: Przewód koncentryczny YWDXpek 75 1,0/4,8 (77% CuSn) Eca; (UHD-4K); CESAT | D273: km | F273: 1 | G273: =VLOOKUP(A273,'CET uproszczony 1 03 2021'!$B$3:$G$726,6,0) -> 2470 | H273: PLN | I273: 0.23 | K273: 300 | L273: 5903669444640 | M273: CET | N273: KC | O273: 9.0 | P273: 27.32.12.0 | Q273: 8544200090 | R273: EC000019 | T273: 44.25 | U273: 44.25
A274: KAB10000775 | B274: YWDXpek 75 1,0/4,8 kl.A, Eca; CESAT | C274: Przewód koncentryczny YWDXpek 75 1,0/4,8 (77% CuSn) Eca; (UHD-4K); CESAT | D274: km | F274: 1 | G274: =VLOOKUP(A274,'CET uproszczony 1 03 2021'!$B$3:$G$726,6,0) -> 2470 | H274: PLN | I274: 0.23 | K274: 500 | L274: 5903669444589 | M274: CET | N274: KC | O274: 9.0 | P274: 27.32.12.0 | Q274: 8544200090 | R274: EC000019 | T274: 44.25 | U274: 44.25
A275: KAB10000775 | B275: YWDXpek 75 1,0/4,8 kl.A, Eca; CESAT | C275: Przewód koncentryczny YWDXpek 75 1,0/4,8 (77% CuSn) Eca; (UHD-4K); CESAT | D275: km | F275: 1 | G275: =VLOOKUP(A275,'CET uproszczony 1 03 2021'!$B$3:$G$726,6,0) -> 2470 | H275: PLN | I275: 0.23 | K275: 1000 | L275: 5903669444596 | M275: CET | N275: KC | O275: 9.0 | P275: 27.32.12.0 | Q275: 8544200090 | R275: EC000019 | T275: 44.25 | U275: 44.25
A276: KAB10000785 | B276: HWDXpek 75 1,0/4,8; CESAT | C276: Przewód koncentryczny HWDXpek 75 1,0/4,8; Eca; (UHD-4K); bezhalogen. CESAT | D276: km | F276: 1 | G276: =VLOOKUP(A276,'CET uproszczony 1 03 2021'!$B$3:$G$726,6,0) -> 1770 | H276: PLN | I276: 0.23 | K276: 0100 | L276: 5903669442363 | M276: CET | N276: KC | O276: 9.0 | P276: 27.32.12.0 | Q276: 8544200090 | R276: EC000019 | T276: 41.7 | U276: 41.7
A277: KAB10000785 | B277: HWDXpek 75 1,0/4,8; CESAT | C277: Przewód koncentryczny HWDXpek 75 1,0/4,8; Eca; (UHD-4K); bezhalogen. CESAT | D277: km | F277: 1 | G277: =VLOOKUP(A277,'CET uproszczony 1 03 2021'!$B$3:$G$726,6,0) -> 1770 | H277: PLN | I277: 0.23 | K277: 300 | L277: 5903669444657 | M277: CET | N277: KC | O277: 9.0 | P277: 27.32.12.0 | Q277: 8544200090 | R277: EC000019 | T277: 41.7 | U277: 41.7
A278: KAB10000785 | B278: HWDXpek 75 1,0/4,8; CESAT | C278: Przewód koncentryczny HWDXpek 75 1,0/4,8; Eca; (UHD-4K); bezhalogen. CESAT | D278: km | F278: 1 | G278: =VLOOKUP(A278,'CET uproszczony 1 03 2021'!$B$3:$G$726,6,0) -> 1770 | H278: PLN | I278: 0.23 | K278: 500 | L278: 5903669444602 | M278: CET | N278: KC | O278: 9.0 | P278: 27.32.12.0 | Q278: 8544200090 | R278: EC000019 | T278: 41.7 | U278: 41.7
A279: KAB10000785 | B279: HWDXpek 75 1,0/4,8; CESAT | C279: Przewód koncentryczny HWDXpek 75 1,0/4,8; Eca; (UHD-4K); bezhalogen. CESAT | D279: km | F279: 1 | G279: =VLOOKUP(A279,'CET uproszczony 1 03 2021'!$B$3:$G$726,6,0) -> 1770 | H279: PLN | I279: 0.23 | K279: 1000 | L279: 5903669444619 | M279: CET | N279: KC | O279: 9.0 | P279: 27.32.12.0 | Q279: 8544200090 | R279: EC000019 | T279: 41.7 | U279: 41.7
A280: KAB10000793 | B280: YWDXpek 75 1,0/4,8 TRISHIELD, CESAT | C280: Przewód koncentryczny YWDXpek 75 1,0/4,8 TRISHIELD, ekran AL./PET + oplot 33% + ekran AL./PET; Eca; (UHD-4K); CESAT | D280: km | F280: 1 | G280: =VLOOKUP(A280,'CET uproszczony 1 03 2021'!$B$3:$G$726,6,0) -> 1930 | H280: PLN | I280: 0.23 | K280: 0100 | L280: 5903669442462 | M280: CET | N280: KC | O280: 9.0 | P280: 27.32.12.0 | Q280: 8544200090 | R280: EC000019 | T280: 41.35 | U280: 41.35
A281: KAB10000793 | B281: YWDXpek 75 1,0/4,8 TRISHIELD, CESAT | C281: Przewód koncentryczny YWDXpek 75 1,0/4,8 TRISHIELD, ekran AL./PET + oplot 33% + ekran AL./PET; Eca; (UHD-4K); CESAT | D281: km | F281: 1 | G281: =VLOOKUP(A281,'CET uproszczony 1 03 2021'!$B$3:$G$726,6,0) -> 1930 | H281: PLN | I281: 0.23 | K281: 300 | L281: 5903669444695 | M281: CET | N281: KC | O281: 9.0 | P281: 27.32.12.0 | Q281: 8544200090 | R281: EC000019 | T281: 41.35 | U281: 41.35
A282: KAB10000793 | B282: YWDXpek 75 1,0/4,8 TRISHIELD, CESAT | C282: Przewód koncentryczny YWDXpek 75 1,0/4,8 TRISHIELD, ekran AL./PET + oplot 33% + ekran AL./PET; Eca; (UHD-4K); CESAT | D282: km | F282: 1 | G282: =VLOOKUP(A282,'CET uproszczony 1 03 2021'!$B$3:$G$726,6,0) -> 1930 | H282: PLN | I282: 0.23 | K282: 500 | L282: 5903669444701 | M282: CET | N282: KC | O282: 9.0 | P282: 27.32.12.0 | Q282: 8544200090 | R282: EC000019 | T282: 41.35 | U282: 41.35
A283: KAB10000793 | B283: YWDXpek 75 1,0/4,8 TRISHIELD, CESAT | C283: Przewód koncentryczny YWDXpek 75 1,0/4,8 TRISHIELD, ekran AL./PET + oplot 33% + ekran AL./PET; Eca; (UHD-4K); CESAT | D283: km | F283: 1 | G283: =VLOOKUP(A283,'CET uproszczony 1 03 2021'!$B$3:$G$726,6,0) -> 1930 | H283: PLN | I283: 0.23 | K283: 1000 | L283: 5903669444718 | M283: CET | N283: KC | O283: 9.0 | P283: 27.32.12.0 | Q283: 8544200090 | R283: EC000019 | T283: 41.35 | U283: 41.35
A284: KAB10000811 | B284: HWDXpek 75 1,0/4,8 TRISHIELD, CESAT | C284: Przewód koncentryczny HWDXpek 75 1,0/4,8 TRISHIELD, ekran AL./PET + oplot 33% + ekran AL./PET; Eca; (UHD-4K); bezhalogen. CESAT | D284: km | F284: 1 | G284: =VLOOKUP(A284,'CET uproszczony 1 03 2021'!$B$3:$G$726,6,0) -> 1840 | H284: PLN | I284: 0.23 | K284: 0100 | L284: 5903669442516 | M284: CET | N284: KC | O284: 9.0 | P284: 27.32.12.0 | Q284: 8544200090 | R284: EC000019 | T284: 38.07 | U284: 38.07
A285: KAB10000811 | B285: HWDXpek 75 1,0/4,8 TRISHIELD, CESAT | C285: Przewód koncentryczny HWDXpek 75 1,0/4,8 TRISHIELD, ekran AL./PET + oplot 33% + ekran AL./PET; Eca; (UHD-4K); bezhalogen. CESAT | D285: km | F285: 1 | G285: =VLOOKUP(A285,'CET uproszczony 1 03 2021'!$B$3:$G$726,6,0) -> 1840 | H285: PLN | I285: 0.23 | K285: 300 | L285: 5903669444725 | M285: CET | N285: KC | O285: 9.0 | P285: 27.32.12.0 | Q285: 8544200090 | R285: EC000019 | T285: 38.07 | U285: 38.07
A286: KAB10000811 | B286: HWDXpek 75 1,0/4,8 TRISHIELD, CESAT | C286: Przewód koncentryczny HWDXpek 75 1,0/4,8 TRISHIELD, ekran AL./PET + oplot 33% + ekran AL./PET; Eca; (UHD-4K); bezhalogen. CESAT | D286: km | F286: 1 | G286: =VLOOKUP(A286,'CET uproszczony 1 03 2021'!$B$3:$G$726,6,0) -> 1840 | H286: PLN | I286: 0.23 | K286: 500 | L286: 5903669444732 | M286: CET | N286: KC | O286: 9.0 | P286: 27.32.12.0 | Q286: 8544200090 | R286: EC000019 | T286: 38.07 | U286: 38.07
A287: KAB10000811 | B287: HWDXpek 75 1,0/4,8 TRISHIELD, CESAT | C287: Przewód koncentryczny HWDXpek 75 1,0/4,8 TRISHIELD, ekran AL./PET + oplot 33% + ekran AL./PET; Eca; (UHD-4K); bezhalogen. CESAT | D287: km | F287: 1 | G287: =VLOOKUP(A287,'CET uproszczony 1 03 2021'!$B$3:$G$726,6,0) -> 1840 | H287: PLN | I287: 0.23 | K287: 1000 | L287: 5903669444749 | M287: CET | N287: KC | O287: 9.0 | P287: 27.32.12.0 | Q287: 8544200090 | R287: EC000019 | T287: 38.07 | U287: 38.07
A288: KAB10000814 | B288: YWDXpek 75 1,0/4,8 TRISHIELD kl.A, CESAT | C288: Przewód koncentryczny YWDXpek 75 1,0/4,8 TRISHIELD kl.A ekran AL./PET + oplot 77% + ekran AL./PET; Eca; (UHD-4K); CESAT | D288: km | F288: 1 | G288: =VLOOKUP(A288,'CET uproszczony 1 03 2021'!$B$3:$G$726,6,0) -> 2600 | H288: PLN | I288: 0.23 | K288: 0100 | L288: 5903669442561 | M288: CET | N288: KC | O288: 9.0 | P288: 27.32.12.0 | Q288: 8544200090 | R288: EC000019 | T288: 51.66 | U288: 51.66
A289: KAB10000814 | B289: YWDXpek 75 1,0/4,8 TRISHIELD kl.A, CESAT | C289: Przewód koncentryczny YWDXpek 75 1,0/4,8 TRISHIELD kl.A ekran AL./PET + oplot 77% + ekran AL./PET; Eca; (UHD-4K); CESAT | D289: km | F289: 1 | G289: =VLOOKUP(A289,'CET uproszczony 1 03 2021'!$B$3:$G$726,6,0) -> 2600 | H289: PLN | I289: 0.23 | K289: 300 | L289: 5903669444756 | M289: CET | N289: KC | O289: 9.0 | P289: 27.32.12.0 | Q289: 8544200090 | R289: EC000019 | T289: 51.66 | U289: 51.66
A290: KAB10000814 | B290: YWDXpek 75 1,0/4,8 TRISHIELD kl.A, CESAT | C290: Przewód koncentryczny YWDXpek 75 1,0/4,8 TRISHIELD kl.A ekran AL./PET + oplot 77% + ekran AL./PET; Eca; (UHD-4K); CESAT | D290: km | F290: 1 | G290: =VLOOKUP(A290,'CET uproszczony 1 03 2021'!$B$3:$G$726,6,0) -> 2600 | H290: PLN | I290: 0.23 | K290: 500 | L290: 5903669444763 | M290: CET | N290: KC | O290: 9.0 | P290: 27.32.12.0 | Q290: 8544200090 | R290: EC000019 | T290: 51.66 | U290: 51.66
A291: KAB10000814 | B291: YWDXpek 75 1,0/4,8 TRISHIELD kl.A, CESAT | C291: Przewód koncentryczny YWDXpek 75 1,0/4,8 TRISHIELD kl.A ekran AL./PET + oplot 77% + ekran AL./PET; Eca; (UHD-4K); CESAT | D291: km | F291: 1 | G291: =VLOOKUP(A291,'CET uproszczony 1 03 2021'!$B$3:$G$726,6,0) -> 2600 | H291: PLN | I291: 0.23 | K291: 1000 | L291: 5903669444770 | M291: CET | N291: KC | O291: 9.0 | P291: 27.32.12.0 | Q291: 8544200090 | R291: EC000019 | T291: 51.66 | U291: 51.66
A292: KAB10000817 | B292: HWDXpek 75 1,0/4,8 TRISHIELD kl.A, CESAT | C292: Przewód koncentryczny HWDXpek 75 1,0/4,8 TRISHIELD kl.A ekran AL./PET + oplot 77% + ekran AL./PET; Eca; (UHD-4K); bezhalogen. CESAT | D292: km | F292: 1 | G292: =VLOOKUP(A292,'CET uproszczony 1 03 2021'!$B$3:$G$726,6,0) -> 2680 | H292: PLN | I292: 0.23 | K292: 0100 | L292: 5903669442615 | M292: CET | N292: KC | O292: 9.0 | P292: 27.32.12.0 | Q292: 8544200090 | R292: EC000019 | T292: 37.12 | U292: 37.12
A293: KAB10000817 | B293: HWDXpek 75 1,0/4,8 TRISHIELD kl.A, CESAT | C293: Przewód koncentryczny HWDXpek 75 1,0/4,8 TRISHIELD kl.A ekran AL./PET + oplot 77% + ekran AL./PET; Eca; (UHD-4K); bezhalogen. CESAT | D293: km | F293: 1 | G293: =VLOOKUP(A293,'CET uproszczony 1 03 2021'!$B$3:$G$726,6,0) -> 2680 | H293: PLN | I293: 0.23 | K293: 300 | L293: 5903669444787 | M293: CET | N293: KC | O293: 9.0 | P293: 27.32.12.0 | Q293: 8544200090 | R293: EC000019 | T293: 37.12 | U293: 37.12
A294: KAB10000817 | B294: HWDXpek 75 1,0/4,8 TRISHIELD kl.A, CESAT | C294: Przewód koncentryczny HWDXpek 75 1,0/4,8 TRISHIELD kl.A ekran AL./PET + oplot 77% + ekran AL./PET; Eca; (UHD-4K); bezhalogen. CESAT | D294: km | F294: 1 | G294: =VLOOKUP(A294,'CET uproszczony 1 03 2021'!$B$3:$G$726,6,0) -> 2680 | H294: PLN | I294: 0.23 | K294: 500 | L294: 5903669444794 | M294: CET | N294: KC | O294: 9.0 | P294: 27.32.12.0 | Q294: 8544200090 | R294: EC000019 | T294: 37.12 | U294: 37.12
A295: KAB10000817 | B295: HWDXpek 75 1,0/4,8 TRISHIELD kl.A, CESAT | C295: Przewód koncentryczny HWDXpek 75 1,0/4,8 TRISHIELD kl.A ekran AL./PET + oplot 77% + ekran AL./PET; Eca; (UHD-4K); bezhalogen. CESAT | D295: km | F295: 1 | G295: =VLOOKUP(A295,'CET uproszczony 1 03 2021'!$B$3:$G$726,6,0) -> 2680 | H295: PLN | I295: 0.23 | K295: 1000 | L295: 5903669444800 | M295: CET | N295: KC | O295: 9.0 | P295: 27.32.12.0 | Q295: 8544200090 | R295: EC000019 | T295: 37.12 | U295: 37.12
A296: KAB10000826 | B296: YWDXpek 75 1,13/4,8 , CESAT | C296: Przewód koncentryczny YWDXpek 75 1,13/4,8 ; ekran AL./PET + oplot 33%; Eca; (UHD-4K); CESAT | D296: km | F296: 1 | G296: =VLOOKUP(A296,'CET uproszczony 1 03 2021'!$B$3:$G$726,6,0) -> 1970 | H296: PLN | I296: 0.23 | K296: 0100 | L296: 5903669442660 | M296: CET | N296: KC | O296: 9.0 | P296: 27.32.12.0 | Q296: 8544200090 | R296: EC000019 | T296: 42 | U296: 42
A297: KAB10000826 | B297: YWDXpek 75 1,13/4,8 , CESAT | C297: Przewód koncentryczny YWDXpek 75 1,13/4,8 ; ekran AL./PET + oplot 33%; Eca; (UHD-4K); CESAT | D297: km | F297: 1 | G297: =VLOOKUP(A297,'CET uproszczony 1 03 2021'!$B$3:$G$726,6,0) -> 1970 | H297: PLN | I297: 0.23 | K297: 300 | L297: 5903669444817 | M297: CET | N297: KC | O297: 9.0 | P297: 27.32.12.0 | Q297: 8544200090 | R297: EC000019 | T297: 42 | U297: 42
A298: KAB10000826 | B298: YWDXpek 75 1,13/4,8 , CESAT | C298: Przewód koncentryczny YWDXpek 75 1,13/4,8 ; ekran AL./PET + oplot 33%; Eca; (UHD-4K); CESAT | D298: km | F298: 1 | G298: =VLOOKUP(A298,'CET uproszczony 1 03 2021'!$B$3:$G$726,6,0) -> 1970 | H298: PLN | I298: 0.23 | K298: 500 | L298: 5903669444824 | M298: CET | N298: KC | O298: 9.0 | P298: 27.32.12.0 | Q298: 8544200090 | R298: EC000019 | T298: 42 | U298: 42
A299: KAB10000826 | B299: YWDXpek 75 1,13/4,8 , CESAT | C299: Przewód koncentryczny YWDXpek 75 1,13/4,8 ; ekran AL./PET + oplot 33%; Eca; (UHD-4K); CESAT | D299: km | F299: 1 | G299: =VLOOKUP(A299,'CET uproszczony 1 03 2021'!$B$3:$G$726,6,0) -> 1970 | H299: PLN | I299: 0.23 | K299: 1000 | L299: 5903669444831 | M299: CET | N299: KC | O299: 9.0 | P299: 27.32.12.0 | Q299: 8544200090 | R299: EC000019 | T299: 42 | U299: 42
A300: KAB10000827 | B300: HWDXpek 75 1,13/4,8 , CESAT | C300: Przewód koncentryczny HWDXpek 75 1,13/4,8 ; ekran AL./PET + oplot 33%; Eca; (UHD-4K); bezhalogen. CESAT | D300: km | F300: 1 | G300: =VLOOKUP(A300,'CET uproszczony 1 03 2021'!$B$3:$G$726,6,0) -> 2050 | H300: PLN | I300: 0.23 | K300: 0100 | L300: 5903669442714 | M300: CET | N300: KC | O300: 9.0 | P300: 27.32.12.0 | Q300: 8544200090 | R300: EC000019 | T300: 37.46 | U300: 37.46
A301: KAB10000827 | B301: HWDXpek 75 1,13/4,8 , CESAT | C301: Przewód koncentryczny HWDXpek 75 1,13/4,8 ; ekran AL./PET + oplot 33%; Eca; (UHD-4K); bezhalogen. CESAT | D301: km | F301: 1 | G301: =VLOOKUP(A301,'CET uproszczony 1 03 2021'!$B$3:$G$726,6,0) -> 2050 | H301: PLN | I301: 0.23 | K301: 300 | L301: 5903669444848 | M301: CET | N301: KC | O301: 9.0 | P301: 27.32.12.0 | Q301: 8544200090 | R301: EC000019 | T301: 37.46 | U301: 37.46
A302: KAB10000827 | B302: HWDXpek 75 1,13/4,8 , CESAT | C302: Przewód koncentryczny HWDXpek 75 1,13/4,8 ; ekran AL./PET + oplot 33%; Eca; (UHD-4K); bezhalogen. CESAT | D302: km | F302: 1 | G302: =VLOOKUP(A302,'CET uproszczony 1 03 2021'!$B$3:$G$726,6,0) -> 2050 | H302: PLN | I302: 0.23 | K302: 500 | L302: 5903669444855 | M302: CET | N302: KC | O302: 9.0 | P302: 27.32.12.0 | Q302: 8544200090 | R302: EC000019 | T302: 37.46 | U302: 37.46
A303: KAB10000827 | B303: HWDXpek 75 1,13/4,8 , CESAT | C303: Przewód koncentryczny HWDXpek 75 1,13/4,8 ; ekran AL./PET + oplot 33%; Eca; (UHD-4K); bezhalogen. CESAT | D303: km | F303: 1 | G303: =VLOOKUP(A303,'CET uproszczony 1 03 2021'!$B$3:$G$726,6,0) -> 2050 | H303: PLN | I303: 0.23 | K303: 1000 | L303: 5903669444862 | M303: CET | N303: KC | O303: 9.0 | P303: 27.32.12.0 | Q303: 8544200090 | R303: EC000019 | T303: 37.46 | U303: 37.46
A304: KAB10000836 | B304: YWDXpek 75 1,13/4,8 kl.A, CESAT | C304: Przewód koncentryczny YWDXpek 75 1,13/4,8 kl.A ekran AL./PET + oplot 77%; Eca; (UHD-4K); CESAT | D304: km | F304: 1 | G304: =VLOOKUP(A304,'CET uproszczony 1 03 2021'!$B$3:$G$726,6,0) -> 2480 | H304: PLN | I304: 0.23 | K304: 0100 | L304: 5903669442769 | M304: CET | N304: KC | O304: 9.0 | P304: 27.32.12.0 | Q304: 8544200090 | R304: EC000019 | T304: 47.5 | U304: 47.5
A305: KAB10000836 | B305: YWDXpek 75 1,13/4,8 kl.A, CESAT | C305: Przewód koncentryczny YWDXpek 75 1,13/4,8 kl.A ekran AL./PET + oplot 77%; Eca; (UHD-4K); CESAT | D305: km | F305: 1 | G305: =VLOOKUP(A305,'CET uproszczony 1 03 2021'!$B$3:$G$726,6,0) -> 2480 | H305: PLN | I305: 0.23 | K305: 300 | L305: 5903669444879 | M305: CET | N305: KC | O305: 9.0 | P305: 27.32.12.0 | Q305: 8544200090 | R305: EC000019 | T305: 47.5 | U305: 47.5
A306: KAB10000836 | B306: YWDXpek 75 1,13/4,8 kl.A, CESAT | C306: Przewód koncentryczny YWDXpek 75 1,13/4,8 kl.A ekran AL./PET + oplot 77%; Eca; (UHD-4K); CESAT | D306: km | F306: 1 | G306: =VLOOKUP(A306,'CET uproszczony 1 03 2021'!$B$3:$G$726,6,0) -> 2480 | H306: PLN | I306: 0.23 | K306: 500 | L306: 5903669444886 | M306: CET | N306: KC | O306: 9.0 | P306: 27.32.12.0 | Q306: 8544200090 | R306: EC000019 | T306: 47.5 | U306: 47.5
A307: KAB10000836 | B307: YWDXpek 75 1,13/4,8 kl.A, CESAT | C307: Przewód koncentryczny YWDXpek 75 1,13/4,8 kl.A ekran AL./PET + oplot 77%; Eca; (UHD-4K); CESAT | D307: km | F307: 1 | G307: =VLOOKUP(A307,'CET uproszczony 1 03 2021'!$B$3:$G$726,6,0) -> 2480 | H307: PLN | I307: 0.23 | K307: 1000 | L307: 5903669444893 | M307: CET | N307: KC | O307: 9.0 | P307: 27.32.12.0 | Q307: 8544200090 | R307: EC000019 | T307: 47.5 | U307: 47.5
A308: KAB10000889 | B308: HWDXpek 75 1,13/4,8 kl.A | C308: Przewód koncentryczny HWDXpek 75 1,13/4,8 kl.A ekran AL./PET + oplot 77%; Eca;(UHD-4K); bezhalogen. CESAT | D308: km | F308: 1 | G308: =VLOOKUP(A308,'CET uproszczony 1 03 2021'!$B$3:$G$726,6,0) -> 2580 | H308: PLN | I308: 0.23 | K308: 0100 | L308: 5903669442813 | M308: CET | N308: KC | O308: 9.0 | P308: 27.32.12.0 | Q308: 8544200090 | R308: EC000019 | T308: 37.43 | U308: 37.43
A309: KAB10000889 | B309: HWDXpek 75 1,13/4,8 kl.A | C309: Przewód koncentryczny HWDXpek 75 1,13/4,8 kl.A ekran AL./PET + oplot 77%; Eca;(UHD-4K); bezhalogen. CESAT | D309: km | F309: 1 | G309: =VLOOKUP(A309,'CET uproszczony 1 03 2021'!$B$3:$G$726,6,0) -> 2580 | H309: PLN | I309: 0.23 | K309: 300 | L309: 5903669444909 | M309: CET | N309: KC | O309: 9.0 | P309: 27.32.12.0 | Q309: 8544200090 | R309: EC000019 | T309: 37.43 | U309: 37.43
A310: KAB10000889 | B310: HWDXpek 75 1,13/4,8 kl.A | C310: Przewód koncentryczny HWDXpek 75 1,13/4,8 kl.A ekran AL./PET + oplot 77%; Eca;(UHD-4K); bezhalogen. CESAT | D310: km | F310: 1 | G310: =VLOOKUP(A310,'CET uproszczony 1 03 2021'!$B$3:$G$726,6,0) -> 2580 | H310: PLN | I310: 0.23 | K310: 500 | L310: 5903669444916 | M310: CET | N310: KC | O310: 9.0 | P310: 27.32.12.0 | Q310: 8544200090 | R310: EC000019 | T310: 37.43 | U310: 37.43
A311: KAB10000889 | B311: HWDXpek 75 1,13/4,8 kl.A | C311: Przewód koncentryczny HWDXpek 75 1,13/4,8 kl.A ekran AL./PET + oplot 77%; Eca;(UHD-4K); bezhalogen. CESAT | D311: km | F311: 1 | G311: =VLOOKUP(A311,'CET uproszczony 1 03 2021'!$B$3:$G$726,6,0) -> 2580 | H311: PLN | I311: 0.23 | K311: 1000 | L311: 5903669444923 | M311: CET | N311: KC | O311: 9.0 | P311: 27.32.12.0 | Q311: 8544200090 | R311: EC000019 | T311: 37.43 | U311: 37.43
A312: KAB10000914 | B312: YWDXpek 75 1,15/5,0 CESAT | C312: Przewód koncentryczny YWDXpek 75 1,15/5,0; Eca; (UHD-4K); CESAT | D312: km | F312: 1 | G312: =VLOOKUP(A312,'CET uproszczony 1 03 2021'!$B$3:$G$726,6,0) -> 2050 | H312: PLN | I312: 0.23 | K312: 0100 | L312: 5903669442868 | M312: CET | N312: KC | O312: 9.0 | P312: 27.32.12.0 | Q312: 8544200090 | R312: EC000019 | T312: 45.4 | U312: 45.4
A313: KAB10000914 | B313: YWDXpek 75 1,15/5,0 CESAT | C313: Przewód koncentryczny YWDXpek 75 1,15/5,0; Eca; (UHD-4K); CESAT | D313: km | F313: 1 | G313: =VLOOKUP(A313,'CET uproszczony 1 03 2021'!$B$3:$G$726,6,0) -> 2050 | H313: PLN | I313: 0.23 | K313: 300 | L313: 5903669444930 | M313: CET | N313: KC | O313: 9.0 | P313: 27.32.12.0 | Q313: 8544200090 | R313: EC000019 | T313: 45.4 | U313: 45.4
A314: KAB10000914 | B314: YWDXpek 75 1,15/5,0 CESAT | C314: Przewód koncentryczny YWDXpek 75 1,15/5,0; Eca; (UHD-4K); CESAT | D314: km | F314: 1 | G314: =VLOOKUP(A314,'CET uproszczony 1 03 2021'!$B$3:$G$726,6,0) -> 2050 | H314: PLN | I314: 0.23 | K314: 500 | L314: 5903669444947 | M314: CET | N314: KC | O314: 9.0 | P314: 27.32.12.0 | Q314: 8544200090 | R314: EC000019 | T314: 45.4 | U314: 45.4
A315: KAB10000914 | B315: YWDXpek 75 1,15/5,0 CESAT | C315: Przewód koncentryczny YWDXpek 75 1,15/5,0; Eca; (UHD-4K); CESAT | D315: km | F315: 1 | G315: =VLOOKUP(A315,'CET uproszczony 1 03 2021'!$B$3:$G$726,6,0) -> 2050 | H315: PLN | I315: 0.23 | K315: 1000 | L315: 5903669444954 | M315: CET | N315: KC | O315: 9.0 | P315: 27.32.12.0 | Q315: 8544200090 | R315: EC000019 | T315: 45.4 | U315: 45.4
A316: KAB10000915 | B316: XzWDXpekw 75 1,0/4,8 CESAT | C316: Przewód koncentryczny XzWDXpekw 75 1,0/4,8 czarny (wypełnienie żelem); (UHD-4K); CESAT | D316: km | F316: 1 | G316: =VLOOKUP(A316,'CET uproszczony 1 03 2021'!$B$3:$G$726,6,0) -> 2250 | H316: PLN | I316: 0.23 | K316: 0100 | L316: 5903669442912 | M316: CET | N316: KC | O316: 9.0 | P316: 27.32.12.0 | Q316: 8544200090 | R316: EC000019 | T316: 33.9 | U316: 33.9
A317: KAB10000915 | B317: XzWDXpekw 75 1,0/4,8 CESAT | C317: Przewód koncentryczny XzWDXpekw 75 1,0/4,8 czarny (wypełnienie żelem); (UHD-4K); CESAT | D317: km | F317: 1 | G317: =VLOOKUP(A317,'CET uproszczony 1 03 2021'!$B$3:$G$726,6,0) -> 2250 | H317: PLN | I317: 0.23 | K317: 300 | L317: 5903669444961 | M317: CET | N317: KC | O317: 9.0 | P317: 27.32.12.0 | Q317: 8544200090 | R317: EC000019 | T317: 33.9 | U317: 33.9
A318: KAB10000915 | B318: XzWDXpekw 75 1,0/4,8 CESAT | C318: Przewód koncentryczny XzWDXpekw 75 1,0/4,8 czarny (wypełnienie żelem); (UHD-4K); CESAT | D318: km | F318: 1 | G318: =VLOOKUP(A318,'CET uproszczony 1 03 2021'!$B$3:$G$726,6,0) -> 2250 | H318: PLN | I318: 0.23 | K318: 500 | L318: 5903669444978 | M318: CET | N318: KC | O318: 9.0 | P318: 27.32.12.0 | Q318: 8544200090 | R318: EC000019 | T318: 33.9 | U318: 33.9
A319: KAB10000915 | B319: XzWDXpekw 75 1,0/4,8 CESAT | C319: Przewód koncentryczny XzWDXpekw 75 1,0/4,8 czarny (wypełnienie żelem); (UHD-4K); CESAT | D319: km | F319: 1 | G319: =VLOOKUP(A319,'CET uproszczony 1 03 2021'!$B$3:$G$726,6,0) -> 2250 | H319: PLN | I319: 0.23 | K319: 1000 | L319: 5903669444985 | M319: CET | N319: KC | O319: 9.0 | P319: 27.32.12.0 | Q319: 8544200090 | R319: EC000019 | T319: 33.9 | U319: 33.9
A320: KAB10000918 | B320: XzWDXpekw 75 1,13/4,8 CESAT | C320: Przewód koncentryczny XzWDXpekw 75 1,13/4,8 czarny (wypełnienie żelem); (UHD-4K); CESAT | D320: km | F320: 1 | G320: =VLOOKUP(A320,'CET uproszczony 1 03 2021'!$B$3:$G$726,6,0) -> 2550 | H320: PLN | I320: 0.23 | K320: 0100 | L320: 5903669442967 | M320: CET | N320: KC | O320: 9.0 | P320: 27.32.12.0 | Q320: 8544200090 | R320: EC000019 | T320: 37.12 | U320: 37.12
A321: KAB10000918 | B321: XzWDXpekw 75 1,13/4,8 CESAT | C321: Przewód koncentryczny XzWDXpekw 75 1,13/4,8 czarny (wypełnienie żelem); (UHD-4K); CESAT | D321: km | F321: 1 | G321: =VLOOKUP(A321,'CET uproszczony 1 03 2021'!$B$3:$G$726,6,0) -> 2550 | H321: PLN | I321: 0.23 | K321: 300 | L321: 5903669444992 | M321: CET | N321: KC | O321: 9.0 | P321: 27.32.12.0 | Q321: 8544200090 | R321: EC000019 | T321: 37.12 | U321: 37.12
A322: KAB10000918 | B322: XzWDXpekw 75 1,13/4,8 CESAT | C322: Przewód koncentryczny XzWDXpekw 75 1,13/4,8 czarny (wypełnienie żelem); (UHD-4K); CESAT | D322: km | F322: 1 | G322: =VLOOKUP(A322,'CET uproszczony 1 03 2021'!$B$3:$G$726,6,0) -> 2550 | H322: PLN | I322: 0.23 | K322: 500 | L322: 5903669445005 | M322: CET | N322: KC | O322: 9.0 | P322: 27.32.12.0 | Q322: 8544200090 | R322: EC000019 | T322: 37.12 | U322: 37.12
A323: KAB10000918 | B323: XzWDXpekw 75 1,13/4,8 CESAT | C323: Przewód koncentryczny XzWDXpekw 75 1,13/4,8 czarny (wypełnienie żelem); (UHD-4K); CESAT | D323: km | F323: 1 | G323: =VLOOKUP(A323,'CET uproszczony 1 03 2021'!$B$3:$G$726,6,0) -> 2550 | H323: PLN | I323: 0.23 | K323: 1000 | L323: 5903669445012 | M323: CET | N323: KC | O323: 9.0 | P323: 27.32.12.0 | Q323: 8544200090 | R323: EC000019 | T323: 37.12 | U323: 37.12
A324: KAB10000953 | B324: YWDXpek 75 1,0/4,8+OMY 2x1,0; CESAT | C324: Przewód koncentryczny z zasilaniem (w jednym) YWDXpek 75 1,0/4,8 + OMY 2x1,0; CESAT | D324: km | F324: 1 | G324: =VLOOKUP(A324,'CET uproszczony 1 03 2021'!$B$3:$G$726,6,0) -> 3310 | H324: PLN | I324: 0.23 | K324: 0100 | L324: 5903669443117 | M324: CET | N324: KC | O324: 9.0 | P324: 27.32.12.0 | Q324: 8544200090 | R324: EC000019 | T324: 90.1 | U324: 90.1
A325: KAB10000953 | B325: YWDXpek 75 1,0/4,8+OMY 2x1,0; CESAT | C325: Przewód koncentryczny z zasilaniem (w jednym) YWDXpek 75 1,0/4,8 + OMY 2x1,0; CESAT | D325: km | F325: 1 | G325: =VLOOKUP(A325,'CET uproszczony 1 03 2021'!$B$3:$G$726,6,0) -> 3310 | H325: PLN | I325: 0.23 | K325: 300 | L325: 5903669445029 | M325: CET | N325: KC | O325: 9.0 | P325: 27.32.12.0 | Q325: 8544200090 | R325: EC000019 | T325: 90.1 | U325: 90.1
A326: KAB10000953 | B326: YWDXpek 75 1,0/4,8+OMY 2x1,0; CESAT | C326: Przewód koncentryczny z zasilaniem (w jednym) YWDXpek 75 1,0/4,8 + OMY 2x1,0; CESAT | D326: km | F326: 1 | G326: =VLOOKUP(A326,'CET uproszczony 1 03 2021'!$B$3:$G$726,6,0) -> 3310 | H326: PLN | I326: 0.23 | K326: 500 | L326: 5903669445036 | M326: CET | N326: KC | O326: 9.0 | P326: 27.32.12.0 | Q326: 8544200090 | R326: EC000019 | T326: 90.1 | U326: 90.1
A327: KAB10000953 | B327: YWDXpek 75 1,0/4,8+OMY 2x1,0; CESAT | C327: Przewód koncentryczny z zasilaniem (w jednym) YWDXpek 75 1,0/4,8 + OMY 2x1,0; CESAT | D327: km | F327: 1 | G327: =VLOOKUP(A327,'CET uproszczony 1 03 2021'!$B$3:$G$726,6,0) -> 3310 | H327: PLN | I327: 0.23 | K327: 1000 | L327: 5903669445043 | M327: CET | N327: KC | O327: 9.0 | P327: 27.32.12.0 | Q327: 8544200090 | R327: EC000019 | T327: 90.1 | U327: 90.1
A328: KAB10000963 | B328: YWDXpek 75 1,0/4,8+OMY 2x1,0; CESAT; CZARNY UV | C328: Przewód koncentryczny z zasilaniem (w jednym) YWDXpek 75 1,0/4,8 + OMY 2x1,0; CESAT; CZARNY UV | D328: km | F328: 1 | G328: =VLOOKUP(A328,'CET uproszczony 1 03 2021'!$B$3:$G$726,6,0) -> 3310 | H328: PLN | I328: 0.23 | K328: 0100 | L328: 5903669443162 | M328: CET | N328: KC | O328: 9.0 | P328: 27.32.12.0 | Q328: 8544200090 | R328: EC000019 | T328: 90.18 | U328: 90.18
A329: KAB10000963 | B329: YWDXpek 75 1,0/4,8+OMY 2x1,0; CESAT; CZARNY UV | C329: Przewód koncentryczny z zasilaniem (w jednym) YWDXpek 75 1,0/4,8 + OMY 2x1,0; CESAT; CZARNY UV | D329: km | F329: 1 | G329: =VLOOKUP(A329,'CET uproszczony 1 03 2021'!$B$3:$G$726,6,0) -> 3310 | H329: PLN | I329: 0.23 | K329: 300 | L329: 5903669445050 | M329: CET | N329: KC | O329: 9.0 | P329: 27.32.12.0 | Q329: 8544200090 | R329: EC000019 | T329: 90.18 | U329: 90.18
A330: KAB10000963 | B330: YWDXpek 75 1,0/4,8+OMY 2x1,0; CESAT; CZARNY UV | C330: Przewód koncentryczny z zasilaniem (w jednym) YWDXpek 75 1,0/4,8 + OMY 2x1,0; CESAT; CZARNY UV | D330: km | F330: 1 | G330: =VLOOKUP(A330,'CET uproszczony 1 03 2021'!$B$3:$G$726,6,0) -> 3310 | H330: PLN | I330: 0.23 | K330: 500 | L330: 5903669445067 | M330: CET | N330: KC | O330: 9.0 | P330: 27.32.12.0 | Q330: 8544200090 | R330: EC000019 | T330: 90.18 | U330: 90.18
A331: KAB10000963 | B331: YWDXpek 75 1,0/4,8+OMY 2x1,0; CESAT; CZARNY UV | C331: Przewód koncentryczny z zasilaniem (w jednym) YWDXpek 75 1,0/4,8 + OMY 2x1,0; CESAT; CZARNY UV | D331: km | F331: 1 | G331: =VLOOKUP(A331,'CET uproszczony 1 03 2021'!$B$3:$G$726,6,0) -> 3310 | H331: PLN | I331: 0.23 | K331: 1000 | L331: 5903669445074 | M331: CET | N331: KC | O331: 9.0 | P331: 27.32.12.0 | Q331: 8544200090 | R331: EC000019 | T331: 90.18 | U331: 90.18
A332: KAB10000981 | B332: YWDek 75 0,59/3,7 +OMY 2X0,5; CZARNY UV | C332: Przewód koncentryczny z zasilaniem (w jednym) YWDek 75 0,59/3,7 + OMY 2X0,5; CZARNY UV | D332: km | F332: 1 | G332: =VLOOKUP(A332,'CET uproszczony 1 03 2021'!$B$3:$G$726,6,0) -> 2680 | H332: PLN | I332: 0.23 | K332: 100 | L332: 5903669443834 | M332: CET | N332: KC | O332: 9.0 | P332: 27.32.12.0 | Q332: 8544200090 | R332: EC000019 | T332: 74.95 | U332: 74.95
A333: KAB10000981 | B333: YWDek 75 0,59/3,7 +OMY 2X0,5; CZARNY UV | C333: Przewód koncentryczny z zasilaniem (w jednym) YWDek 75 0,59/3,7 + OMY 2X0,5; CZARNY UV | D333: km | F333: 1 | G333: =VLOOKUP(A333,'CET uproszczony 1 03 2021'!$B$3:$G$726,6,0) -> 2680 | H333: PLN | I333: 0.23 | K333: 300 | L333: 5903669445166 | M333: CET | N333: KC | O333: 9.0 | P333: 27.32.12.0 | Q333: 8544200090 | R333: EC000019 | T333: 74.95 | U333: 74.95
A334: KAB10000981 | B334: YWDek 75 0,59/3,7 +OMY 2X0,5; CZARNY UV | C334: Przewód koncentryczny z zasilaniem (w jednym) YWDek 75 0,59/3,7 + OMY 2X0,5; CZARNY UV | D334: km | F334: 1 | G334: =VLOOKUP(A334,'CET uproszczony 1 03 2021'!$B$3:$G$726,6,0) -> 2680 | H334: PLN | I334: 0.23 | K334: 500 | L334: 5903669445173 | M334: CET | N334: KC | O334: 9.0 | P334: 27.32.12.0 | Q334: 8544200090 | R334: EC000019 | T334: 74.95 | U334: 74.95
...

Sheet CET uproszczony 1 03 2021
A1: 1.03.2021 | B1: INDEKS | C1: SYMBOL | D1: GRUPA RABAT. | E1: NAZWA WYROBU | F1: JM | G1: CENNIK netto 1.03.2021 | H1: DODATKOWE INFORMACJE | I1: RABAT | J1: CENA ZAKUPU
D2: KC | E2: Przewody koncentryczne CESAT UHD (4K) | H2: Wpisz tu swój rabat
B3: KAB10000773 | C3: XWDXpek 75 1,0/4,8; czarny; CESAT | D3: =$D$2 -> KC | E3: Przewód koncentryczny XWDXpek 75 1,0/4,8; czarny UV; (UHD-4K); CESAT | F3: km | G3: 1815 | I3: =$I$2 -> 0 | J3: =G3-G3*I3 -> 1815
B4: KAB10000774 | C4: YWDXpek 75 1,0/4,8; CESAT | D4: =$D$2 -> KC | E4: Przewód koncentryczny YWDXpek 75 1,0/4,8; Eca; (UHD-4K); CESAT | F4: km | G4: 1780 | I4: =$I$2 -> 0 | J4: =G4-G4*I4 -> 1780
B5: KAB10000775 | C5: YWDXpek 75 1,0/4,8 kl.A, Eca; CESAT | D5: =$D$2 -> KC | E5: Przewód koncentryczny YWDXpek 75 1,0/4,8 (77% CuSn) Eca; (UHD-4K); CESAT | F5: km | G5: 2470 | I5: =$I$2 -> 0 | J5: =G5-G5*I5 -> 2470
B6: KAB10000785 | C6: HWDXpek 75 1,0/4,8; CESAT | D6: =$D$2 -> KC | E6: Przewód koncentryczny HWDXpek 75 1,0/4,8; Eca; (UHD-4K); bezhalogen. CESAT | F6: km | G6: 1770 | I6: =$I$2 -> 0 | J6: =G6-G6*I6 -> 1770
B7: KAB10000793 | C7: YWDXpek 75 1,0/4,8 TRISHIELD, CESAT | D7: =$D$2 -> KC | E7: Przewód koncentryczny YWDXpek 75 1,0/4,8 TRISHIELD, ekran AL./PET + oplot 33% + ekran AL./PET; Eca; (UHD-4K); CESAT | F7: km | G7: 1930 | H7: Na zamówienie poprzedzone zapytaniem ofertowym | I7: =$I$2 -> 0 | J7: =G7-G7*I7 -> 1930
B8: KAB10000811 | C8: HWDXpek 75 1,0/4,8 TRISHIELD, CESAT | D8: =$D$2 -> KC | E8: Przewód koncentryczny HWDXpek 75 1,0/4,8 TRISHIELD, ekran AL./PET + oplot 33% + ekran AL./PET; Eca; (UHD-4K); bezhalogen. CESAT | F8: km | G8: 1840 | H8: Na zamówienie poprzedzone zapytaniem ofertowym | I8: =$I$2 -> 0 | J8: =G8-G8*I8 -> 1840
B9: KAB10000814 | C9: YWDXpek 75 1,0/4,8 TRISHIELD kl.A, CESAT | D9: =$D$2 -> KC | E9: Przewód koncentryczny YWDXpek 75 1,0/4,8 TRISHIELD kl.A ekran AL./PET + oplot 77% + ekran AL./PET; Eca; (UHD-4K); CESAT | F9: km | G9: 2600 | H9: Na zamówienie poprzedzone zapytaniem ofertowym | I9: =$I$2 -> 0 | J9: =G9-G9*I9 -> 2600
B10: KAB10000817 | C10: HWDXpek 75 1,0/4,8 TRISHIELD kl.A, CESAT | D10: =$D$2 -> KC | E10: Przewód koncentryczny HWDXpek 75 1,0/4,8 TRISHIELD kl.A ekran AL./PET + oplot 77% + ekran AL./PET; Eca; (UHD-4K); bezhalogen. CESAT | F10: km | G10: 2680 | H10: Na zamówienie poprzedzone zapytaniem ofertowym | I10: =$I$2 -> 0 | J10: =G10-G10*I10 -> 2680
B11: KAB10000826 | C11: YWDXpek 75 1,13/4,8 , CESAT | D11: =$D$2 -> KC | E11: Przewód koncentryczny YWDXpek 75 1,13/4,8 ; ekran AL./PET + oplot 33%; Eca; (UHD-4K); CESAT | F11: km | G11: 1970 | I11: =$I$2 -> 0 | J11: =G11-G11*I11 -> 1970
B12: KAB10000827 | C12: HWDXpek 75 1,13/4,8 , CESAT | D12: =$D$2 -> KC | E12: Przewód koncentryczny HWDXpek 75 1,13/4,8 ; ekran AL./PET + oplot 33%; Eca; (UHD-4K); bezhalogen. CESAT | F12: km | G12: 2050 | H12: Na zamówienie poprzedzone zapytaniem ofertowym | I12: =$I$2 -> 0 | J12: =G12-G12*I12 -> 2050
B13: KAB10000836 | C13: YWDXpek 75 1,13/4,8 kl.A, CESAT | D13: =$D$2 -> KC | E13: Przewód koncentryczny YWDXpek 75 1,13/4,8 kl.A ekran AL./PET + oplot 77%; Eca; (UHD-4K); CESAT | F13: km | G13: 2480 | I13: =$I$2 -> 0 | J13: =G13-G13*I13 -> 2480
B14: KAB10000889 | C14: HWDXpek 75 1,13/4,8 kl.A | D14: =$D$2 -> KC | E14: Przewód koncentryczny HWDXpek 75 1,13/4,8 kl.A ekran AL./PET + oplot 77%; Eca;(UHD-4K); bezhalogen. CESAT | F14: km | G14: 2580 | H14: Na zamówienie poprzedzone zapytaniem ofertowym | I14: =$I$2 -> 0 | J14: =G14-G14*I14 -> 2580
B15: KAB10000914 | C15: YWDXpek 75 1,15/5,0 CESAT | D15: =$D$2 -> KC | E15: Przewód koncentryczny YWDXpek 75 1,15/5,0; Eca; (UHD-4K); CESAT | F15: km | G15: 2050 | I15: =$I$2 -> 0 | J15: =G15-G15*I15 -> 2050
B16: KAB10000915 | C16: XzWDXpekw 75 1,0/4,8 CESAT | D16: =$D$2 -> KC | E16: Przewód koncentryczny XzWDXpekw 75 1,0/4,8 czarny (wypełnienie żelem); (UHD-4K); CESAT | F16: km | G16: 2250 | I16: =$I$2 -> 0 | J16: =G16-G16*I16 -> 2250
B17: KAB10000918 | C17: XzWDXpekw 75 1,13/4,8 CESAT | D17: =$D$2 -> KC | E17: Przewód koncentryczny XzWDXpekw 75 1,13/4,8 czarny (wypełnienie żelem); (UHD-4K); CESAT | F17: km | G17: 2550 | H17: Na zamówienie poprzedzone zapytaniem ofertowym | I17: =$I$2 -> 0 | J17: =G17-G17*I17 -> 2550
B18: KAB10001013 | C18: YWD 75 0,59/3,7 + OMY 2x0,50 | D18: =$D$2 -> KC | E18: Przewód koncentryczny z zasilaniem (w jednym) YWD 75 0,59/3,7 + OMY 2x0,50 | F18: km | G18: 2990 | I18: =$I$2 -> 0 | J18: =G18-G18*I18 -> 2990
B19: KAB10000950 | C19: YWD 75 0,59/3,7+OMY 2x0,50; CZARNY UV | D19: =$D$2 -> KC | E19: Przewód koncentryczny z zasilaniem (w jednym) YWD 75 0,59/3,7 + OMY 2x0,50; CZARNY UV | F19: km | G19: 2990 | H19: Na zamówienie poprzedzone zapytaniem ofertowym | I19: =$I$2 -> 0 | J19: =G19-G19*I19 -> 2990
B20: KAB10000953 | C20: YWDXpek 75 1,0/4,8+OMY 2x1,0; CESAT | D20: =$D$2 -> KC | E20: Przewód koncentryczny z zasilaniem (w jednym) YWDXpek 75 1,0/4,8 + OMY 2x1,0; CESAT | F20: km | G20: 3310 | I20: =$I$2 -> 0 | J20: =G20-G20*I20 -> 3310
B21: KAB10000963 | C21: YWDXpek 75 1,0/4,8+OMY 2x1,0; CESAT; CZARNY UV | D21: =$D$2 -> KC | E21: Przewód koncentryczny z zasilaniem (w jednym) YWDXpek 75 1,0/4,8 + OMY 2x1,0; CESAT; CZARNY UV | F21: km | G21: 3310 | H21: Na zamówienie poprzedzone zapytaniem ofertowym | I21: =$I$2 -> 0 | J21: =G21-G21*I21 -> 3310
B22: KAB10001015 | C22: YWDek 75 0,59/3,7+OMY 2X0,50 | D22: =$D$2 -> KC | E22: Przewód koncentryczny z zasilaniem (w jednym) YWDek 75 0,59/3,7 + OMY 2X0,50 | F22: km | G22: 2680 | I22: =$I$2 -> 0 | J22: =G22-G22*I22 -> 2680
B23: KAB10000981 | C23: YWDek 75 0,59/3,7 +OMY 2X0,5; CZARNY UV | D23: =$D$2 -> KC | E23: Przewód koncentryczny z zasilaniem (w jednym) YWDek 75 0,59/3,7 + OMY 2X0,5; CZARNY UV | F23: km | G23: 2680 | H23: Na zamówienie poprzedzone zapytaniem ofertowym | I23: =$I$2 -> 0 | J23: =G23-G23*I23 -> 2680
B24: KAB10000391 | C24: RG 59 B/U | D24: =$D$2 -> KC | E24: Przewód koncentryczny RG 59 B/U, biały | F24: km | G24: 2150 | I24: =$I$2 -> 0 | J24: =G24-G24*I24 -> 2150
B25: KAB10000392 | C25: RG 59 B/U | D25: =$D$2 -> KC | E25: Przewód koncentryczny RG 59 B/U, czarny | F25: km | G25: 2160 | H25: Na zamówienie poprzedzone zapytaniem ofertowym | I25: =$I$2 -> 0 | J25: =G25-G25*I25 -> 2160
D26: TI | E26: Przewody teleinformatyczne | H26: Wpisz tu swój rabat
B27: KAB10000462 | C27: UTP KAT. 5e 4x2x0,50 SZR | D27: =$D$26 -> TI | E27: Przewód teleinformatyczny UTP KAT 5e 4x2x0,50 | G27: 1265 | I27: =$I$26 -> 0 | J27: =G27-G27*I27 -> 1265
B28: KAB10001008 | C28: UTP KAT. 6 4x2x0,60 SZR | D28: =$D$26 -> TI | E28: Przewód teleinformatyczny UTP KAT 6 4x2x0,60 | G28: 1948 | I28: =$I$26 -> 0 | J28: =G28-G28*I28 -> 1948
B29: KAB10000758 | C29: UTPz KAT. 5e 4x2x0,50 CZR | D29: =$D$26 -> TI | E29: Przewód teleinformatyczny UTPz KAT 5e 4x2x0,5; czarny UV | G29: 1398 | I29: =$I$26 -> 0 | J29: =G29-G29*I29 -> 1398
B30: KAB10000727 | C30: UTPw KAT. 5e 4x2x0,50 CZN | D30: =$D$26 -> TI | E30: Przewód teleinformatyczny UTPw KAT 5e 4x2x0,5; (wypełnienie żelem) | G30: 1960 | I30: =$I$26 -> 0 | J30: =G30-G30*I30 -> 1960
B31: KAB10000870 | C31: UTP KAT. 5e 4x2x0,50 LSOH | D31: =$D$26 -> TI | E31: Przewód teleinformatyczny UTP KAT 5e 4x2x0,5 LSOH | G31: 1341 | I31: =$I$26 -> 0 | J31: =G31-G31*I31 -> 1341
B32: KAB10000872 | C32: UTP KAT. 6 4x2x0,60 LSOH | D32: =$D$26 -> TI | E32: Przewód teleinformatyczny UTP KAT 6 4x2x0,60 LSOH | G32: 2117 | H32: Na zamówienie poprzedzone zapytaniem ofertowym | I32: =$I$26 -> 0 | J32: =G32-G32*I32 -> 2117
B33: KAB10000054 | C33: FTP KAT. 5e 4x2x0,50 SZR | D33: =$D$26 -> TI | E33: Przewód teleinformatyczny FTP KAT 5e 4x2x0,5 | G33: 1500 | I33: =$I$26 -> 0 | J33: =G33-G33*I33 -> 1500
B34: KAB10000759 | C34: FTPz KAT. 5e 4x2x0,50 CZR | D34: =$D$26 -> TI | E34: Przewód teleinformatyczny FTPz KAT 5e 4x2x0,5; czarny UV | G34: 1589 | I34: =$I$26 -> 0 | J34: =G34-G34*I34 -> 1589
B35: KAB10000715 | C35: FTPw KAT. 5e 4x2x0,50 CZN | D35: =$D$26 -> TI | E35: Przewód teleinformatyczny FTPw KAT 5e 4x2x0,5; (wypełnienie żelem) | G35: 2190 | I35: =$I$26 -> 0 | J35: =G35-G35*I35 -> 2190
B36: KAB10000871 | C36: FTP KAT. 5e 4x2x0,50 LSOH | D36: =$D$26 -> TI | E36: Przewód teleinformatyczny FTP KAT 5e 4x2x0,60 LSOH | G36: 1682 | H36: Na zamówienie poprzedzone zapytaniem ofertowym | I36: =$I$26 -> 0 | J36: =G36-G36*I36 -> 1682
D37: SOL | E37: Kable fotowoltaiczne SOLARCET | H37: Wpisz tu swój rabat
B38: KAB10002016 | C38: H1Z2Z2-K 1x2,5 SOLARCET | D38: =$D$37 -> SOL | E38: Kabel fotowoltaiczny H1Z2Z2-K 1x2,5 1,0/1KV SOLARCET, czarny | G38: 2450 | I38: =$I$37 -> 0 | J38: =G38-G38*I38 -> 2450
B39: KAB10002017 | C39: H1Z2Z2-K 1x2,5 SOLARCET | D39: =$D$37 -> SOL | E39: Kabel fotowoltaiczny H1Z2Z2-K 1x2,5 1,0/1KV SOLARCET, czerwony | G39: 2450 | I39: =$I$37 -> 0 | J39: =G39-G39*I39 -> 2450
B40: KAB10002018 | C40: H1Z2Z2-K 1x2,5 SOLARCET | D40: =$D$37 -> SOL | E40: Kabel fotowoltaiczny H1Z2Z2-K 1x2,5 1,0/1KV SOLARCET, niebieski | G40: 2450 | I40: =$I$37 -> 0 | J40: =G40-G40*I40 -> 2450
B41: KAB10002019 | C41: H1Z2Z2-K 1x4,0 SOLARCET | D41: =$D$37 -> SOL | E41: Kabel fotowoltaiczny H1Z2Z2-K 1x4,0 1,0/1KV SOLARCET, czarny | G41: 3490 | I41: =$I$37 -> 0 | J41: =G41-G41*I41 -> 3490
B42: KAB10002020 | C42: H1Z2Z2-K 1x4,0 SOLARCET | D42: =$D$37 -> SOL | E42: Kabel fotowoltaiczny H1Z2Z2-K 1x4,0 1,0/1KV SOLARCET, czerwony | G42: 3490 | I42: =$I$37 -> 0 | J42: =G42-G42*I42 -> 3490
B43: KAB10002021 | C43: H1Z2Z2-K 1x4,0 SOLARCET | D43: =$D$37 -> SOL | E43: Kabel fotowoltaiczny H1Z2Z2-K 1x4,0 1,0/1KV SOLARCET, niebieski | G43: 3490 | I43: =$I$37 -> 0 | J43: =G43-G43*I43 -> 3490
B44: KAB10002022 | C44: H1Z2Z2-K 1x6,0 SOLARCET | D44: =$D$37 -> SOL | E44: Kabel fotowoltaiczny H1Z2Z2-K 1x6,0 1,0/1KV SOLARCET, czarny | G44: 4699 | I44: =$I$37 -> 0 | J44: =G44-G44*I44 -> 4699
B45: KAB10002023 | C45: H1Z2Z2-K 1x6,0 SOLARCET | D45: =$D$37 -> SOL | E45: Kabel fotowoltaiczny H1Z2Z2-K 1x6,0 1,0/1KV SOLARCET, czerwony | G45: 4699 | I45: =$I$37 -> 0 | J45: =G45-G45*I45 -> 4699
B46: KAB10002024 | C46: H1Z2Z2-K 1x6,0 SOLARCET | D46: =$D$37 -> SOL | E46: Kabel fotowoltaiczny H1Z2Z2-K 1x6,0 1,0/1KV SOLARCET, niebieski | G46: 4699 | I46: =$I$37 -> 0 | J46: =G46-G46*I46 -> 4699
D47: TK0,5 | E47: Kable telekomunikacyjne stacyjne z żyłami o średnicy 0,5 mm | H47: Wpisz tu swój rabat
B48: KAB10000660 | C48: YTKSY 1x2x0,50 BIA | D48: =$D$47 -> TK0,5 | E48: Kabel telekomunikacyjny, stacyjny YTKSY 1x2x0,50 Biały | G48: 435 | I48: =$I$47 -> 0 | J48: =G48-G48*I48 -> 435
B49: KAB10000662 | C49: YTKSY 1x4x0,50 BIA | D49: =$D$47 -> TK0,5 | E49: Kabel telekomunikacyjny, stacyjny YTKSY 1x4x0,50 Biały | G49: 640 | I49: =$I$47 -> 0 | J49: =G49-G49*I49 -> 640
B50: KAB10000665 | C50: YTKSY 2x2x0,50 BIA | D50: =$D$47 -> TK0,5 | E50: Kabel telekomunikacyjny, stacyjny YTKSY 2x2x0,50 Biały | G50: 670 | I50: =$I$47 -> 0 | J50: =G50-G50*I50 -> 670
B51: KAB10000668 | C51: YTKSY 3x2x0,50 BIA | D51: =$D$47 -> TK0,5 | E51: Kabel telekomunikacyjny, stacyjny YTKSY 3x2x0,50 Biały | G51: 887 | I51: =$I$47 -> 0 | J51: =G51-G51*I51 -> 887
B52: KAB10000669 | C52: YTKSY 4x2x0,50 BIA | D52: =$D$47 -> TK0,5 | E52: Kabel telekomunikacyjny, stacyjny YTKSY 4x2x0,50 Biały | G52: 1100 | I52: =$I$47 -> 0 | J52: =G52-G52*I52 -> 1100
B53: KAB10000670 | C53: YTKSY 5x2x0,50 BIA | D53: =$D$47 -> TK0,5 | E53: Kabel telekomunikacyjny, stacyjny YTKSY 5x2x0,50 Biały | G53: 1340 | I53: =$I$47 -> 0 | J53: =G53-G53*I53 -> 1340
B54: KAB10000671 | C54: YTKSY 6x2x0,50 BIA | D54: =$D$47 -> TK0,5 | E54: Kabel telekomunikacyjny, stacyjny YTKSY 6x2x0,50 Biały | G54: 1585 | I54: =$I$47 -> 0 | J54: =G54-G54*I54 -> 1585
B55: KAB10000672 | C55: YTKSY 7x2x0,50 BIA | D55: =$D$47 -> TK0,5 | E55: Kabel telekomunikacyjny, stacyjny YTKSY 7x2x0,50 Biały | G55: 1780 | I55: =$I$47 -> 0 | J55: =G55-G55*I55 -> 1780
B56: KAB10000673 | C56: YTKSY 8x2x0,50 BIA | D56: =$D$47 -> TK0,5 | E56: Kabel telekomunikacyjny, stacyjny YTKSY 8x2x0,50 Biały | G56: 2025 | I56: =$I$47 -> 0 | J56: =G56-G56*I56 -> 2025
B57: KAB10000657 | C57: YTKSY 10x2x0,50 BIA | D57: =$D$47 -> TK0,5 | E57: Kabel telekomunikacyjny, stacyjny YTKSY 10x2x0,50 Biały | G57: 2499 | I57: =$I$47 -> 0 | J57: =G57-G57*I57 -> 2499
B58: KAB10000677 | C58: YTKSYekw 1x2x0,50 BIA | D58: =$D$47 -> TK0,5 | E58: Kabel telekomunikacyjny, stacyjny YTKSYekw 1x2x0,50 Biały | G58: 610 | I58: =$I$47 -> 0 | J58: =G58-G58*I58 -> 610
B59: KAB10000678 | C59: YTKSYekw 1x4x0,50 BIA | D59: =$D$47 -> TK0,5 | E59: Kabel telekomunikacyjny, stacyjny YTKSYekw 1x4x0,50 Biały | G59: 797 | H59: Na zamówienie z określonym minimum produkcyjnym. | I59: =$I$47 -> 0 | J59: =G59-G59*I59 -> 797
B60: KAB10000682 | C60: YTKSYekw 2x2x0,50 BIA | D60: =$D$47 -> TK0,5 | E60: Kabel telekomunikacyjny, stacyjny YTKSYekw 2x2x0,50 Biały | G60: 830 | I60: =$I$47 -> 0 | J60: =G60-G60*I60 -> 830
B61: KAB10000685 | C61: YTKSYekw 3x2x0,50 BIA | D61: =$D$47 -> TK0,5 | E61: Kabel telekomunikacyjny, stacyjny YTKSYekw 3x2x0,50 Biały | G61: 1041 | H61: Na zamówienie z określonym minimum produkcyjnym. | I61: =$I$47 -> 0 | J61: =G61-G61*I61 -> 1041
B62: KAB10000686 | C62: YTKSYekw 4x2x0,50 BIA | D62: =$D$47 -> TK0,5 | E62: Kabel telekomunikacyjny, stacyjny YTKSYekw 4x2x0,50 Biały | G62: 1270 | I62: =$I$47 -> 0 | J62: =G62-G62*I62 -> 1270
B63: KAB10000687 | C63: YTKSYekw 5x2x0,50 BIA | D63: =$D$47 -> TK0,5 | E63: Kabel telekomunikacyjny, stacyjny YTKSYekw 5x2x0,50 Biały | G63: 1520 | H63: Na zamówienie z określonym minimum produkcyjnym. | I63: =$I$47 -> 0 | J63: =G63-G63*I63 -> 1520
B64: KAB10000689 | C64: YTKSYekw 6x2x0,50 BIA | D64: =$D$47 -> TK0,5 | E64: Kabel telekomunikacyjny, stacyjny YTKSYekw 6x2x0,50 Biały | G64: 1775 | H64: Na zamówienie z określonym minimum produkcyjnym. | I64: =$I$47 -> 0 | J64: =G64-G64*I64 -> 1775
B65: KAB10000690 | C65: YTKSYekw 7x2x0,50 BIA | D65: =$D$47 -> TK0,5 | E65: Kabel telekomunikacyjny, stacyjny YTKSYekw 7x2x0,50 Biały | G65: 1988 | H65: Na zamówienie z określonym minimum produkcyjnym. | I65: =$I$47 -> 0 | J65: =G65-G65*I65 -> 1988
B66: KAB10000691 | C66: YTKSYekw 8x2x0,50 BIA | D66: =$D$47 -> TK0,5 | E66: Kabel telekomunikacyjny, stacyjny YTKSYekw 8x2x0,50 Biały | G66: 2285 | H66: Na zamówienie z określonym minimum produkcyjnym. | I66: =$I$47 -> 0 | J66: =G66-G66*I66 -> 2285
B67: KAB10000674 | C67: YTKSYekw 10x2x0,50 BIA | D67: =$D$47 -> TK0,5 | E67: Kabel telekomunikacyjny, stacyjny YTKSYekw 10x2x0,50 Biały | G67: 2670 | H67: Na zamówienie z określonym minimum produkcyjnym. | I67: =$I$47 -> 0 | J67: =G67-G67*I67 -> 2670
D68: TK0,8 | E68: Kable telekomunikacyjne stacyjne z żyłami o średnicy 0,8 mm | H68: Wpisz tu swój rabat
B69: KAB10000661 | C69: YTKSY 1x2x0,80 BIA | D69: =$D$68 -> TK0,8 | E69: Stacyjny kabel telekomunikacyjny YTKSY 1x2x0,80 | G69: 805 | I69: =$I$68 -> 0 | J69: =G69-G69*I69 -> 805
B70: KAB10000879 | C70: YTKSY 1x4x0,80 BIA | D70: =$D$68 -> TK0,8 | E70: Stacyjny kabel telekomunikacyjny YTKSY 1x4x0,80 | G70: 1345 | I70: =$I$68 -> 0 | J70: =G70-G70*I70 -> 1345
B71: KAB10000666 | C71: YTKSY 2x2x0,80 BIA | D71: =$D$68 -> TK0,8 | E71: Stacyjny kabel telekomunikacyjny YTKSY 2x2x0,80 | G71: 1449 | I71: =$I$68 -> 0 | J71: =G71-G71*I71 -> 1449
B72: KAB10000880 | C72: YTKSY 3x2x0,80 BIA | D72: =$D$68 -> TK0,8 | E72: Stacyjny kabel telekomunikacyjny YTKSY 3x2x0,80 | G72: 1968 | H72: Na zamówienie poprzedzone zapytaniem ofertowym | I72: =$I$68 -> 0 | J72: =G72-G72*I72 -> 1968
B73: KAB10000730 | C73: YTKSY 5x2x0,80 BIA | D73: =$D$68 -> TK0,8 | E73: Stacyjny kabel telekomunikacyjny YTKSY 5x2x0,80 | G73: 3106 | H73: Na zamówienie z określonym minimum produkcyjnym. | I73: =$I$68 -> 0 | J73: =G73-G73*I73 -> 3106
B74: KAB10000874 | C74: YTKSYekw 1x2x0,80 BIA | D74: =$D$68 -> TK0,8 | E74: Stacyjny kabel telekomunikacyjny YTKSYekw 1x2x0,80 | G74: 960 | I74: =$I$68 -> 0 | J74: =G74-G74*I74 -> 960
B75: KAB10000679 | C75: YTKSYekw 1x4x0,80 BIA | D75: =$D$68 -> TK0,8 | E75: Stacyjny kabel telekomunikacyjny YTKSYekw 1x4x0,80 | G75: 1492 | H75: Na zamówienie z określonym minimum produkcyjnym. | I75: =$I$68 -> 0 | J75: =G75-G75*I75 -> 1492
B76: KAB10000683 | C76: YTKSYekw 2x2x0,80 BIA | D76: =$D$68 -> TK0,8 | E76: Stacyjny kabel telekomunikacyjny YTKSYekw 2x2x0,80 | G76: 1545 | H76: Na zamówienie z określonym minimum produkcyjnym. | I76: =$I$68 -> 0 | J76: =G76-G76*I76 -> 1545
B77: KAB10000881 | C77: YTKSYekw 3x2x0,80 BIA | D77: =$D$68 -> TK0,8 | E77: Stacyjny kabel telekomunikacyjny YTKSYekw 3x2x0,80 | G77: 2121 | H77: Na zamówienie z określonym minimum produkcyjnym. | I77: =$I$68 -> 0 | J77: =G77-G77*I77 -> 2121
B78: KAB10000688 | C78: YTKSYekw 5x2x0,80 BIA | D78: =$D$68 -> TK0,8 | E78: Stacyjny kabel telekomunikacyjny YTKSYekw 5x2x0,80 | G78: 3315 | H78: Na zamówienie z określonym minimum produkcyjnym. | I78: =$I$68 -> 0 | J78: =G78-G78*I78 -> 3315
D79: TKn | E79: Kable telekomunikacyjne stacyjne nierozprzestrzeniające ognia | H79: Wpisz tu swój rabat
B80: KAB10000490 | C80: YnTKSY 1x2x0,80 CZE | D80: =$D$79 -> TKn | E80: Stacyjny kabel telekomunikacyjny nierozprzestrzenniający ognia YnTKSY 1x2x0,80 | G80: 938 | I80: =$I$79 -> 0 | J80: =G80-G80*I80 -> 938
B81: KAB10000491 | C81: YnTKSY 1x2x1,00 CZE | D81: =$D$79 -> TKn | E81: Stacyjny kabel telekomunikacyjny nierozprzestrzenniający ognia YnTKSY 1x2x1,0 | G81: 1356 | I81: =$I$79 -> 0 | J81: =G81-G81*I81 -> 1356
B82: KAB10000493 | C82: YnTKSY 1x4x0,80 CZE | D82: =$D$79 -> TKn | E82: Stacyjny kabel telekomunikacyjny nierozprzestrzenniający ognia YnTKSY 1x4x0,80 | G82: 1556 | I82: =$I$79 -> 0 | J82: =G82-G82*I82 -> 1556
B83: KAB10000494 | C83: YnTKSY 2x2x0,80 CZE | D83: =$D$79 -> TKn | E83: Stacyjny kabel telekomunikacyjny nierozprzestrzenniający ognia YnTKSY 2x2x0,80 | G83: 1799 | I83: =$I$79 -> 0 | J83: =G83-G83*I83 -> 1799
B84: KAB10000882 | C84: YnTKSY 3x2x0,80 CZE | D84: =$D$79 -> TKn | E84: Stacyjny kabel telekomunikacyjny nierozprzestrzenniający ognia YnTKSY 3x2x0,80 | G84: 2270 | H84: Na zamówienie z określonym minimum produkcyjnym. | I84: =$I$79 -> 0 | J84: =G84-G84*I84 -> 2270
B85: KAB10000495 | C85: YnTKSY 4x2x0,80 CZE | D85: =$D$79 -> TKn | E85: Stacyjny kabel telekomunikacyjny nierozprzestrzenniający ognia YnTKSY 4x2x0,80 | G85: 3180 | H85: Na zamówienie z określonym minimum produkcyjnym. | I85: =$I$79 -> 0 | J85: =G85-G85*I85 -> 3180
B86: KAB10001010 | C86: YnTKSYekw 1x2x0,80 CZE | D86: =$D$79 -> TKn | E86: Stacyjny kabel telekomunikacyjny nierozprzestrzenniający ognia YnTKSYekw 1x2x0,80 | G86: 1100 | I86: =$I$79 -> 0 | J86: =G86-G86*I86 -> 1100
B87: KAB10000497 | C87: YnTKSYekw 1x2x1,00 CZE | D87: =$D$79 -> TKn | E87: Stacyjny kabel telekomunikacyjny nierozprzestrzenniający ognia YnTKSYekw 1x2x1,00 | G87: 1490 | I87: =$I$79 -> 0 | J87: =G87-G87*I87 -> 1490
B88: KAB10000883 | C88: YnTKSYekw 1x4x0,80 CZE | D88: =$D$79 -> TKn | E88: Stacyjny kabel telekomunikacyjny nierozprzestrzenniający ognia YnTKSYekw 1x4x0,80 | G88: 1730 | I88: =$I$79 -> 0 | J88: =G88-G88*I88 -> 1730
B89: KAB10001011 | C89: YnTKSYekw 2x2x0,80 CZE | D89: =$D$79 -> TKn | E89: Stacyjny kabel telekomunikacyjny nierozprzestrzenniający ognia YnTKSYekw 2x2x0,80 | G89: 1820 | I89: =$I$79 -> 0 | J89: =G89-G89*I89 -> 1820
B90: KAB10000500 | C90: YnTKSYekw 3x2x0,80 CZE | D90: =$D$79 -> TKn | E90: Stacyjny kabel telekomunikacyjny nierozprzestrzenniający ognia YnTKSYekw 3x2x0,80 | G90: 2541 | H90: Na zamówienie z określonym minimum produkcyjnym. | I90: =$I$79 -> 0 | J90: =G90-G90*I90 -> 2541
B91: KAB10000501 | C91: YnTKSYekw 4x2x0,80 CZE | D91: =$D$79 -> TKn | E91: Stacyjny kabel telekomunikacyjny nierozprzestrzenniający ognia YnTKSYekw 4x2x0,80 | G91: 3138 | H91: Na zamówienie z określonym minimum produkcyjnym. | I91: =$I$79 -> 0 | J91: =G91-G91*I91 -> 3138
D92: TD | E92: Przewody telekomunikacyjne montażowe (alarmowe) | H92: Wpisz tu swój rabat
B93: KAB10000394 | C93: TDY 1x0,50 BIA | D93: =$D$92 -> TD | E93: Przewód telekomunikacyjny – montażowy TDY 1x0,50 BIA | G93: 182 | H93: Na zamówienie z określonym minimum produkcyjnym. | I93: =$I$92 -> 0 | J93: =G93-G93*I93 -> 182
B94: KAB10000396 | C94: TDY 1x0,50 CZN | D94: =$D$92 -> TD | E94: Przewód telekomunikacyjny – montażowy TDY 1x0,50 CZN | G94: 182 | H94: Na zamówienie z określonym minimum produkcyjnym. | I94: =$I$92 -> 0 | J94: =G94-G94*I94 -> 182
B95: KAB10000399 | C95: TDY 1x0,50 NIE | D95: =$D$92 -> TD | E95: Przewód telekomunikacyjny – montażowy TDY 1x0,50 NIE | G95: 182 | H95: Na zamówienie z określonym minimum produkcyjnym. | I95: =$I$92 -> 0 | J95: =G95-G95*I95 -> 182
B96: KAB10000646 | C96: YTDY 10x0,50 BIA | D96: =$D$92 -> TD | E96: Przewód telekomunikacyjny – montażowy YTDY 10x0,50 BIA | G96: 1438 | I96: =$I$92 -> 0 | J96: =G96-G96*I96 -> 1438
B97: KAB10000647 | C97: YTDY 12x0,50 BIA | D97: =$D$92 -> TD | E97: Przewód telekomunikacyjny – montażowy YTDY 12x0,50 BIA | G97: 1679 | I97: =$I$92 -> 0 | J97: =G97-G97*I97 -> 1679
B98: KAB10000648 | C98: YTDY 2x0,50 BIA | D98: =$D$92 -> TD | E98: Przewód telekomunikacyjny – montażowy YTDY 2x0,50 BIA | G98: 502 | I98: =$I$92 -> 0 | J98: =G98-G98*I98 -> 502
B99: KAB10000649 | C99: YTDY 4x0,50 BIA | D99: =$D$92 -> TD | E99: Przewód telekomunikacyjny – montażowy YTDY 4x0,50 BIA | G99: 714 | I99: =$I$92 -> 0 | J99: =G99-G99*I99 -> 714
B100: KAB10000650 | C100: YTDY 6x0,50 BIA | D100: =$D$92 -> TD | E100: Przewód telekomunikacyjny – montażowy YTDY 6x0,50 BIA | G100: 948 | I100: =$I$92 -> 0 | J100: =G100-G100*I100 -> 948
...

Sheet MATEC uproszczony 1 03 2021
A1: ='CET uproszczony 1 03 2021'!A1 -> 1.03.2021 | B1: INDEKS | C1: SYMBOL | D1: GRUPA RABATOWA | E1: NAZWA WYROBU | F1: JM | G1: ='CET uproszczony 1 03 2021'!G1 -> CENNIK netto 1.03.2021 | H1: DODATKOWE INFORMACJE | I1: RABAT | J1: CENA ZAKUPU
D2: MATEC | E2: Elektryczne ogrzewanie podłogowe | H2: Wpisz tu swój rabat
A3: 1. | B3: MTC10000201 | C3: MOD-10 | D3: MATEC | E3: Mata grzejna dwustronnie zasilana 150W/m2 TYP: MOD-10 | F3: szt | G3: 258 | I3: =$I$2 -> 0 | J3: =G3-G3*I3 -> 258
A4: 2. | B4: MTC10000202 | C4: MOD-15 | D4: MATEC | E4: Mata grzejna dwustronnie zasilana 150W/m2 TYP: MOD-15 | F4: szt | G4: 317 | I4: =$I$2 -> 0 | J4: =G4-G4*I4 -> 317
A5: 3. | B5: MTC10000203 | C5: MOD-20 | D5: MATEC | E5: Mata grzejna dwustronnie zasilana 150W/m2 TYP: MOD-20 | F5: szt | G5: 395 | I5: =$I$2 -> 0 | J5: =G5-G5*I5 -> 395
A6: 4. | B6: MTC10000204 | C6: MOD-25 | D6: MATEC | E6: Mata grzejna dwustronnie zasilana 150W/m2 TYP: MOD-25 | F6: szt | G6: 450 | I6: =$I$2 -> 0 | J6: =G6-G6*I6 -> 450
A7: 5. | B7: MTC10000205 | C7: MOD-30 | D7: MATEC | E7: Mata grzejna dwustronnie zasilana 150W/m2 TYP: MOD-30 | F7: szt | G7: 527 | I7: =$I$2 -> 0 | J7: =G7-G7*I7 -> 527
A8: 6. | B8: MTC10000206 | C8: MOD-40 | D8: MATEC | E8: Mata grzejna dwustronnie zasilana 150W/m2 TYP: MOD-40 | F8: szt | G8: 642 | I8: =$I$2 -> 0 | J8: =G8-G8*I8 -> 642
A9: 7. | B9: MTC10000207 | C9: MOD-50 | D9: MATEC | E9: Mata grzejna dwustronnie zasilana 150W/m2 TYP: MOD-50 | F9: szt | G9: 756 | I9: =$I$2 -> 0 | J9: =G9-G9*I9 -> 756
A10: 8. | B10: MTC10000208 | C10: MOJ-10 | D10: MATEC | E10: Mata grzejna jednostronnie zasilana 150W/m2 TYP: MOJ-10 | F10: szt | G10: 300 | I10: =$I$2 -> 0 | J10: =G10-G10*I10 -> 300
A11: 9. | B11: MTC10000209 | C11: MOJ-15 | D11: MATEC | E11: Mata grzejna jednostronnie zasilana 150W/m2 TYP: MOJ-15 | F11: szt | G11: 370 | I11: =$I$2 -> 0 | J11: =G11-G11*I11 -> 370
A12: 10. | B12: MTC10000210 | C12: MOJ-20 | D12: MATEC | E12: Mata grzejna jednostronnie zasilana 150W/m2 TYP: MOJ-20 | F12: szt | G12: 467 | I12: =$I$2 -> 0 | J12: =G12-G12*I12 -> 467
A13: 11. | B13: MTC10000211 | C13: MOJ-25 | D13: MATEC | E13: Mata grzejna jednostronnie zasilana 150W/m2 TYP: MOJ-25 | F13: szt | G13: 527 | I13: =$I$2 -> 0 | J13: =G13-G13*I13 -> 527
A14: 12. | B14: MTC10000212 | C14: MOJ-30 | D14: MATEC | E14: Mata grzejna jednostronnie zasilana 150W/m2 TYP: MOJ-30 | F14: szt | G14: 610 | I14: =$I$2 -> 0 | J14: =G14-G14*I14 -> 610
... A50: 48. | B50: MTC10000377 | C50: RTW-01 biały | D50: MATEC | E50: Regulator temperatury podtynkowy - programowalny, WI-FI TYP: RTW-01, biały | F50: szt | G50: 465 | I50: =$I$2 -> 0 | J50: =G50-G50*I50 -> 465
B51: MTC10000378 | C51: RTW-01 czarny | D51: MATEC | E51: Regulator temperatury podtynkowy - programowalny, WI-FI TYP: RTW-01, czarny | F51: szt | G51: 465 | I51: =$I$2 -> 0 | J51: =G51-G51*I51 -> 465
A52: 49. | B52: MTC10000402 | C52: RTS-01A | D52: MATEC | E52: Regulator temperatury natynkowy - manualny sonda 2m, RTS-01A | F52: szt | G52: 189 | I52: =$I$2 -> 0 | J52: =G52-G52*I52 -> 189
A53: 50. | B53: MTC10000289 | C53: RTD-02 biały | D53: MATEC | E53: Regulator temperatury podtynkowy - programowalny TYP: RTD-02; biały | F53: szt | G53: 300 | I53: =$I$2 -> 0 | J53: =G53-G53*I53 -> 300
A54: 51. | B54: MTC10000292 | C54: RTD-02 czarny | D54: MATEC | E54: Regulator temperatury podtynkowy - programowalny TYP: RTD-02; czarny | F54: szt | G54: 300 | I54: =$I$2 -> 0 | J54: =G54-G54*I54 -> 300
A55: 52. | B55: MTC10000287 | C55: RTD-01 | D55: MATEC | E55: Regulator temperatury podtynkowy - programowalny z kolorowym ekranem dotykowym RTD-01 | F55: szt | G55: 659 | I55: =$I$2 -> 0 | J55: =G55-G55*I55 -> 659
D56: MATEC 1 | E56: Elektryczne Systemy Antyoblodzeniowe | H56: Wpisz tu swój rabat
A57: 53. | B57: MTC10000254 | C57: EM-52489 | D57: MATEC 1 | E57: Regulator temperatury przeciwoblodzeniowy 1-strefowy TYP: EM524 89 | F57: szt | G57: 1232 | I57: =$I$56 -> 0 | J57: =G57-G57*I57 -> 1232
A58: 54. | B58: MTC10000253 | C58: EM-52490 | D58: MATEC 1 | E58: Regulator temperatury przeciwoblodzeniowy 2-strefowy TYP: EM524 90 | F58: szt | G58: 1520 | I58: =$I$56 -> 0 | J58: =G58-G58*I58 -> 1520
A59: 55. | B59: MTC10000255 | C59: ESD524 003 | D59: MATEC 1 | E59: Czujnik lodu i śniegu do rynien z przewodem o dł. 4m TYP: ESD524 003 | F59: szt | G59: 392 | I59: =$I$56 -> 0 | J59: =G59-G59*I59 -> 392
A60: 56. | B60: MTC10000256 | C60: TFD524 004 | D60: MATEC 1 | E60: Czujnik temperatury i powierzc hni do rynien (standardowy) dł. 4m TYP: TFD524 004 | F60: szt | G60: 120 | I60: =$I$56 -> 0 | J60: =G60-G60*I60 -> 120
A61: 57. | B61: MTC10000257 | C61: ESF524 001 | D61: MATEC 1 | E61: Czujnik lodu i śniegu na podja zdy z przewodem dł. 15m TYP: ESF524 001 | F61: szt | G61: 775 | I61: =$I$56 -> 0 | J61: =G61-G61*I61 -> 775
A62: 58. | B62: MTC10000258 | C62: TFF524 002 | D62: MATEC 1 | E62: Czujnik temperatury i wilgotno ści-okrągły na podjazdy z prze wodem dł. 15m TYP: TFF524 002 | F62: szt | G62: 750 | I62: =$I$56 -> 0 | J62: =G62-G62*I62 -> 750
A63: 59. | B63: MTC10000266 | C63: UTR-20 | D63: MATEC 1 | E63: Regulator temperat uniwersalny do montażu na ścianie TYP: UTR-20 | F63: szt | G63: 470 | I63: =$I$56 -> 0 | J63: =G63-G63*I63 -> 470
A64: 60. | B64: MTC10000267 | C64: F891000 | D64: MATEC 1 | E64: Czujnik temperatury do UTR-20 z przewodem dł. 4m TYP: F891000 | F64: szt | G64: 75 | I64: =$I$56 -> 0 | J64: =G64-G64*I64 -> 75
A65: 61. | B65: MTC10000268 | C65: KRS-01 | D65: MATEC 1 | E65: Klips do rur, opakowanie 25szt. TYP: KRS-01 | F65: kpl. | G65: 62 | I65: =$I$56 -> 0 | J65: =G65-G65*I65 -> 62
A66: 62. | B66: MTC10000269 | C66: LS-01 | D66: MATEC 1 | E66: Łańcuch do montażu elementów w rurach spustowych; Opk 10mb, 1m to 22 oczka. TYP: LS-01 | F66: szt | G66: 140 | I66: =$I$56 -> 0 | J66: =G66-G66*I66 -> 140
A67: 63. | B67: MTC10000270 | C67: ZW-01 | D67: MATEC 1 | E67: Zawiesie do łańcucha (pręt profilowany fi 5mm o dł. 290mm TYP: ZW-01 | F67: szt | G67: 18.5 | I67: =$I$56 -> 0 | J67: =G67-G67*I67 -> 18.5
A68: 64. | B68: MTC10000271 | C68: TMW-01 | D68: MATEC 1 | E68: Taśma montażowa wzmacniana włóknem szklanym - rolka 50m TYP: TMW-01 | F68: szt | G68: 21 | I68: =$I$56 -> 0 | J68: =G68-G68*I68 -> 21
... A110: 118. | B110: MTC10000371 | C110: GMPD-100/300 | D110: MATEC 1 | E110: Zestaw PG na podjazdy maty zew PG GMPD - 10,0m2 300W/m2 TYP: GMPD-100/300 | F110: szt | G110: 1320 | I110: =$I$56 -> 0 | J110: =G110-G110*I110 -> 1320

Sheet CET_opakowania
B3: Uwaga:
B4: Bębny kablowe Zamel są oznakowane i tylko takie podlegają poniższym zasadom.
B5: Inne opakowania nie będą rozpatrywane w zakresie ich zwrotu.
A7: 1. | B7: Bębny kablowe i jednorazowe szpule sprzedawane są Klientowi z chwilą wydania wyrobu znajdującego się na tym opakowaniu, wg obowiązującego cennika opakowań.
A8: 2. | B8: Na opakowania wystawione są faktury VAT, gdzie termin płatności pokrywa się z terminem dla produktu sprzedawanego razem tym opakowaniem.
A9: 3. | B9: W przypadku zwrotu opakowania (bębna drewnianego lub szpuli sklejkowej) przed upływem terminu płatności, Zamel ma obowiązek wystawić Fakturę korygującą na opakowanie z ceną jego pierwotnej sprzedaży. Ważne jest, aby zwracany bęben/szpula posiadał dokument WZ, z którym Klient powołuje się na numer faktury pierwotnej sprzedaży tego opakowania. Podstawową formą egzekwowania należności jest kompensata.
A10: 4. | B10: Zamel zobowiązany jest przyjąć zwrotnie bęben lub szpulę sklejkową od klienta po upływie terminu płatności z pierwotnej sprzedaży w nieprzekraczalnym terminie do 12 miesięcy od daty wystawienia faktury. Ważne jest, aby zwracany bęben/szpula posiadał dokument WZ, którym Klient powołuje się na numer faktury pierwotnej sprzedaży tego opakowania. Dokumentem potwierdzającym dokonanie zwrotu jest Faktura korygująca wystawiona przez Dostawcę - ZAMEL. Podstawową formą egzekwowania należności jest kompensata.
A11: 5. | B11: Zwrot opakowań (transport) dokonywany jest na koszt Klienta zwracającego opakowania.
A12: 6. | B12: Dopuszcza się dokonanie zwrotu transportem Dostawcy - ZAMEL tylko i wyłącznie wtedy, gdy opakowania zgromadzone są na jednej, pełnej palecie. Dla bębnów drewnianych minimalna ilość na palecie to 3szt. W przypadku szpul sklejkowych minimalna ilość na palecie wynosi 25szt. Jeśli opakowań jest więcej obowiązuje wielokrotność podanych ilości w zakresie osobno bębnów i osobno szpul.
A13: 7. | B13: Zwracane opakowania przyjmowane są dokumentem PZ. ZAMEL jako sprzedawca opakowania wystawia Fakturę korygującą do oryginalnej Faktury sprzedaży tego opakowania, na której numer zobowiązany jest powołać się Klient.
A14: 8. | B14: Zamel nie przyjmuje uszkodzonych opakowań.
A15: 9. | B15: Przy każdorazowym zwrocie przeprowadzane są oględziny opakowania, na podstawie których Zamel ma prawo obniżyć jego wartość lub nie wyrazić zgody na odkup.
B17: Zwroty bębnów przyjmowane są na adres:
B18: Zamel Sp. z o.o.
B19: Ul. Zielona 27
B20: 43-200 Pszczyna
B21: Magazyn CET
B23: aktualizacja od 1.02.2020
