Workbook
Name __Anonymous_Sheet_DB__3: 'CET uproszczony 1 03 2021'!$A$1:$G$116
Name __Anonymous_Sheet_DB__3: 'MATEC uproszczony 1 03 2021'!$A$1:$G$131
Name __Anonymous_Sheet_DB__3: #REF!
Name eany_kab_1: 'CET cennik 1 03 2021 wer SHE'!$A$1:$N$1307
Name Excel_BuiltIn__FilterDatabase_1: NA()
Name Excel_BuiltIn__FilterDatabase_1_1: #REF!
Name Excel_BuiltIn__FilterDatabase_1_1_1: #REF!
Name Excel_BuiltIn__FilterDatabase_10: #REF!
Name Excel_BuiltIn__FilterDatabase_2: #REF!
Name Excel_BuiltIn__FilterDatabase_2_1: NA()
Name Excel_BuiltIn__FilterDatabase_3: #REF!
Name Excel_BuiltIn__FilterDatabase_3_1: #REF!
Name Excel_BuiltIn__FilterDatabase_4: #REF!
Name Excel_BuiltIn__FilterDatabase_4_1: #REF!
Name Excel_BuiltIn__FilterDatabase_4_1_1: #REF!
Name Excel_BuiltIn__FilterDatabase_5: #REF!
Name GRODNO: #REF!

Sheet CET_Kategorie
B1: idKategoria | C1: idRodzic | D1: nazwa
B2: 0.9 | C2: 0 | D2: CET – KABLE I PRZEWODY
B3: 9.0 | C3: 0.9 | D3: PRZEWODY WSPÓŁOSIOWE (KONCENTRYCZNE) WIELKIEJ CZĘSTOTLIWOŚCI (KC)
B4: 9.1 | C4: 0.9 | D4: PRZEWODY TELEINFORMATYCZNE (TI)
B5: 9.2 | C5: 0.9 | D5: KABLE TELEKOMUNIKACYJNE STACYJNE (TK05; TK08)
B6: 9.3 | C6: 0.9 | D6: PRZEWODY TELEKOMUNIKACYJNE – MONTAŻOWE (TD)
B7: 9.4 | C7: 0.9 | D7: PRZEWODY GŁOŚNIKOWE (GŁ)
B8: 9.5 | C8: 0.9 | D8: PRZEWODY MIKROFONOWE (MI)
B9: 9.6 | C9: 0.9 | D9: PRZEWODY OPONOWE, MIESZKANIOWE I WARSZTATOWE (wszystkie OP; OPP; WP)
B10: 9.7 | C10: 0.9 | D10: PRZEWODY ELEKTROINSTALACYJNE – LINKOWE (EE)
B11: 9.8 | C11: 0.9 | D11: PRZEWODY ELEKTROINSTALACYJNE – JEDNODRUTOWE (wszystkie DY)
B12: 9.9 | C12: 0.9 | D12: PRZEWODY PRZYŁĄCZENIOWE (SP)
B13: 9.10 | C13: 0.9 | D13: PRZEWODY STEROWNICZE CETRONIC (STER300; STER500)
B14: 9.11 | C14: 0.9 | D14: KABLE SYGNALIZACYJNE (SYGN)
B15: 9.12 | C15: 0.9 | D15: PRZEWODY SAMOCHODOWE
B16: 9.13 | C16: 0.9 | D16: KABLE FOTOWOLTAICZNE SOLARCET (SOL)
B17: 0.10 | C17: 0.10 | D17: MATEC – ELEKTRYCZNE SYSTEMY GRZEJNE
B18: 10.0 | C18: 0.10 | D18: Ogrzewanie podłogowe – regulatory temperatury
B19: 10.1 | C19: 0.10 | D19: Ogrzewanie podłogowe – maty i folie grzejne
B20: 10.2 | C20: 0.10 | D20: Ogrzewanie podłogowe – zestawy ogrzewania podłogowego
B21: 10.3 | C21: 0.10 | D21: Systemy antyoblodzeniowe – GPRN
B22: 10.4 | C22: 0.10 | D22: Systemy antyoblodzeniowe – GPRU
B23: 10.5 | C23: 0.10 | D23: Systemy antyoblodzeniowe – GPSY
B24: 10.6 | C24: 0.10 | D24: Systemy antyoblodzeniowe – GMPD
B25: 10.7 | C25: 0.10 | D25: Systemy antyoblodzeniowe – sterowanie
B26: 10.8 | C26: 0.10 | D26: Systemy antyoblodzeniowe – akcesoria
C29: Stan Dostępności | D29: Opis
C30: A | D30: Towar dostepny od ręki
C31: B | D31: Towar dostępny w ciągu 2 dni roboczyć
C32: C | D32: Towar dostępny w ciągu 6 dni roboczych
C33: D | D33: Towar dostępny na zamówienie (bez prawa zwrotu)
C34: E | D34: Towar dostępny do wyczerpania zapasów (bez prawa zwrotu)

Sheet CET cennik 1 03 2021 wer SHE
A1: ID Artykuł | B1: SYMBOL | C1: NAZWA | D1: JEDN PODST. | E1: St. Dost. | F1: ILOŚĆ | G1: CENA JEDNOSTKOWA NETTO/JEDN. HANDLOWA | H1: WALUTA | I1: PODATEK VAT | J1: KGO | K1: Ilość w opakowaniu niepodzielnym | L1: EAN | M1: GRUPA BONUSOWA | N1: GRUPA RABATOWA | O1: ID KATEGORIA | P1: PKWIU | Q1: Kod taryfy celnej | R1: KLASA ETIM | S1: KOLOR | T1: WAGA NETTO KG | U1: WAGA BRUTTO KG | V1: DŁUGOŚĆ {M} | W1: SZEROKOŚĆ {M} | X1: WYSOKOŚĆ {M}
A2: KAB10000009 | B2: DY 1x0,75 300/500 BIA | C2: Przewód elektroinstalacyjny DY 1x0,75 300/500 BIAŁY | D2: km | F2: 1 | G2: =VLOOKUP(A2,'CET uproszczony 1 03 2021'!$B$3:$G$726,6,0) -> 620 | H2: PLN | I2: 0.23 | K2: 0100 | L2: 5901181011678 | M2: CET | N2: DYDYC | O2: 9.8 | P2: 27.32.13-80.03 | Q2: 8544499500 | R2: EC000993 | T2: 10.809 | U2: 10.809 | V2: 0 | W2: 0 | X2: 0
A3: KAB10000009 | B3: DY 1x0,75 300/500 BIA | C3: Przewód elektroinstalacyjny DY 1x0,75 300/500 BIAŁY | D3: km | F3: 1 | G3: =VLOOKUP(A3,'CET uproszczony 1 03 2021'!$B$3:$G$726,6,0) -> 620 | H3: PLN | I3: 0.23 | K3: 0500 | L3: 5901181011685 | M3: CET | N3: DYDYC | O3: 9.8 | P3: 27.32.13-80.03 | Q3: 8544499500 | R3: EC000993 | T3: 10.809 | U3: 10.809 | V3: 0 | W3: 0 | X3: 0
A4: KAB10000009 | B4: DY 1x0,75 300/500 BIA | C4: Przewód elektroinstalacyjny DY 1x0,75 300/500 BIAŁY | D4: km | F4: 1 | G4: =VLOOKUP(A4,'CET uproszczony 1 03 2021'!$B$3:$G$726,6,0) -> 620 | H4: PLN | I4: 0.23 | K4: 0200 | L4: 5901181029208 | M4: CET | N4: DYDYC | O4: 9.8 | P4: 27.32.13-80.03 | Q4: 8544499500 | R4: EC000993 | T4: 10.809 | U4: 10.809 | V4: 0 | W4: 0 | X4: 0
A5: KAB10000010 | B5: DY 1x0,75 300/500 BRĄ | C5: Przewód elektroinstalacyjny DY 1x0,75 300/500 BRĄZOWY | D5: km | F5: 1 | G5: =VLOOKUP(A5,'CET uproszczony 1 03 2021'!$B$3:$G$726,6,0) -> 620 | H5: PLN | I5: 0.23 | K5: 0100 | L5: 5901181013313 | M5: CET | N5: DYDYC | O5: 9.8 | P5: 27.32.13-80.03 | Q5: 8544499500 | R5: EC000993 | T5: 10.809 | U5: 10.809 | V5: 0 | W5: 0 | X5: 0
A6: KAB10000011 | B6: DY 1x0,75 300/500 CZN | C6: Przewód elektroinstalacyjny DY 1x0,75 300/500 CZARNY | D6: km | F6: 1 | G6: =VLOOKUP(A6,'CET uproszczony 1 03 2021'!$B$3:$G$726,6,0) -> 620 | H6: PLN | I6: 0.23 | K6: 0100 | L6: 5901181012514 | M6: CET | N6: DYDYC | O6: 9.8 | P6: 27.32.13-80.03 | Q6: 8544499500 | R6: EC000993 | T6: 10.809 | U6: 10.809 | V6: 0 | W6: 0 | X6: 0
A7: KAB10000012 | B7: DY 1x0,75 300/500 CZE | C7: Przewód elektroinstalacyjny DY 1x0,75 300/500 CZERWONY | D7: km | F7: 1 | G7: =VLOOKUP(A7,'CET uproszczony 1 03 2021'!$B$3:$G$726,6,0) -> 620 | H7: PLN | I7: 0.23 | K7: 0100 | L7: 5901181024593 | M7: CET | N7: DYDYC | O7: 9.8 | P7: 27.32.13-80.03 | Q7: 8544499500 | R7: EC000993 | T7: 10.809 | U7: 10.809 | V7: 0 | W7: 0 | X7: 0
A8: KAB10000013 | B8: DY 1x0,75 300/500 NIE | C8: Przewód elektroinstalacyjny DY 1x0,75 300/500 NIEBIESKI | D8: km | F8: 1 | G8: =VLOOKUP(A8,'CET uproszczony 1 03 2021'!$B$3:$G$726,6,0) -> 620 | H8: PLN | I8: 0.23 | K8: 0100 | L8: 5901181012507 | M8: CET | N8: DYDYC | O8: 9.8 | P8: 27.32.13-80.03 | Q8: 8544499500 | R8: EC000993 | T8: 10.809 | U8: 10.809 | V8: 0 | W8: 0 | X8: 0
A9: KAB10000014 | B9: DY 1x0,75 300/500 ŻÓŁ-ZIE | C9: Przewód elektroinstalacyjny DY 1x0,75 300/500 ŻO | D9: km | F9: 1 | G9: =VLOOKUP(A9,'CET uproszczony 1 03 2021'!$B$3:$G$726,6,0) -> 620 | H9: PLN | I9: 0.23 | K9: 0100 | L9: 5901181013672 | M9: CET | N9: DYDYC | O9: 9.8 | P9: 27.32.13-80.03 | Q9: 8544499500 | R9: EC000993 | T9: 10.809 | U9: 10.809 | V9: 0 | W9: 0 | X9: 0
A10: KAB10000014 | B10: DY 1x0,75 300/500 ŻÓŁ-ZIE | C10: Przewód elektroinstalacyjny DY 1x0,75 300/500 ŻO | D10: km | F10: 1 | G10: =VLOOKUP(A10,'CET uproszczony 1 03 2021'!$B$3:$G$726,6,0) -> 620 | H10: PLN | I10: 0.23 | K10: 5000 | L10: 5901181031966 | M10: CET | N10: DYDYC | O10: 9.8 | P10: 27.32.13-80.03 | Q10: 8544499500 | R10: EC000993 | T10: 10.809 | U10: 10.809 | V10: 0 | W10: 0 | X10: 0
A11: KAB10000015 | B11: DY 1x1,00 300/500 BIA | C11: Przewód elektroinstalacyjny DY 1x1,00 300/500 BIAŁY | D11: km | F11: 1 | G11: =VLOOKUP(A11,'CET uproszczony 1 03 2021'!$B$3:$G$726,6,0) -> 770 | H11: PLN | I11: 0.23 | K11: 0100 | L11: 5901181013023 | M11: CET | N11: DYDYC | O11: 9.8 | P11: 27.32.13-80.03 | Q11: 8544499500 | R11: EC000993 | T11: 13.232 | U11: 13.232 | V11: 0 | W11: 0 | X11: 0
A12: KAB10000016 | B12: DY 1x1,00 300/500 BRĄ | C12: Przewód elektroinstalacyjny DY 1x1,00 300/500 BRĄZOWY | D12: km | F12: 1 | G12: =VLOOKUP(A12,'CET uproszczony 1 03 2021'!$B$3:$G$726,6,0) -> 770 | H12: PLN | I12: 0.23 | K12: 0100 | L12: 5901181013818 | M12: CET | N12: DYDYC | O12: 9.8 | P12: 27.32.13-80.03 | Q12: 8544499500 | R12: EC000993 | T12: 13.232 | U12: 13.232 | V12: 0 | W12: 0 | X12: 0
A13: KAB10000017 | B13: DY 1x1,00 300/500 CZN | C13: Przewód elektroinstalacyjny DY 1x1,00 300/500 CZARNY | D13: km | F13: 1 | G13: =VLOOKUP(A13,'CET uproszczony 1 03 2021'!$B$3:$G$726,6,0) -> 770 | H13: PLN | I13: 0.23 | K13: 0100 | L13: 5901181013801 | M13: CET | N13: DYDYC | O13: 9.8 | P13: 27.32.13-80.03 | Q13: 8544499500 | R13: EC000993 | T13: 13.232 | U13: 13.232 | V13: 0 | W13: 0 | X13: 0
... A191: KAB10000937 | B191: LgYc 1x1,50 300/500 ŻÓŁTO-ZIEL | C191: Przewód elektroenergetyczny, ciepłoodporny LgYc 1x1,50 300/500 ŻÓŁTO-ZIEL | D191: km | F191: 1 | G191: =VLOOKUP(A191,'CET uproszczony 1 03 2021'!$B$3:$G$726,6,0) -> 1039 | H191: PLN | I191: 0.23 | K191: 0100 | L191: 5901181036138 | M191: CET | N191: EE | O191: 9.7 | P191: 27.32.13-80.03 | Q191: 8544499500 | R191: EC000993 | T191: 19.2 | U191: 19.2 | V191: 0 | W191: 0 | X191: 0
A192: KAB10000936 | B192: LgYc 1x1,50 300/500 CZERWONY | C192: Przewód elektroenergetyczny, ciepłoodporny LgYc 1x1,50 300/500 CZERWONY | D192: km | F192: 1 | G192: =VLOOKUP(A192,'CET uproszczony 1 03 2021'!$B$3:$G$726,6,0) -> 1039 | H192: PLN | I192: 0.23 | K192: 0100 | L192: 5901181036121 | M192: CET | N192: EE | O192: 9.7 | P192: 27.32.13-80.03 | Q192: 8544499500 | R192: EC000993 | T192: 19.2 | U192: 19.2
A193: KAB10000415 | B193: TLgYp 2x0,75 BEZBARWNY | C193: Przewód głośnikowy TLgYp 2x0,75 BEZBARWNY | D193: km | F193: 1 | G193: =VLOOKUP(A193,'CET uproszczony 1 03 2021'!$B$3:$G$726,6,0) -> 1199 | H193: PLN | I193: 0.23 | K193: 0100 | L193: 5901181006469 | M193: CET | N193: GŁ | O193: 9.4 | P193: 27.32.13-80.02 | Q193: 8544499500 | R193: EC000065 | T193: 22.458 | U193: 22.458 | V193: 0 | W193: 0 | X193: 0
A194: KAB10000415 | B194: TLgYp 2x0,75 BEZBARWNY | C194: Przewód głośnikowy TLgYp 2x0,75 BEZBARWNY | D194: km | F194: 1 | G194: =VLOOKUP(A194,'CET uproszczony 1 03 2021'!$B$3:$G$726,6,0) -> 1199 | H194: PLN | I194: 0.23 | K194: 0200 | L194: 5901181006483 | M194: CET | N194: GŁ | O194: 9.4 | P194: 27.32.13-80.02 | Q194: 8544499500 | R194: EC000065 | T194: 22.458 | U194: 22.458 | V194: 0 | W194: 0 | X194: 0
A195: KAB10000415 | B195: TLgYp 2x0,75 BEZBARWNY | C195: Przewód głośnikowy TLgYp 2x0,75 BEZBARWNY | D195: km | F195: 1 | G195: =VLOOKUP(A195,'CET uproszczony 1 03 2021'!$B$3:$G$726,6,0) -> 1199 | H195: PLN | I195: 0.23 | K195: 0300 | L195: 5901181006506 | M195: CET | N195: GŁ | O195: 9.4 | P195: 27.32.13-80.02 | Q195: 8544499500 | R195: EC000065 | T195: 22.458 | U195: 22.458 | V195: 0 | W195: 0 | X195: 0
A196: KAB10000415 | B196: TLgYp 2x0,75 BEZBARWNY | C196: Przewód głośnikowy TLgYp 2x0,75 BEZBARWNY | D196: km | F196: 1 | G196: =VLOOKUP(A196,'CET uproszczony 1 03 2021'!$B$3:$G$726,6,0) -> 1199 | H196: PLN | I196: 0.23 | K196: 0500 | L196: 5901181006513 | M196: CET | N196: GŁ | O196: 9.4 | P196: 27.32.13-80.02 | Q196: 8544499500 | R196: EC000065 | T196: 22.458 | U196: 22.458 | V196: 0 | W196: 0 | X196: 0
A197: KAB10000415 | B197: TLgYp 2x0,75 BEZBARWNY | C197: Przewód głośnikowy TLgYp 2x0,75 BEZBARWNY | D197: km | F197: 1 | G197: =VLOOKUP(A197,'CET uproszczony 1 03 2021'!$B$3:$G$726,6,0) -> 1199 | H197: PLN | I197: 0.23 | K197: ODCB | L197: 5901181006520 | M197: CET | N197: GŁ | O197: 9.4 | P197: 27.32.13-80.02 | Q197: 8544499500 | R197: EC000065 | T197: 22.458 | U197: 22.458 | V197: 0 | W197: 0 | X197: 0
A198: KAB10000415 | B198: TLgYp 2x0,75 BEZBARWNY | C198: Przewód głośnikowy TLgYp 2x0,75 BEZBARWNY | D198: km | F198: 1 | G198: =VLOOKUP(A198,'CET uproszczony 1 03 2021'!$B$3:$G$726,6,0) -> 1199 | H198: PLN | I198: 0.23 | K198: 0400 | L198: 5901181013573 | M198: CET | N198: GŁ | O198: 9.4 | P198: 27.32.13-80.02 | Q198: 8544499500 | R198: EC000065 | T198: 22.458 | U198: 22.458 | V198: 0 | W198: 0 | X198: 0
A199: KAB10000415 | B199: TLgYp 2x0,75 BEZBARWNY | C199: Przewód głośnikowy TLgYp 2x0,75 BEZBARWNY | D199: km | F199: 1 | G199: =VLOOKUP(A199,'CET uproszczony 1 03 2021'!$B$3:$G$726,6,0) -> 1199 | H199: PLN | I199: 0.23 | K199: 1000 | L199: 5901181016970 | M199: CET | N199: GŁ | O199: 9.4 | P199: 27.32.13-80.02 | Q199: 8544499500 | R199: EC000065 | T199: 22.458 | U199: 22.458 | V199: 0 | W199: 0 | X199: 0
A200: KAB10000415 | B200: TLgYp 2x0,75 BEZBARWNY | C200: Przewód głośnikowy TLgYp 2x0,75 BEZBARWNY | D200: km | F200: 1 | G200: =VLOOKUP(A200,'CET uproszczony 1 03 2021'!$B$3:$G$726,6,0) -> 1199 | H200: PLN | I200: 0.23 | K200: 0050 | L200: 5903669228172 | M200: CET | N200: GŁ | O200: 9.4 | P200: 27.32.13-80.02 | Q200: 8544499500 | R200: EC000065 | T200: 22.458 | U200: 22.458 | V200: 0 | W200: 0 | X200: 0
A201: KAB10000415 | B201: TLgYp 2x0,75 BEZBARWNY | C201: Przewód głośnikowy TLgYp 2x0,75 BEZBARWNY | D201: km | F201: 1 | G201: =VLOOKUP(A201,'CET uproszczony 1 03 2021'!$B$3:$G$726,6,0) -> 1199 | H201: PLN | I201: 0.23 | K201: 0025 | L201: 5903669228189 | M201: CET | N201: GŁ | O201: 9.4 | P201: 27.32.13-80.02 | Q201: 8544499500 | R201: EC000065 | T201: 22.458 | U201: 22.458 | V201: 0 | W201: 0 | X201: 0
A202: KAB10000416 | B202: TLgYp 2x1,00 BEZBARWNY | C202: Przewód głośnikowy TLgYp 2x1,00 BEZBARWNY | D202: km | F202: 1 | G202: =VLOOKUP(A202,'CET uproszczony 1 03 2021'!$B$3:$G$726,6,0) -> 1528 | H202: PLN | I202: 0.23 | K202: 0100 | L202: 5901181006537 | M202: CET | N202: GŁ | O202: 9.4 | P202: 27.32.13-80.02 | Q202: 8544499500 | R202: EC000065 | T202: 30.411 | U202: 30.411 | V202: 0 | W202: 0 | X202: 0
A203: KAB10000416 | B203: TLgYp 2x1,00 BEZBARWNY | C203: Przewód głośnikowy TLgYp 2x1,00 BEZBARWNY | D203: km | F203: 1 | G203: =VLOOKUP(A203,'CET uproszczony 1 03 2021'!$B$3:$G$726,6,0) -> 1528 | H203: PLN | I203: 0.23 | K203: 1000 | L203: 5901181006544 | M203: CET | N203: GŁ | O203: 9.4 | P203: 27.32.13-80.02 | Q203: 8544499500 | R203: EC000065 | T203: 30.411 | U203: 30.411 | V203: 0 | W203: 0 | X203: 0
A204: KAB10000416 | B204: TLgYp 2x1,00 BEZBARWNY | C204: Przewód głośnikowy TLgYp 2x1,00 BEZBARWNY | D204: km | F204: 1 | G204: =VLOOKUP(A204,'CET uproszczony 1 03 2021'!$B$3:$G$726,6,0) -> 1528 | H204: PLN | I204: 0.23 | K204: 0200 | L204: 5901181006551 | M204: CET | N204: GŁ | O204: 9.4 | P204: 27.32.13-80.02 | Q204: 8544499500 | R204: EC000065 | T204: 30.411 | U204: 30.411 | V204: 0 | W204: 0 | X204: 0
... A262: KAB10001015 | B262: YWDek 75 0,59/3,7+OMY 2X0,50 | C262: Przewód koncentryczny z zasilaniem (w jednym) YWDek 75 0,59/3,7 + OMY 2X0,50 | D262: km | F262: 1 | G262: =VLOOKUP(A262,'CET uproszczony 1 03 2021'!$B$3:$G$726,6,0) -> 2680 | H262: PLN | I262: 0.23 | K262: ODCB | L262: 5901181010879 | M262: CET | N262: KC | O262: 9.0 | P262: 27.32.12.0 | Q262: 8544200090 | R262: EC000019 | T262: 19.013 | U262: 19.013 | V262: 0 | W262: 0 | X262: 0
A263: KAB10000950 | B263: YWD 75 0,59/3,7+OMY 2x0,50; CZARNY UV | C263: Przewód koncentryczny z zasilaniem (w jednym) YWD 75 0,59/3,7 + OMY 2x0,50; CZARNY UV | D263: km | F263: 1 | G263: =VLOOKUP(A263,'CET uproszczony 1 03 2021'!$B$3:$G$726,6,0) -> 2990 | H263: PLN | I263: 0.23 | K263: 0100 | L263: 5903669451457 | M263: CET | N263: KC | O263: 9.0 | P263: 27.32.12.0 | Q263: 8544200090 | R263: EC000019
A264: KAB10000773 | B264: XWDXpek 75 1,0/4,8; czarny; CESAT | C264: Przewód koncentryczny XWDXpek 75 1,0/4,8; czarny UV; (UHD-4K); CESAT | D264: km | F264: 1 | G264: =VLOOKUP(A264,'CET uproszczony 1 03 2021'!$B$3:$G$726,6,0) -> 1815 | H264: PLN | I264: 0.23 | K264: 0100 | L264: 5903669442219 | M264: CET | N264: KC | O264: 9.0 | P264: 27.32.12.0 | Q264: 8544200090 | R264: EC000019 | T264: 33.9 | U264: 33.9
A265: KAB10000773 | B265: XWDXpek 75 1,0/4,8; czarny; CESAT | C265: Przewód koncentryczny XWDXpek 75 1,0/4,8; czarny UV; (UHD-4K); CESAT | D265: km | F265: 1 | G265: =VLOOKUP(A265,'CET uproszczony 1 03 2021'!$B$3:$G$726,6,0) -> 1815 | H265: PLN | I265: 0.23 | K265: 300 | L265: 5903669444626 | M265: CET | N265: KC | O265: 9.0 | P265: 27.32.12.0 | Q265: 8544200090 | R265: EC000019 | T265: 33.9 | U265: 33.9
A266: KAB10000773 | B266: XWDXpek 75 1,0/4,8; czarny; CESAT | C266: Przewód koncentryczny XWDXpek 75 1,0/4,8; czarny UV; (UHD-4K); CESAT | D266: km | F266: 1 | G266: =VLOOKUP(A266,'CET uproszczony 1 03 2021'!$B$3:$G$726,6,0) -> 1815 | H266: PLN | I266: 0.23 | K266: 500 | L266: 5903669444541 | M266: CET | N266: KC | O266: 9.0 | P266: 27.32.12.0 | Q266: 8544200090 | R266: EC000019 | T266: 33.9 | U266: 33.9
A267: KAB10000773 | B267: XWDXpek 75 1,0/4,8; czarny; CESAT | C267: Przewód koncentryczny XWDXpek 75 1,0/4,8; czarny UV; (UHD-4K); CESAT | D267: km | F267: 1 | G267: =VLOOKUP(A267,'CET uproszczony 1 03 2021'!$B$3:$G$726,6,0) -> 1815 | H267: PLN | I267: 0.23 | K267: 1000 | L267: 5903669444558 | M267: CET | N267: KC | O267: 9.0 | P267: 27.32.12.0 | Q267: 8544200090 | R267: EC000019 | T267: 33.9 | U267: 33.9
A268: KAB10000774 | B268: YWDXpek 75 1,0/4,8; CESAT | C268: Przewód koncentryczny YWDXpek 75 1,0/4,8; Eca; (UHD-4K); CESAT | D268: km | F268: 1 | G268: =VLOOKUP(A268,'CET uproszczony 1 03 2021'!$B$3:$G$726,6,0) -> 1780 | H268: PLN | I268: 0.23 | K268: 0100 | L268: 5903669442264 | M268: CET | N268: KC | O268: 9.0 | P268: 27.32.12.0 | Q268: 8544200090 | R268: EC000019 | T268: 42.3 | U268: 42.3
A269: KAB10000774 | B269: YWDXpek 75 1,0/4,8; CESAT | C269: Przewód koncentryczny YWDXpek 75 1,0/4,8; Eca; (UHD-4K); CESAT | D269: km | F269: 1 | G269: =VLOOKUP(A269,'CET uproszczony 1 03 2021'!$B$3:$G$726,6,0) -> 1780 | H269: PLN | I269: 0.23 | K269: 300 | L269: 5903669444633 | M269: CET | N269: KC | O269: 9.0 | P269: 27.32.12.0 | Q269: 8544200090 | R269: EC000019 | T269: 42.3 | U269: 42.3
A270: KAB10000774 | B270: YWDXpek 75 1,0/4,8; CESAT | C270: Przewód koncentryczny YWDXpek 75 1,0/4,8; Eca; (UHD-4K); CESAT | D270: km | F270: 1 | G270: =VLOOKUP(A270,'CET uproszczony 1 03 2021'!$B$3:$G$726,6,0) -> 1780 | H270: PLN | I270: 0.23 | K270: 500 | L270: 5903669444565 | M270: CET | N270: KC | O270: 9.0 | P270: 27.32.12.0 | Q270: 8544200090 | R270: EC000019 | T270: 42.3 | U270: 42.3
A271: KAB10000774 | B271: YWDXpek 75 1,0/4,8; CESAT | C271: Przewód koncentryczny YWDXpek 75 1,0/4,8; Eca; (UHD-4K); CESAT | D271: km | F271: 1 | G271: =VLOOKUP(A271,'CET uproszczony 1 03 2021'!$B$3:$G$726,6,0) -> 1780 | H271: PLN | I271: 0.23 | K271: 1000 | L271: 5903669444572 | M271: CET | N271: KC | O271: 9.0 | P271: 27.32.12.0 | Q271: 8544200090 | R271: EC000019 | T271: 42.3 | U271: 42.3
A272: KAB10000775 | B272: YWDXpek 75 1,0/4,8 kl.A, Eca; CESAT | C272: Przewód koncentryczny YWDXpek 75 1,0/4,8 (77% CuSn) Eca; (UHD-4K); CESAT | D272: km | F272: 1 | G272: =VLOOKUP(A272,'CET uproszczony 1 03 2021'!$B$3:$G$726,6,0) -> 2470 | H272: PLN | I272: 0.23 | K272: 0100 | L272: 5903669442318 | M272: CET | N272: KC | O272: 9.0 | P272: 27.32.12.0 | Q272: 8544200090 | R272: EC000019 | T272: 44.25 | U272: 44.25
A273: KAB10000775 | B273: YWDXpek 75 1,0/4,8 kl.A, Eca; CESAT | C273: Przewód koncentryczny YWDXpek 75 1,0/4,8 (77% CuSn) Eca; (UHD-4K); CESAT | D273: km | F273: 1 | G273: =VLOOKUP(A273,'CET uproszczony 1 03 2021'!$B$3:$G$726,6,0) -> 2470 | H273: PLN | I273: 0.23 | K273: 300 | L273: 5903669444640 | M273: CET | N273: KC | O273: 9.0 | P273: 27.32.12.0 | Q273: 8544200090 | R273: EC000019 | T273: 44.25 | U273: 44.25
A274: KAB10000775 | B274: YWDXpek 75 1,0/4,8 kl.A, Eca; CESAT | C274: Przewód koncentryczny YWDXpek 75 1,0/4,8 (77% CuSn) Eca; (UHD-4K); CESAT | D274: km | F274: 1 | G274: =VLOOKUP(A274,'CET uproszczony 1 03 2021'!$B$3:$G$726,6,0) -> 2470 | H274: PLN | I274: 0.23 | K274: 500 | L274: 5903669444589 | M274: CET | N274: KC | O274: 9.0 | P274: 27.32.12.0 | Q274: 8544200090 | R274: EC000019 | T274: 44.25 | U274: 44.25
...

Sheet CET uproszczony 1 03 2021
A1: 1.03.2021 | B1: INDEKS | C1: SYMBOL | D1: GRUPA RABAT. | E1: NAZWA WYROBU | F1: JM | G1: CENNIK netto 1.03.2021 | H1: DODATKOWE INFORMACJE | I1: RABAT | J1: CENA ZAKUPU
D2: KC | E2: Przewody koncentryczne CESAT UHD (4K) | H2: Wpisz tu swój rabat
B3: KAB10000773 | C3: XWDXpek 75 1,0/4,8; czarny; CESAT | D3: =$D$2 -> KC | E3: Przewód koncentryczny XWDXpek 75 1,0/4,8; czarny UV; (UHD-4K); CESAT | F3: km | G3: 1815 | I3: =$I$2 -> 0 | J3: =G3-G3*I3 -> 1815
B4: KAB10000774 | C4: YWDXpek 75 1,0/4,8; CESAT | D4: =$D$2 -> KC | E4: Przewód koncentryczny YWDXpek 75 1,0/4,8; Eca; (UHD-4K); CESAT | F4: km | G4: 1780 | I4: =$I$2 -> 0 | J4: =G4-G4*I4 -> 1780
B5: KAB10000775 | C5: YWDXpek 75 1,0/4,8 kl.A, Eca; CESAT | D5: =$D$2 -> KC | E5: Przewód koncentryczny YWDXpek 75 1,0/4,8 (77% CuSn) Eca; (UHD-4K); CESAT | F5: km | G5: 2470 | I5: =$I$2 -> 0 | J5: =G5-G5*I5 -> 2470
B6: KAB10000785 | C6: HWDXpek 75 1,0/4,8; CESAT | D6: =$D$2 -> KC | E6: Przewód koncentryczny HWDXpek 75 1,0/4,8; Eca; (UHD-4K); bezhalogen. CESAT | F6: km | G6: 1770 | I6: =$I$2 -> 0 | J6: =G6-G6*I6 -> 1770
B7: KAB10000793 | C7: YWDXpek 75 1,0/4,8 TRISHIELD, CESAT | D7: =$D$2 -> KC | E7: Przewód koncentryczny YWDXpek 75 1,0/4,8 TRISHIELD, ekran AL./PET + oplot 33% + ekran AL./PET; Eca; (UHD-4K); CESAT | F7: km | G7: 1930 | H7: Na zamówienie poprzedzone zapytaniem ofertowym | I7: =$I$2 -> 0 | J7: =G7-G7*I7 -> 1930
B8: KAB10000811 | C8: HWDXpek 75 1,0/4,8 TRISHIELD, CESAT | D8: =$D$2 -> KC | E8: Przewód koncentryczny HWDXpek 75 1,0/4,8 TRISHIELD, ekran AL./PET + oplot 33% + ekran AL./PET; Eca; (UHD-4K); bezhalogen. CESAT | F8: km | G8: 1840 | H8: Na zamówienie poprzedzone zapytaniem ofertowym | I8: =$I$2 -> 0 | J8: =G8-G8*I8 -> 1840
B9: KAB10000814 | C9: YWDXpek 75 1,0/4,8 TRISHIELD kl.A, CESAT | D9: =$D$2 -> KC | E9: Przewód koncentryczny YWDXpek 75 1,0/4,8 TRISHIELD kl.A ekran AL./PET + oplot 77% + ekran AL./PET; Eca; (UHD-4K); CESAT | F9: km | G9: 2600 | H9: Na zamówienie poprzedzone zapytaniem ofertowym | I9: =$I$2 -> 0 | J9: =G9-G9*I9 -> 2600
B10: KAB10000817 | C10: HWDXpek 75 1,0/4,8 TRISHIELD kl.A, CESAT | D10: =$D$2 -> KC | E10: Przewód koncentryczny HWDXpek 75 1,0/4,8 TRISHIELD kl.A ekran AL./PET + oplot 77% + ekran AL./PET; Eca; (UHD-4K); bezhalogen. CESAT | F10: km | G10: 2680 | H10: Na zamówienie poprzedzone zapytaniem ofertowym | I10: =$I$2 -> 0 | J10: =G10-G10*I10 -> 2680
B11: KAB10000826 | C11: YWDXpek 75 1,13/4,8 , CESAT | D11: =$D$2 -> KC | E11: Przewód koncentryczny YWDXpek 75 1,13/4,8 ; ekran AL./PET + oplot 33%; Eca; (UHD-4K); CESAT | F11: km | G11: 1970 | I11: =$I$2 -> 0 | J11: =G11-G11*I11 -> 1970
B12: KAB10000827 | C12: HWDXpek 75 1,13/4,8 , CESAT | D12: =$D$2 -> KC | E12: Przewód koncentryczny HWDXpek 75 1,13/4,8 ; ekran AL./PET + oplot 33%; Eca; (UHD-4K); bezhalogen. CESAT | F12: km | G12: 2050 | H12: Na zamówienie poprzedzone zapytaniem ofertowym | I12: =$I$2 -> 0 | J12: =G12-G12*I12 -> 2050
B13: KAB10000836 | C13: YWDXpek 75 1,13/4,8 kl.A, CESAT | D13: =$D$2 -> KC | E13: Przewód koncentryczny YWDXpek 75 1,13/4,8 kl.A ekran AL./PET + oplot 77%; Eca; (UHD-4K); CESAT | F13: km | G13: 2480 | I13: =$I$2 -> 0 | J13: =G13-G13*I13 -> 2480
B14: KAB10000889 | C14: HWDXpek 75 1,13/4,8 kl.A | D14: =$D$2 -> KC | E14: Przewód koncentryczny HWDXpek 75 1,13/4,8 kl.A ekran AL./PET + oplot 77%; Eca;(UHD-4K); bezhalogen. CESAT | F14: km | G14: 2580 | H14: Na zamówienie poprzedzone zapytaniem ofertowym | I14: =$I$2 -> 0 | J14: =G14-G14*I14 -> 2580
B15: KAB10000914 | C15: YWDXpek 75 1,15/5,0 CESAT | D15: =$D$2 -> KC | E15: Przewód koncentryczny YWDXpek 75 1,15/5,0; Eca; (UHD-4K); CESAT | F15: km | G15: 2050 | I15: =$I$2 -> 0 | J15: =G15-G15*I15 -> 2050
B16: KAB10000915 | C16: XzWDXpekw 75 1,0/4,8 CESAT | D16: =$D$2 -> KC | E16: Przewód koncentryczny XzWDXpekw 75 1,0/4,8 czarny (wypełnienie żelem); (UHD-4K); CESAT | F16: km | G16: 2250 | I16: =$I$2 -> 0 | J16: =G16-G16*I16 -> 2250
B17: KAB10000918 | C17: XzWDXpekw 75 1,13/4,8 CESAT | D17: =$D$2 -> KC | E17: Przewód koncentryczny XzWDXpekw 75 1,13/4,8 czarny (wypełnienie żelem); (UHD-4K); CESAT | F17: km | G17: 2550 | H17: Na zamówienie poprzedzone zapytaniem ofertowym | I17: =$I$2 -> 0 | J17: =G17-G17*I17 -> 2550
B18: KAB10001013 | C18: YWD 75 0,59/3,7 + OMY 2x0,50 | D18: =$D$2 -> KC | E18: Przewód koncentryczny z zasilaniem (w jednym) YWD 75 0,59/3,7 + OMY 2x0,50 | F18: km | G18: 2990 | I18: =$I$2 -> 0 | J18: =G18-G18*I18 -> 2990
B19: KAB10000950 | C19: YWD 75 0,59/3,7+OMY 2x0,50; CZARNY UV | D19: =$D$2 -> KC | E19: Przewód koncentryczny z zasilaniem (w jednym) YWD 75 0,59/3,7 + OMY 2x0,50; CZARNY UV | F19: km | G19: 2990 | H19: Na zamówienie poprzedzone zapytaniem ofertowym | I19: =$I$2 -> 0 | J19: =G19-G19*I19 -> 2990
B20: KAB10000953 | C20: YWDXpek 75 1,0/4,8+OMY 2x1,0; CESAT | D20: =$D$2 -> KC | E20: Przewód koncentryczny z zasilaniem (w jednym) YWDXpek 75 1,0/4,8 + OMY 2x1,0; CESAT | F20: km | G20: 3310 | I20: =$I$2 -> 0 | J20: =G20-G20*I20 -> 3310
B21: KAB10000963 | C21: YWDXpek 75 1,0/4,8+OMY 2x1,0; CESAT; CZARNY UV | D21: =$D$2 -> KC | E21: Przewód koncentryczny z zasilaniem (w jednym) YWDXpek 75 1,0/4,8 + OMY 2x1,0; CESAT; CZARNY UV | F21: km | G21: 3310 | H21: Na zamówienie poprzedzone zapytaniem ofertowym | I21: =$I$2 -> 0 | J21: =G21-G21*I21 -> 3310
B22: KAB10001015 | C22: YWDek 75 0,59/3,7+OMY 2X0,50 | D22: =$D$2 -> KC | E22: Przewód koncentryczny z zasilaniem (w jednym) YWDek 75 0,59/3,7 + OMY 2X0,50 | F22: km | G22: 2680 | I22: =$I$2 -> 0 | J22: =G22-G22*I22 -> 2680
B23: KAB10000981 | C23: YWDek 75 0,59/3,7 +OMY 2X0,5; CZARNY UV | D23: =$D$2 -> KC | E23: Przewód koncentryczny z zasilaniem (w jednym) YWDek 75 0,59/3,7 + OMY 2X0,5; CZARNY UV | F23: km | G23: 2680 | H23: Na zamówienie poprzedzone zapytaniem ofertowym | I23: =$I$2 -> 0 | J23: =G23-G23*I23 -> 2680
B24: KAB10000391 | C24: RG 59 B/U | D24: =$D$2 -> KC | E24: Przewód koncentryczny RG 59 B/U, biały | F24: km | G24: 2150 | I24: =$I$2 -> 0 | J24: =G24-G24*I24 -> 2150
B25: KAB10000392 | C25: RG 59 B/U | D25: =$D$2 -> KC | E25: Przewód koncentryczny RG 59 B/U, czarny | F25: km | G25: 2160 | H25: Na zamówienie poprzedzone zapytaniem ofertowym | I25: =$I$2 -> 0 | J25: =G25-G25*I25 -> 2160
D26: TI | E26: Przewody teleinformatyczne | H26: Wpisz tu swój rabat
B27: KAB10000462 | C27: UTP KAT. 5e 4x2x0,50 SZR | D27: =$D$26 -> TI | E27: Przewód teleinformatyczny UTP KAT 5e 4x2x0,50 | G27: 1265 | I27: =$I$26 -> 0 | J27: =G27-G27*I27 -> 1265
B28: KAB10001008 | C28: UTP KAT. 6 4x2x0,60 SZR | D28: =$D$26 -> TI | E28: Przewód teleinformatyczny UTP KAT 6 4x2x0,60 | G28: 1948 | I28: =$I$26 -> 0 | J28: =G28-G28*I28 -> 1948
B29: KAB10000758 | C29: UTPz KAT. 5e 4x2x0,50 CZR | D29: =$D$26 -> TI | E29: Przewód teleinformatyczny UTPz KAT 5e 4x2x0,5; czarny UV | G29: 1398 | I29: =$I$26 -> 0 | J29: =G29-G29*I29 -> 1398
B30: KAB10000727 | C30: UTPw KAT. 5e 4x2x0,50 CZN | D30: =$D$26 -> TI | E30: Przewód teleinformatyczny UTPw KAT 5e 4x2x0,5; (wypełnienie żelem) | G30: 1960 | I30: =$I$26 -> 0 | J30: =G30-G30*I30 -> 1960
B31: KAB10000870 | C31: UTP KAT. 5e 4x2x0,50 LSOH | D31: =$D$26 -> TI | E31: Przewód teleinformatyczny UTP KAT 5e 4x2x0,5 LSOH | G31: 1341 | I31: =$I$26 -> 0 | J31: =G31-G31*I31 -> 1341
B32: KAB10000872 | C32: UTP KAT. 6 4x2x0,60 LSOH | D32: =$D$26 -> TI | E32: Przewód teleinformatyczny UTP KAT 6 4x2x0,60 LSOH | G32: 2117 | H32: Na zamówienie poprzedzone zapytaniem ofertowym | I32: =$I$26 -> 0 | J32: =G32-G32*I32 -> 2117
B33: KAB10000054 | C33: FTP KAT. 5e 4x2x0,50 SZR | D33: =$D$26 -> TI | E33: Przewód teleinformatyczny FTP KAT 5e 4x2x0,5 | G33: 1500 | I33: =$I$26 -> 0 | J33: =G33-G33*I33 -> 1500
B34: KAB10000759 | C34: FTPz KAT. 5e 4x2x0,50 CZR | D34: =$D$26 -> TI | E34: Przewód teleinformatyczny FTPz KAT 5e 4x2x0,5; czarny UV | G34: 1589 | I34: =$I$26 -> 0 | J34: =G34-G34*I34 -> 1589
B35: KAB10000715 | C35: FTPw KAT. 5e 4x2x0,50 CZN | D35: =$D$26 -> TI | E35: Przewód teleinformatyczny FTPw KAT 5e 4x2x0,5; (wypełnienie żelem) | G35: 2190 | I35: =$I$26 -> 0 | J35: =G35-G35*I35 -> 2190
B36: KAB10000871 | C36: FTP KAT. 5e 4x2x0,50 LSOH | D36: =$D$26 -> TI | E36: Przewód teleinformatyczny FTP KAT 5e 4x2x0,60 LSOH | G36: 1682 | H36: Na zamówienie poprzedzone zapytaniem ofertowym | I36: =$I$26 -> 0 | J36: =G36-G36*I36 -> 1682
D37: SOL | E37: Kable fotowoltaiczne SOLARCET | H37: Wpisz tu swój rabat
B38: KAB10002016 | C38: H1Z2Z2-K 1x2,5 SOLARCET | D38: =$D$37 -> SOL | E38: Kabel fotowoltaiczny H1Z2Z2-K 1x2,5 1,0/1KV SOLARCET, czarny | G38: 2450 | I38: =$I$37 -> 0 | J38: =G38-G38*I38 -> 2450
B39: KAB10002017 | C39: H1Z2Z2-K 1x2,5 SOLARCET | D39: =$D$37 -> SOL | E39: Kabel fotowoltaiczny H1Z2Z2-K 1x2,5 1,0/1KV SOLARCET, czerwony | G39: 2450 | I39: =$I$37 -> 0 | J39: =G39-G39*I39 -> 2450
B40: KAB10002018 | C40: H1Z2Z2-K 1x2,5 SOLARCET | D40: =$D$37 -> SOL | E40: Kabel fotowoltaiczny H1Z2Z2-K 1x2,5 1,0/1KV SOLARCET, niebieski | G40: 2450 | I40: =$I$37 -> 0 | J40: =G40-G40*I40 -> 2450
...

Sheet MATEC uproszczony 1 03 2021
A1: ='CET uproszczony 1 03 2021'!A1 -> 1.03.2021 | B1: INDEKS | C1: SYMBOL | D1: GRUPA RABATOWA | E1: NAZWA WYROBU | F1: JM | G1: ='CET uproszczony 1 03 2021'!G1 -> CENNIK netto 1.03.2021 | H1: DODATKOWE INFORMACJE | I1: RABAT | J1: CENA ZAKUPU
D2: MATEC | E2: Elektryczne ogrzewanie podłogowe | H2: Wpisz tu swój rabat
A3: 1. | B3: MTC10000201 | C3: MOD-10 | D3: MATEC | E3: Mata grzejna dwustronnie zasilana 150W/m2 TYP: MOD-10 | F3: szt | G3: 258 | I3: =$I$2 -> 0 | J3: =G3-G3*I3 -> 258
A4: 2. | B4: MTC10000202 | C4: MOD-15 | D4: MATEC | E4: Mata grzejna dwustronnie zasilana 150W/m2 TYP: MOD-15 | F4: szt | G4: 317 | I4: =$I$2 -> 0 | J4: =G4-G4*I4 -> 317
A5: 3. | B5: MTC10000203 | C5: MOD-20 | D5: MATEC | E5: Mata grzejna dwustronnie zasilana 150W/m2 TYP: MOD-20 | F5: szt | G5: 395 | I5: =$I$2 -> 0 | J5: =G5-G5*I5 -> 395
A6: 4. | B6: MTC10000204 | C6: MOD-25 | D6: MATEC | E6: Mata grzejna dwustronnie zasilana 150W/m2 TYP: MOD-25 | F6: szt | G6: 450 | I6: =$I$2 -> 0 | J6: =G6-G6*I6 -> 450
A7: 5. | B7: MTC10000205 | C7: MOD-30 | D7: MATEC | E7: Mata grzejna dwustronnie zasilana 150W/m2 TYP: MOD-30 | F7: szt | G7: 527 | I7: =$I$2 -> 0 | J7: =G7-G7*I7 -> 527
A8: 6. | B8: MTC10000206 | C8: MOD-40 | D8: MATEC | E8: Mata grzejna dwustronnie zasilana 150W/m2 TYP: MOD-40 | F8: szt | G8: 642 | I8: =$I$2 -> 0 | J8: =G8-G8*I8 -> 642
A9: 7. | B9: MTC10000207 | C9: MOD-50 | D9: MATEC | E9: Mata grzejna dwustronnie zasilana 150W/m2 TYP: MOD-50 | F9: szt | G9: 756 | I9: =$I$2 -> 0 | J9: =G9-G9*I9 -> 756
A10: 8. | B10: MTC10000208 | C10: MOJ-10 | D10: MATEC | E10: Mata grzejna jednostronnie zasilana 150W/m2 TYP: MOJ-10 | F10: szt | G10: 300 | I10: =$I$2 -> 0 | J10: =G10-G10*I10 -> 300
A11: 9. | B11: MTC10000209 | C11: MOJ-15 | D11: MATEC | E11: Mata grzejna jednostronnie zasilana 150W/m2 TYP: MOJ-15 | F11: szt | G11: 370 | I11: =$I$2 -> 0 | J11: =G11-G11*I11 -> 370
A12: 10. | B12: MTC10000210 | C12: MOJ-20 | D12: MATEC | E12: Mata grzejna jednostronnie zasilana 150W/m2 TYP: MOJ-20 | F12: szt | G12: 467 | I12: =$I$2 -> 0 | J12: =G12-G12*I12 -> 467
A13: 11. | B13: MTC10000211 | C13: MOJ-25 | D13: MATEC | E13: Mata grzejna jednostronnie zasilana 150W/m2 TYP: MOJ-25 | F13: szt | G13: 527 | I13: =$I$2 -> 0 | J13: =G13-G13*I13 -> 527
A14: 12. | B14: MTC10000212 | C14: MOJ-30 | D14: MATEC | E14: Mata grzejna jednostronnie zasilana 150W/m2 TYP: MOJ-30 | F14: szt | G14: 610 | I14: =$I$2 -> 0 | J14: =G14-G14*I14 -> 610
... A50: 48. | B50: MTC10000377 | C50: RTW-01 biały | D50: MATEC | E50: Regulator temperatury podtynkowy - programowalny, WI-FI TYP: RTW-01, biały | F50: szt | G50: 465 | I50: =$I$2 -> 0 | J50: =G50-G50*I50 -> 465
B51: MTC10000378 | C51: RTW-01 czarny | D51: MATEC | E51: Regulator temperatury podtynkowy - programowalny, WI-FI TYP: RTW-01, czarny | F51: szt | G51: 465 | I51: =$I$2 -> 0 | J51: =G51-G51*I51 -> 465
A52: 49. | B52: MTC10000402 | C52: RTS-01A | D52: MATEC | E52: Regulator temperatury natynkowy - manualny sonda 2m, RTS-01A | F52: szt | G52: 189 | I52: =$I$2 -> 0 | J52: =G52-G52*I52 -> 189
A53: 50. | B53: MTC10000289 | C53: RTD-02 biały | D53: MATEC | E53: Regulator temperatury podtynkowy - programowalny TYP: RTD-02; biały | F53: szt | G53: 300 | I53: =$I$2 -> 0 | J53: =G53-G53*I53 -> 300
A54: 51. | B54: MTC10000292 | C54: RTD-02 czarny | D54: MATEC | E54: Regulator temperatury podtynkowy - programowalny TYP: RTD-02; czarny | F54: szt | G54: 300 | I54: =$I$2 -> 0 | J54: =G54-G54*I54 -> 300
A55: 52. | B55: MTC10000287 | C55: RTD-01 | D55: MATEC | E55: Regulator temperatury podtynkowy - programowalny z kolorowym ekranem dotykowym RTD-01 | F55: szt | G55: 659 | I55: =$I$2 -> 0 | J55: =G55-G55*I55 -> 659
D56: MATEC 1 | E56: Elektryczne Systemy Antyoblodzeniowe | H56: Wpisz tu swój rabat
A57: 53. | B57: MTC10000254 | C57: EM-52489 | D57: MATEC 1 | E57: Regulator temperatury przeciwoblodzeniowy 1-strefowy TYP: EM524 89 | F57: szt | G57: 1232 | I57: =$I$56 -> 0 | J57: =G57-G57*I57 -> 1232
A58: 54. | B58: MTC10000253 | C58: EM-52490 | D58: MATEC 1 | E58: Regulator temperatury przeciwoblodzeniowy 2-strefowy TYP: EM524 90 | F58: szt | G58: 1520 | I58: =$I$56 -> 0 | J58: =G58-G58*I58 -> 1520
A59: 55. | B59: MTC10000255 | C59: ESD524 003 | D59: MATEC 1 | E59: Czujnik lodu i śniegu do rynien z przewodem o dł. 4m TYP: ESD524 003 | F59: szt | G59: 392 | I59: =$I$56 -> 0 | J59: =G59-G59*I59 -> 392
A60: 56. | B60: MTC10000256 | C60: TFD524 004 | D60: MATEC 1 | E60: Czujnik temperatury i powierzc hni do rynien (standardowy) dł. 4m TYP: TFD524 004 | F60: szt | G60: 120 | I60: =$I$56 -> 0 | J60: =G60-G60*I60 -> 120
A61: 57. | B61: MTC10000257 | C61: ESF524 001 | D61: MATEC 1 | E61: Czujnik lodu i śniegu na podja zdy z przewodem dł. 15m TYP: ESF524 001 | F61: szt | G61: 775 | I61: =$I$56 -> 0 | J61: =G61-G61*I61 -> 775
A62: 58. | B62: MTC10000258 | C62: TFF524 002 | D62: MATEC 1 | E62: Czujnik temperatury i wilgotno ści-okrągły na podjazdy z prze wodem dł. 15m TYP: TFF524 002 | F62: szt | G62: 750 | I62: =$I$56 -> 0 | J62: =G62-G62*I62 -> 750
A63: 59. | B63: MTC10000266 | C63: UTR-20 | D63: MATEC 1 | E63: Regulator temperat uniwersalny do montażu na ścianie TYP: UTR-20 | F63: szt | G63: 470 | I63: =$I$56 -> 0 | J63: =G63-G63*I63 -> 470
A64: 60. | B64: MTC10000267 | C64: F891000 | D64: MATEC 1 | E64: Czujnik temperatury do UTR-20 z przewodem dł. 4m TYP: F891000 | F64: szt | G64: 75 | I64: =$I$56 -> 0 | J64: =G64-G64*I64 -> 75
A65: 61. | B65: MTC10000268 | C65: KRS-01 | D65: MATEC 1 | E65: Klips do rur, opakowanie 25szt. TYP: KRS-01 | F65: kpl. | G65: 62 | I65: =$I$56 -> 0 | J65: =G65-G65*I65 -> 62
A66: 62. | B66: MTC10000269 | C66: LS-01 | D66: MATEC 1 | E66: Łańcuch do montażu elementów w rurach spustowych; Opk 10mb, 1m to 22 oczka. TYP: LS-01 | F66: szt | G66: 140 | I66: =$I$56 -> 0 | J66: =G66-G66*I66 -> 140
A67: 63. | B67: MTC10000270 | C67: ZW-01 | D67: MATEC 1 | E67: Zawiesie do łańcucha (pręt profilowany fi 5mm o dł. 290mm TYP: ZW-01 | F67: szt | G67: 18.5 | I67: =$I$56 -> 0 | J67: =G67-G67*I67 -> 18.5
A68: 64. | B68: MTC10000271 | C68: TMW-01 | D68: MATEC 1 | E68: Taśma montażowa wzmacniana włóknem szklanym - rolka 50m TYP: TMW-01 | F68: szt | G68: 21 | I68: =$I$56 -> 0 | J68: =G68-G68*I68 -> 21
... A110: 118. | B110: MTC10000371 | C110: GMPD-100/300 | D110: MATEC 1 | E110: Zestaw PG na podjazdy maty zew PG GMPD - 10,0m2 300W/m2 TYP: GMPD-100/300 | F110: szt | G110: 1320 | I110: =$I$56 -> 0 | J110: =G110-G110*I110 -> 1320

Sheet CET_opakowania
B3: Uwaga:
B4: Bębny kablowe Zamel są oznakowane i tylko takie podlegają poniższym zasadom.
B5: Inne opakowania nie będą rozpatrywane w zakresie ich zwrotu.
A7: 1. | B7: Bębny kablowe i jednorazowe szpule sprzedawane są Klientowi z chwilą wydania wyrobu znajdującego się na tym opakowaniu, wg obowiązującego cennika opakowań.
A8: 2. | B8: Na opakowania wystawione są faktury VAT, gdzie termin płatności pokrywa się z terminem dla produktu sprzedawanego razem tym opakowaniem.
A9: 3. | B9: W przypadku zwrotu opakowania (bębna drewnianego lub szpuli sklejkowej) przed upływem terminu płatności, Zamel ma obowiązek wystawić Fakturę korygującą na opakowanie z ceną jego pierwotnej sprzedaży. Ważne jest, aby zwracany bęben/szpula posiadał dokument WZ, z którym Klient powołuje się na numer faktury pierwotnej sprzedaży tego opakowania. Podstawową formą egzekwowania należności jest kompensata.
A10: 4. | B10: Zamel zobowiązany jest przyjąć zwrotnie bęben lub szpulę sklejkową od klienta po upływie terminu płatności z pierwotnej sprzedaży w nieprzekraczalnym terminie do 12 miesięcy od daty wystawienia faktury. Ważne jest, aby zwracany bęben/szpula posiadał dokument WZ, którym Klient powołuje się na numer faktury pierwotnej sprzedaży tego opakowania. Dokumentem potwierdzającym dokonanie zwrotu jest Faktura korygująca wystawiona przez Dostawcę - ZAMEL. Podstawową formą egzekwowania należności jest kompensata.
A11: 5. | B11: Zwrot opakowań (transport) dokonywany jest na koszt Klienta zwracającego opakowania.
A12: 6. | B12: Dopuszcza się dokonanie zwrotu transportem Dostawcy - ZAMEL tylko i wyłącznie wtedy, gdy opakowania zgromadzone są na jednej, pełnej palecie. Dla bębnów drewnianych minimalna ilość na palecie to 3szt. W przypadku szpul sklejkowych minimalna ilość na palecie wynosi 25szt. Jeśli opakowań jest więcej obowiązuje wielokrotność podanych ilości w zakresie osobno bębnów i osobno szpul.
A13: 7. | B13: Zwracane opakowania przyjmowane są dokumentem PZ. ZAMEL jako sprzedawca opakowania wystawia Fakturę korygującą do oryginalnej Faktury sprzedaży tego opakowania, na której numer zobowiązany jest powołać się Klient.
A14: 8. | B14: Zamel nie przyjmuje uszkodzonych opakowań.
A15: 9. | B15: Przy każdorazowym zwrocie przeprowadzane są oględziny opakowania, na podstawie których Zamel ma prawo obniżyć jego wartość lub nie wyrazić zgody na odkup.
B17: Zwroty bębnów przyjmowane są na adres:
B18: Zamel Sp. z o.o.
B19: Ul. Zielona 27
B20: 43-200 Pszczyna
B21: Magazyn CET
B23: aktualizacja od 1.02.2020
